BEGIN:VCALENDAR
VERSION:2.0
PRODID:-//THE BLACK LAB - ECPv6.6.4//NONSGML v1.0//EN
CALSCALE:GREGORIAN
METHOD:PUBLISH
X-WR-CALNAME:THE BLACK LAB
X-ORIGINAL-URL:https://theblacklab.fr
X-WR-CALDESC:évènements pour THE BLACK LAB
REFRESH-INTERVAL;VALUE=DURATION:PT1H
X-Robots-Tag:noindex
X-PUBLISHED-TTL:PT1H
BEGIN:VTIMEZONE
TZID:Europe/Paris
BEGIN:DAYLIGHT
TZOFFSETFROM:+0100
TZOFFSETTO:+0200
TZNAME:CEST
DTSTART:20230326T010000
END:DAYLIGHT
BEGIN:STANDARD
TZOFFSETFROM:+0200
TZOFFSETTO:+0100
TZNAME:CET
DTSTART:20231029T010000
END:STANDARD
END:VTIMEZONE
BEGIN:VEVENT
DTSTART;TZID=Europe/Paris:20230602T200000
DTEND;TZID=Europe/Paris:20230602T233000
DTSTAMP:20260426T013301
CREATED:20221114T111659Z
LAST-MODIFIED:20230420T155857Z
UID:4763-1685736000-1685748600@theblacklab.fr
SUMMARY:WARUM JOE
DESCRIPTION:+ REGLEMENT + MISTRESS BOMB H \n\n\n\n\n\n\n\n\n\n\n\n\n\nAh Bon? Productions & THE BLACK LABproudly present \n\n\n\n \n\n\n\nWARUM JOE – Post (synth) punk \n\n\n\nAvec 40 ans d’existence ininterrompue\, WARUM JOE affiche une carrière exemplaire\, atypique et intransigeante\, figurant dans le cercle restreint des plus anciens groupes de la scène punk françaiseencore en activité en 2023. Référence majeure pour de nombreux groupes de la mouvance post punk / synth punk actuelle (le groupe Frustration revendiquant une affiliation directe)\, le style musical deWJ est un mélange de textes cinglants en français et de punk rock minimaliste et saccadé avec prédominance de boîtes à rythmes\, guitares saturées et synthés stridents.Paradoxalement \, WJ est très peu connu du grand public et sa faible reconnaissance médiatique est aussi une posture assumée de la part du groupe qui s’est toujours tenu à distance de tout plan de carrière. L’ensemble de la discographie\, qui était difficilement trouvable aujourd’hui\, est en cours de réédition depuis 2021 By Courtesy via Smap Records. Nous sommes très fiers de les accueillir @ THE BLACK LAB et de rappeler leur importance au sein de la scène punk française \n\n\n\n\n\n\n\n\n\n \n\n\n\nRÈGLEMENT – Minimal punk \n\n\n\n“Bourrer sa peur sous le tapis pour ne pas voir le mur arriver.Se retrouver les 2 bras dans la merde et ne pas savoir nager.Tout remonte à la surface\, odeur de cri et bruit de sentiment.La vie a un prix. Aujourd’hui\, tu passes à la caisse. Règlement.” \n\n\n\nInspirée de Metal Urbain\, MKB\, Suicide\, Ich Bin ou encore Ho99o9\, la musique de Règlement est volontairement lourde\, moite et malsaine. Entêtante\, elle amène à la danse\, à la transe et on attend beaucoup de ce live. Si Warum Joe est une influence de Frustration\, Règlement voit leur sympathique bassiste dans ses rangs et c’est un plaisir d’accueillir de nouveau Pat D. @ THE BLACK LAB où il viendra accompagné de Nicolas D. présenter le premier album éponyme de Règlement sorti sur Viro Major en 2021. \n\n\n\n.https://reglement.bandcamp.com/album/r-glement \n\n\n\n_______________________________________ \n\n\n\nMISTRESS BOMB H – Expérience industrielle \n\n\n\nHélène Le Corre écoute la société et transforme ses sons pour en livrer une lecture critique. Elle sort son premier CD-concept solo\, Les 7 fenêtres de Mistress Bomb H en 2005\, où se mêlent collectage sonore\, guitare\, basse\, synthétiseurs\, piano désaccordé\, fréquences et voix. Suivront des albums et différents splits partagés avec Altar K ou encore Jessica 93\, ainsi que des collaborations avec JeanFerraille\, connu auparavant sous le nom d’Aphasia. Elle est guitariste du groupe Ex Fulgur et gère les parties noise et électroniques au sein du DPU\, collectif musical réuni autour du saxophoniste Daniel Pabœuf. Mistress Bomb H est un projet total\, à la fois signature musicale\, signature plastique à travers la gravure et la sérigraphie\, et enfin\, avatar incarné lors des concerts. Son nouvel album\, entièrement en français\, sortira en cassette conjointement sur les labels Kerviniou Recordz et Bruits de Fond au printemps 2023. \n\n\n\n\n\n\n\n\n\n\n\n\n\n\n\n\n\n\n\n\n\n\n\n\nACHETEZ VOS BILLETS
URL:https://theblacklab.fr/agenda/blaze-bayley/
CATEGORIES:ÉVÉNEMENT,SLIDER
ATTACH;FMTTYPE=image/png:https://theblacklab.fr/BL/wp-content/uploads/2022/11/WARUMJOE-slider.png
END:VEVENT
BEGIN:VEVENT
DTSTART;TZID=Europe/Paris:20230606T193000
DTEND;TZID=Europe/Paris:20230606T230000
DTSTAMP:20260426T013301
CREATED:20230526T131139Z
LAST-MODIFIED:20230606T072657Z
UID:5166-1686079800-1686092400@theblacklab.fr
SUMMARY:THE GOOD\, THE BAD & THE LOCAL
DESCRIPTION:Parce qu’on estime qu’il n’y a pas assez d’endroits où jouer. Parce que tout un chacun a le droit fondamental de pouvoir s’exprimer. Parce que participer à la vie culturelle de son territoire est essentiel. Parce que le Rock’n’Roll c’est la santé… \n\n\n\n“THE GOOD\, THE BAD & THE LOCAL” PRESENTS \n\n\n\nCONCRETE FEATHER + MANTRA
URL:https://theblacklab.fr/agenda/the-good-the-bad-the-local/
CATEGORIES:ÉVÉNEMENT
ATTACH;FMTTYPE=image/png:https://theblacklab.fr/BL/wp-content/uploads/2023/05/theGoodTheBad.png
END:VEVENT
BEGIN:VEVENT
DTSTART;TZID=Europe/Paris:20230608T200000
DTEND;TZID=Europe/Paris:20230608T233000
DTSTAMP:20260426T013301
CREATED:20230608T123926Z
LAST-MODIFIED:20230608T124037Z
UID:5178-1686254400-1686267000@theblacklab.fr
SUMMARY:Disorder Live : ITALIA 90 + VAAG
DESCRIPTION:— ITALIA 90 —https://italia-90.bandcamp.com/album/living-human-treasure \n\n\n\nBasé à Londres\, quatuor honorant avec fougue la mémoire de Mark E. Smith et Wire. Chez Italia 90\, point de tergiversations\, tout est âpre et révolté\, ‘politically pissed off’ \n\n\n\n— VAAG —Nouveau groupe belge de 4 gars qui ont une solide expérience dans le hardcore/punk.Le début de l’aventure est né de leur passion commune pour tout ce qui est postpunk 80’s\, new/no wave et pour le Wu Tang Clan. \n\n\n\nVoir moins \n\n\n\n\n\n\nTickets here
URL:https://theblacklab.fr/agenda/disorder-live-italia-90-vaag/
CATEGORIES:ÉVÉNEMENT,SLIDER
ATTACH;FMTTYPE=image/png:https://theblacklab.fr/BL/wp-content/uploads/2023/06/disorder-slider.png
END:VEVENT
BEGIN:VEVENT
DTSTART;TZID=Europe/Paris:20230610T183000
DTEND;TZID=Europe/Paris:20230610T233000
DTSTAMP:20260426T013301
CREATED:20230511T152238Z
LAST-MODIFIED:20230511T155839Z
UID:5141-1686421800-1686439800@theblacklab.fr
SUMMARY:AMAZING BAL SWING 4
DESCRIPTION:JLB PROD & THE BLACK LAB proudly present : \n\n\n\nTHE AMAZING BAL SWING 4 \n\n\n\nTHE BLACK LAB et JLB prod sont fiers et heureux de vous présenter la 4ème édition de l’AMAZING BAL SWING. Rendez vous le Samedi 10 juin à 18h30\, on se retrouve dans votre salle préférée pour une soirée pleine de soleil et de bonne humeur. Au programme ? de l’initiation au Swing (avec Marion de la Petite Fleur Qui Danse)\, de la musique (avec THE COALPORTERZ & SPARKLY SWING BAND)\, du bon snack et l’inimitable ambiance de THE BLACK LAB. Mais aussi de la démonstration de danse et un dress code années folles et prohibition fortement recommandé. \n\n\n\n\n\n\n\n\n\n\n\n\n\n\nACHETEZ VOS BILLETS
URL:https://theblacklab.fr/agenda/amazing-bal-swing-4/
CATEGORIES:ÉVÉNEMENT,SLIDER
ATTACH;FMTTYPE=image/png:https://theblacklab.fr/BL/wp-content/uploads/2023/05/slider-bal-swing.png
END:VEVENT
BEGIN:VEVENT
DTSTART;TZID=Europe/Paris:20230613T193000
DTEND;TZID=Europe/Paris:20230613T230000
DTSTAMP:20260426T013301
CREATED:20230526T144942Z
LAST-MODIFIED:20230607T124613Z
UID:5169-1686684600-1686697200@theblacklab.fr
SUMMARY:THE GOOD\, THE BAD & THE LOCAL
DESCRIPTION:Parce qu’on estime qu’il n’y a pas assez d’endroits où jouer. Parce que tout un chacun a le droit fondamental de pouvoir s’exprimer. Parce que participer à la vie culturelle de son territoire est essentiel. Parce que le Rock’n’Roll c’est la santé… \n\n\n\n“THE GOOD\, THE BAD & THE LOCAL” PRESENTS \n\n\n\nPATCHROCK + LES INNOMABLES
URL:https://theblacklab.fr/agenda/the-good-the-bad-the-local-2/
CATEGORIES:ÉVÉNEMENT
ATTACH;FMTTYPE=image/png:https://theblacklab.fr/BL/wp-content/uploads/2023/05/theGoodTheBad.png
END:VEVENT
BEGIN:VEVENT
DTSTART;TZID=Europe/Paris:20230615T200000
DTEND;TZID=Europe/Paris:20230615T233000
DTSTAMP:20260426T013301
CREATED:20230303T144537Z
LAST-MODIFIED:20230306T165102Z
UID:4960-1686859200-1686871800@theblacklab.fr
SUMMARY:VOIVOD
DESCRIPTION:+ S.U.P. \n\n\n\n\n\n\n\n\n\n\n\n\n\nEn accord avec Garmonbozia Inc.\, THE BLACK LAB proudly presents \n\n\n\nVOIVOD – Avant-garde metal legend (CAN) \n\n\n\nVOIVOD a défrayé la chronique dès les 1ers albums avec un son chirurgicale\, clinique et froid\, qui auguraient ce qui allait devenir le metal industriel quelques années plus tard. Précurseur\, il a su garder le cap contre vents et marées et rester le groupe légendaire qu’il est depuis quarante ans de carrière qu’ils viennent célébrer @ THE BLACK LAB. \n\n\n\nThe Morgoth Tales never end. \n\n\n\n\n\n\n\n\n\nS.U.P – Avant-garde metal legend too (FR) \n\n\n\nS.U.P est le projet parallèle de Supuration\, ou inversement. OVNI musical depuis ses débuts\, le groupe a traversé les trois dernières décennies avec aplomb\, imposant leur metal unique\, emprunt de gothique mais pas que. Un peu comme Voivod\, il est le seul à faire ce qu’il fait\, difficile de définir sa musique. L’inviter était logique\, et à l’approche de la sortie de son dernier album Octa\, une évidence. THE BLACK LAB est très fier de l’accueillir pour vous proposer celui qu’il considère comme l’un des meilleurs groupes français. \n\n\n\n\n\n\n\n\n\n\n\n\n\n\n\n\n\n\n\n\n\n\n\n25€ sur place / 13€ pour les – de 16 ans\, étudiants\, demandeurs d’emploi\, bénéficiaires des minimas sociaux / Gratuit pour les – de 13 ans \n\n\n\n\nACHETEZ VOS BILLETS
URL:https://theblacklab.fr/agenda/voivod/
CATEGORIES:ÉVÉNEMENT,SLIDER
ATTACH;FMTTYPE=image/png:https://theblacklab.fr/BL/wp-content/uploads/2023/03/voivod-slider-2.png
END:VEVENT
BEGIN:VEVENT
DTSTART;TZID=Europe/Paris:20230617T180000
DTEND;TZID=Europe/Paris:20230617T180000
DTSTAMP:20260426T013301
CREATED:20230511T145524Z
LAST-MODIFIED:20230607T124210Z
UID:5138-1687024800-1687024800@theblacklab.fr
SUMMARY:PROF IT ROLLS
DESCRIPTION:Prof it Roll ! Le premier festival de groupe de Rock-Pop de profs ! La pratique amateure dans toute sa splendeur. 6 groupes sur scène pour un live avant les examens ! \n\n\n\n\n\n\nBilletterie
URL:https://theblacklab.fr/agenda/prof-it-rolls/
CATEGORIES:ÉVÉNEMENT
ATTACH;FMTTYPE=image/png:https://theblacklab.fr/BL/wp-content/uploads/2023/05/prof-it-roll-slider.png
END:VEVENT
BEGIN:VEVENT
DTSTART;TZID=Europe/Paris:20230618T200000
DTEND;TZID=Europe/Paris:20230618T233000
DTSTAMP:20260426T013301
CREATED:20230507T162333Z
LAST-MODIFIED:20230507T162335Z
UID:5133-1687118400-1687131000@theblacklab.fr
SUMMARY:TERROR
DESCRIPTION:En accord avec OPUS LIVE\, A GAUCHE DE LA LUNE & THE BLACK LAB proudly present \n\n\n\nTERROR – Punk Hardcore (US) \n\n\n\nPilier de la scène depuis 20 ans\, Terror est LE groupe de hardcore de la côte ouest américaine. Déferlements de violence et riffs dévastateurs\, les californiens ne laissent personne indifférent. Immanquables\, les concerts de Terror sont faits d’énergie pure. \n\n\n\n\n\n\n\n\n\n \n\n\n\n\n\n\n\n\n\n\n\n\n\n\n\n\n\n\nACHETEZ VOS BILLETS
URL:https://theblacklab.fr/agenda/terror/
CATEGORIES:ÉVÉNEMENT,SLIDER
ATTACH;FMTTYPE=image/png:https://theblacklab.fr/BL/wp-content/uploads/2023/05/Plan-de-travail-1.png
END:VEVENT
BEGIN:VEVENT
DTSTART;TZID=Europe/Paris:20230620T200000
DTEND;TZID=Europe/Paris:20230620T233000
DTSTAMP:20260426T013301
CREATED:20230428T130401Z
LAST-MODIFIED:20230504T130034Z
UID:5107-1687291200-1687303800@theblacklab.fr
SUMMARY:HATEBREED + LIAR
DESCRIPTION:HARDCORE LEGEND NIGHT \n\n\n\n\n\n\n\n\n\n\n\n\n\nALCATRAZ FESTIVAL and THE BLACK LABproudly present \n\n\n\nALCATRAZ CLUB SHOW \n\n\n\n \n\n\n\nHATEBREED  \n\n\n\nHardcore metal (US) \n\n\n\nSur pied(s) depuis 1994\, malgré de multiples péripéties pas toujours des plus funs\, Hatebreed s’est imposé comme fer de lance du hardcore metal avec autant de fans inconditionnels du côté de la scène punk\, hardcore et metal. Ici\, on a (presque) ouvert THE BLACK LAB pour les accueillir un jour : bingo ! Après cette date\, rien ne sera plus pareil. \n\n\n\nLe mot d’ordre : Destroy Everything \n\n\n\n\n\n\n\n\n\nLIAR  \n\n\n\nH8000 (B) \n\n\n\nLadies and gentlemen\, as support act for Hatebreed\, we are very proud to announce LIAR\, groundbreakers/pioneers in the European metalcore scene\, or better defined as H8000 HARDCORE.Rien que ça. \n\n\n\n_______________________________________ \n\n\n\n\n\n\n\n\n\n\n\n\n\n\n\n\n\n\n\n\n\n\n\n\nACHETEZ VOS BILLETS
URL:https://theblacklab.fr/agenda/hatebreed-liar/
CATEGORIES:ÉVÉNEMENT,SLIDER
ATTACH;FMTTYPE=image/png:https://theblacklab.fr/BL/wp-content/uploads/2023/04/Hatebreed-slider-1.png
END:VEVENT
BEGIN:VEVENT
DTSTART;TZID=Europe/Paris:20230621T180000
DTEND;TZID=Europe/Paris:20230621T230000
DTSTAMP:20260426T013301
CREATED:20230609T122249Z
LAST-MODIFIED:20230609T122251Z
UID:5205-1687370400-1687388400@theblacklab.fr
SUMMARY:FETE DE LA MUSIQUE 2023
DESCRIPTION:Parce qu’on estime qu’il n’y a pas assez d’endroits où jouer. Parce que tout un chacun a le droit fondamental de pouvoir s’exprimer. Parce que participer à la vie culturelle de son territoire est essentiel. Parce que le Rock’n’Roll c’est la santé… \n\n\n\n“THE GOOD\, THE BAD & THE LOCAL” PRESENTSLa pratique amateur dans toute sa splendeurUne édition d’exception en ce mercredi 21 juin 2023 puisque qu’on vous (re)présente 6 groupes issus de nos studios de répétition qui vont tout donner pour célébrer dignement cette fête de la musique.Avec\, dans le désordre\, de 18h00 à minuit : \n\n\n\nGood snacking sur place \n\n\n\nDAMENT – NATIVES – MADJORA – BROTHERS IN PAIN – PRETTY BOY DEAD – MACHINE CULT
URL:https://theblacklab.fr/agenda/fete-de-la-musique-2023/
CATEGORIES:ÉVÉNEMENT
ATTACH;FMTTYPE=image/png:https://theblacklab.fr/BL/wp-content/uploads/2023/06/fdlm-slider-slider.png
END:VEVENT
BEGIN:VEVENT
DTSTART;TZID=Europe/Paris:20230628T200000
DTEND;TZID=Europe/Paris:20230628T233000
DTSTAMP:20260426T013301
CREATED:20230405T152742Z
LAST-MODIFIED:20230505T153044Z
UID:5071-1687982400-1687995000@theblacklab.fr
SUMMARY:SICK OF IT ALL + CANCER BATS + PROWL
DESCRIPTION:PUNK HARDCORE NIGHT \n\n\n\n\n\n\n\n\n\n\n\n\n\nVort n Vis + Genet Records aka IEPER HARDCORE FEST\,Taste of Mind & THE BLACK LABproudly present \n\n\n\nPARTNERSHIP \n\n\n\nOn doit vous avouer que nous avons fricoté avec les activistes de l’underground que sont les hardcoreux de Taste of Mind (Valenciennes around) et les respectful vétérans du mythique Ieper Hardcore Fest. Fruit de notre première collaboration\, un warm-up infernal pour vous préparer à affronter le festival qui aura lieu les 7\, 8 et 9 juillet prochain à Ypres\, alors go go go : https://ieperfest.com/ et venez venez venez le 28 juin @ THE BLACK LAB\, pas mal de surprises vous y attendront\, stay tuned. \n\n\n\nSICK OF IT ALL  \n\n\n\nNew York X Hard Core legend (US) \n\n\n\nComment dire ? On va se prendre une raclée phénoménale.Pour le reste\, si vous n’êtes pas au courant\, renseignez-vous et révisez vos pas de danses : \n\n\n\nSick Of It All – Step Down \n\n\n\n\n\n\n\n\n\nCANCER BATS – Hardcore punk (CAN) \n\n\n\nAu carrefour du hardcore\, du sludge et du rock sudiste\, il y un groupe canadien : Cancer Bats. Reconnu et hautement apprécié et respecté par la sphère undergound worldwide\, leurs concerts sont fameux\, à l’instar de leur hit “Hail Destroyer”\, explosifs et jouissifs. Un support de haute voltige pour une date qui s’annonce dantesque. \n\n\n\n\n\n\n\n\n\n_______________________________________ \n\n\n\nPROWL – Hardcore punk (CAN) \n\n\n\nProwl seront les thrashers de l’étape\, en mode hardcore crossover voix noyée dans une reverb abyssale. Valeurs montantes dans leur Québec natal\, ils viendront nous démontrer leur bonnes intentions en club avant leur passage au Ieper Fest cet été. \n\n\n\n\n\n\n\n\n\n\n\n\n\n\n\n\n\n\n\n\n\n\n\n\nACHETEZ VOS BILLETS
URL:https://theblacklab.fr/agenda/sick-of-it-all-guest/
CATEGORIES:ÉVÉNEMENT,SLIDER
ATTACH;FMTTYPE=image/jpeg:https://theblacklab.fr/BL/wp-content/uploads/2023/04/SLIDER-HOMEPAGE-TBL.jpg
END:VEVENT
END:VCALENDAR