BEGIN:VCALENDAR
VERSION:2.0
PRODID:-//THE BLACK LAB - ECPv6.6.4//NONSGML v1.0//EN
CALSCALE:GREGORIAN
METHOD:PUBLISH
X-ORIGINAL-URL:https://theblacklab.fr
X-WR-CALDESC:évènements pour THE BLACK LAB
REFRESH-INTERVAL;VALUE=DURATION:PT1H
X-Robots-Tag:noindex
X-PUBLISHED-TTL:PT1H
BEGIN:VTIMEZONE
TZID:Europe/Paris
BEGIN:DAYLIGHT
TZOFFSETFROM:+0100
TZOFFSETTO:+0200
TZNAME:CEST
DTSTART:20230326T010000
END:DAYLIGHT
BEGIN:STANDARD
TZOFFSETFROM:+0200
TZOFFSETTO:+0100
TZNAME:CET
DTSTART:20231029T010000
END:STANDARD
END:VTIMEZONE
BEGIN:VEVENT
DTSTART;TZID=Europe/Paris:20230705T200000
DTEND;TZID=Europe/Paris:20230705T233000
DTSTAMP:20260426T001430
CREATED:20230703T101035Z
LAST-MODIFIED:20230703T112609Z
UID:5259-1688587200-1688599800@theblacklab.fr
SUMMARY:FOREVER PAVOT
DESCRIPTION:Ah Bon? Productions et THE BLACK LAB proudly present \n\n\n\nFOREVER PAVOTForever Pavot est un télescopage entre musique de films avec Jean-Paul Belmondo\, rock progressif à la YES et chanson française expérimentale sans égale… Oui\, oui\, on aime beaucoup parce que ça vaut vraiment le coup. Unique dans le paysage musical français\, les compositions et les textes de Emile Sornin résonnent d’une modernité absolue malgré son ancrage dans l’ancien : de ses influences aux instruments qu’il utilise. C’est Born Bad Records qui suit le groupe depuis ses débuts et c’est le magnifique 3e album sorti le 3 février 2023 que viendra présenter Emile et ses comparses en mode FULL SET SUMMER : notre ONLY ONE BAND TONITE mais en été (dingue !). Dernier point : on les a vu plusieurs fois et en live\, ça défonce. Maintenant que vous avez les références et que vous savez que c’est bien\, venez. \n\n\n\n\n\n\n\n\n\n\n\n\n\n\n\n\nACHETEZ VOS BILLETS
URL:https://theblacklab.fr/agenda/forever-pavot-2/
CATEGORIES:ÉVÉNEMENT,SLIDER
ATTACH;FMTTYPE=image/png:https://theblacklab.fr/BL/wp-content/uploads/2023/05/FOREVER-PAVOT-slider.png
END:VEVENT
BEGIN:VEVENT
DTSTART;TZID=Europe/Paris:20230706T200000
DTEND;TZID=Europe/Paris:20230706T233000
DTSTAMP:20260426T001430
CREATED:20230525T141311Z
LAST-MODIFIED:20230703T101604Z
UID:5163-1688673600-1688686200@theblacklab.fr
SUMMARY:BLINDEST
DESCRIPTION: BLINDTEST ALERT Nouvelle date : jeudi 6 juillet 2023 \n\n\n\nQui est-ce qui est à la bourre ? C’est nous. C’est in extremis et avec un changement de jour pour tester votre fidélité\, qu’on vous annonce la tenue du prochain blidtest. \n\n\n\nBe there pour notre événement internationalement envié : le blindtest de DJ Tof. \n\n\n\nTHEMATIQUE : Night and Day.En 1e partie de soirée il fera encore jour\, par contre\, à la tombée de la nuit… il fera nuit. \n\n\n\nAttention\, toujours aussi intransigeant DJ Tof ne tolèrera aucune utilisation d’applications de reconnaissance de musique : votre téléphone mobile risquerait d’y perdre la vie ! Donc soyez braves : venez avec vos connaissances musicales et pas avec votre Shazam. \n\n\n\nAs usual : de nombreux lots à gagner. \n\n\n\n(Good) snacking sur place.Happy Hour de 17 à 19h.
URL:https://theblacklab.fr/agenda/blindest/
CATEGORIES:ÉVÉNEMENT
ATTACH;FMTTYPE=image/png:https://theblacklab.fr/BL/wp-content/uploads/2023/05/lider-tof.png
END:VEVENT
BEGIN:VEVENT
DTSTART;TZID=Europe/Paris:20230714T160000
DTEND;TZID=Europe/Paris:20230714T233000
DTSTAMP:20260426T001430
CREATED:20230628T143905Z
LAST-MODIFIED:20230628T143906Z
UID:5226-1689350400-1689377400@theblacklab.fr
SUMMARY:HARPIE HOUR - Drag Fest
DESCRIPTION:SHOW TIME! \n\n\n\nCe 14 juillet 2023\, La Harpie\, Drag Queen Lilloise\, et l’association ERREUR 404 vous invitent à découvrir HARPIE HOUR Drag Festival\, un évènement IN & OUTDOOR au Black Lab\, à 7 minutes en métro de la gare LILLE FLANDRES. \n\n\n\n AVE THE DATE  \n\n\n\n• Stands de créateur.ices : Tatoo-shop – Friperie – Nail Artist – Illustrateur.ices – Graphistes… Flannez le long de plusieurs stands in & outdoor et découvrez des créateur.ices et talents Queer  \n\n\n\n• Scène ouverte Drag Queen/King/Queer/Créature/Artiste Burlesque : Sur la scène extérieure\, venez rencontrer les nouveaux talents de la scène Drag & Queer Lilloise. Chaque artiste proposera une performance et sera départagé par un jury. Un.e gagnant.e sera élu.e et repartira avec un joli cadeau!  \n\n\n\n• Viewing party de l’épisode 3 de Drag Race France saison 2 : Visionnage de l’épisode de Drag Race France sur le grand écran intérieur du Black Lab\, en compagnie de SARA FOREVER\, candidate de la saison.  \n\n\n\n• DRAG SHOW : Assistez au Drag Show principal de la journée avec des performances de SARA FOREVER\, SAINT EUGENE\, STARGIRL\, KARMIA\, BRIGITTE PINTADE et LA HARPIE.  \n\n\n\n• DJ set : Quand la soirée bat son plein\, on se retrouve pour taper du pied sur le DJ set endiablé de LEO VON ZBEUL !!  \n\n\n\n• Food & Drinks : Le Black Lab met les bouchées doubles pour Harpie Hour : un espace Bar + Barbecue // Snacking en extérieur. Ambiance guinguette garantie  \n\n\n\n \n\n\n\n \n\n\n\n\n\n\n\n\n\n\n\n\n\n\n\n\n\n\nACHETEZ VOS BILLETS\n\n\n\n\nPour toute revente de tickets merci d’utiliser la plateforme sécurisée de notre partenaire Ticketswap :https://www.ticketswap.fr/organizer/the-black-lab/1e321ecc-26b2-407d-beec-5e622438db8e
URL:https://theblacklab.fr/agenda/harpie-hour-drag-fest/
CATEGORIES:ÉVÉNEMENT,SLIDER
ATTACH;FMTTYPE=image/png:https://theblacklab.fr/BL/wp-content/uploads/2023/06/dragshow-slider.png
END:VEVENT
BEGIN:VEVENT
DTSTART;TZID=Europe/Paris:20230722T200000
DTEND;TZID=Europe/Paris:20230722T233000
DTSTAMP:20260426T001430
CREATED:20230609T115015Z
LAST-MODIFIED:20230628T140247Z
UID:5197-1690056000-1690068600@theblacklab.fr
SUMMARY:NASHVILLE PUSSY + ADAM BOMB
DESCRIPTION:Cerbère Coryphée\, Hair Dynazty & THE BLACK LABproudly present \n\n\n\nNASHVILLE PUSSY– Musique régressive et jouissive (US) \n\n\n\nLemmy de Motörhead a personnellement béni Nashville Pussy en les qualifiant de dernier grand groupe de rock’n’roll américain. Duff de Guns n’Roses a surenchéri en jurant qu’ils avaient sauvé le genre… Il est vrai que leur boogie rockailleux résulte d’une rencontre improbable entre un marchand de glace hillbilly et un modèle nu prodige de la guitare et que ça sonne d’enfer. Bêtes de scène\, leurs concerts sont explosifs et c’est avec la promesse d’un show chaud bouillant qu’on vous convie le samedi 22 juillet 2023 pour une fête en mode FULL SET SUMMER\, notre ONLY ONE BAND TONITE estival. Habillez-vous légers\, on s’occupe des serpillères. \n\n\n\n“If there’s been a better band than Nashville Pussy to open for Motörhead\, I’ve never heard them”– Lemmy \n\n\n\n\n\n\n\n\n\n \n\n\n\nADAM BOMB – Glam Rock Hero (US) \n\n\n\nAdam Bomb est un guitariste chanteur américain qui a joué avec des artistes tel que : Cliff Williams (AC/DC)\, John Paul Jones (Led Zeppelin)\, Johnny Thunders… C’est Edward Van Halen qui lui a donné une de ses premières leçons de guitare\, il a auditionné pour Kiss\, partagé un appartement à Hollywood avec Izzy Stradlin\, a remplacé Yngwie Malmsteen\, enregistré avec Chuck Ruff de Montrose et Cliff Williams d’AC/DC avant de monter son propre groupe\, The Adam Bomb Band. Il s’est depuis produit dans le monde entier autant en solo qu’avec différents groupes ou artistes tels que Chuck Berry\, Johnny Thunders et le guitariste de Billy Idol\, Steve Stevens… Son premier album « Fatal Attraction » est paru en 1985 et plus de 10 albums par la suite\, il se produit @ THE BLACK LAB\, thanks to Hair Dynazty. \n\n\n\n\n\n\n\n\n\n\n\n\n\n\n\n\n\n\n\n\n\n\n\n>> Tarif plein 20€ en prévente / 25€ sur place>>Tarif réduit (sur présentation d’un justificatif au contrôle d’accès)13€ pour les moins de 16 ans\, étudiants\, demandeurs d’emploi\, bénéficiaires des minima sociaux>>Gratuit pour les moins de 13 ans \n\n\n\n\nACHETEZ VOS BILLETS\n\n\n\n\nPour toute revente de tickets merci d’utiliser la plateforme sécurisée de notre partenaire Ticketswap :https://www.ticketswap.fr/organizer/the-black-lab/1e321ecc-26b2-407d-beec-5e622438db8e
URL:https://theblacklab.fr/agenda/nashville-pussy/
CATEGORIES:ÉVÉNEMENT,SLIDER
ATTACH;FMTTYPE=image/png:https://theblacklab.fr/BL/wp-content/uploads/2023/06/NASHVILLE-PUSSY-slider-1.png
END:VEVENT
END:VCALENDAR