BEGIN:VCALENDAR
VERSION:2.0
PRODID:-//THE BLACK LAB - ECPv6.6.4//NONSGML v1.0//EN
CALSCALE:GREGORIAN
METHOD:PUBLISH
X-WR-CALNAME:THE BLACK LAB
X-ORIGINAL-URL:https://theblacklab.fr
X-WR-CALDESC:évènements pour THE BLACK LAB
REFRESH-INTERVAL;VALUE=DURATION:PT1H
X-Robots-Tag:noindex
X-PUBLISHED-TTL:PT1H
BEGIN:VTIMEZONE
TZID:Europe/Paris
BEGIN:DAYLIGHT
TZOFFSETFROM:+0100
TZOFFSETTO:+0200
TZNAME:CEST
DTSTART:20230326T010000
END:DAYLIGHT
BEGIN:STANDARD
TZOFFSETFROM:+0200
TZOFFSETTO:+0100
TZNAME:CET
DTSTART:20231029T010000
END:STANDARD
END:VTIMEZONE
BEGIN:VEVENT
DTSTART;TZID=Europe/Paris:20231102T200000
DTEND;TZID=Europe/Paris:20231102T233000
DTSTAMP:20260425T181154
CREATED:20230721T110746Z
LAST-MODIFIED:20230721T120018Z
UID:5296-1698955200-1698967800@theblacklab.fr
SUMMARY:THE RUMJACKS
DESCRIPTION:+ GUEST \n\n\n\n\n\n\n\n\n\n\n\n\n\nTHE BLACK LAB proudly presents \n\n\n\nTHE RUMJACKS – Punk celtique (AUS) \n\n\n\nC’est avec un nouveau chanteur\, un nouvel album et de nouvelles chaussures que The Rumjacks comptent fouler l’Europe cet automne. Leur punk celte The Pogues related sauce australienne fait mouche. Leur récente tournée avec Dropkick Murphys a prouvé à la Terre entière que leurs concerts sont furieux\, ultra festifs (dans le bon sens du terme) et à l’énergie contagieuse. On peut clairement annoncer que ça va être la fête\, comme une Saint-Patrick avant l’heure. PS : kilts autorisés. \n\n\n\n \n\n\n\n\n\n\n\n\n\n\n\n\n\n\n\n\n\n\n\n\n\n\n\n\nACHETEZ VOS BILLETS
URL:https://theblacklab.fr/agenda/the-rumjacks/
CATEGORIES:ÉVÉNEMENT,SLIDER
ATTACH;FMTTYPE=image/png:https://theblacklab.fr/BL/wp-content/uploads/2023/07/THERUMJACKS-slider.png
END:VEVENT
BEGIN:VEVENT
DTSTART;TZID=Europe/Paris:20231104T200000
DTEND;TZID=Europe/Paris:20231104T233000
DTSTAMP:20260425T181154
CREATED:20230629T140906Z
LAST-MODIFIED:20231031T113518Z
UID:5249-1699128000-1699140600@theblacklab.fr
SUMMARY:SHAÂRGHOT + CARBON KILLER
DESCRIPTION:THE BLACK LAB\, A Gauge De La Lune & Base Productions proudly present \n\n\n\n𝗦𝗛𝗔𝗔𝗥𝗚𝗛𝗢𝗧Sorti tout droit d’un univers dystopique où se mêlent le Cyberpunk et le Post-Apocalyptique\, le Shaârghot\, créature délirante fruit d’une expérience ratée\, sème le chaos dans la cité du Great Eye.Plus qu’un groupe de musique\, Shaârghot est avant tout une histoire et un concept qui prend vie au travers de leurs concerts. \n\n\n\n\nhttps://youtu.be/p3l8A_i_pK0\n\n\n\n\n𝗖𝗔𝗥𝗕𝗢𝗡 𝗞𝗜𝗟𝗟𝗘𝗥Carbon Killer est un producteur de musique électronique français mêlant synthwave\, dark techno et métal dans un show à l’ambiance sombre et cyberpunk. Derrière son masque sans visage\, il déchaîne son public extrêmement éclectique au travers d’une scénographie léchée et froide qui saura faire vibrer tous les adeptes de Blade Runner ou Ghost in the Shell. \n\n\n\n\nhttps://youtu.be/xbN4W_s0FOg\n\n\n\n\n  \n\n\n\n  \n\n\n\n \n\n\n\n\n\n \n\n\n\n\n\n\nACHETEZ VOS BILLETS\n\n\n\n\nPour toute revente de tickets merci d’utiliser la plateforme sécurisée de notre partenaire Ticketswap :https://www.ticketswap.fr/organizer/the-black-lab/1e321ecc-26b2-407d-beec-5e622438db8e \n\n\n\n \n\n\n\n\n\n\n\n 
URL:https://theblacklab.fr/agenda/shaarghot-punish-yourself-carbon-killer/
CATEGORIES:ÉVÉNEMENT,SLIDER
ATTACH;FMTTYPE=image/png:https://theblacklab.fr/BL/wp-content/uploads/2023/06/punish-yourself-slider-1-1.png
END:VEVENT
BEGIN:VEVENT
DTSTART;TZID=Europe/Paris:20231105T200000
DTEND;TZID=Europe/Paris:20231105T233000
DTSTAMP:20260425T181154
CREATED:20230314T114658Z
LAST-MODIFIED:20230320T113222Z
UID:5001-1699214400-1699227000@theblacklab.fr
SUMMARY:ELDER
DESCRIPTION:+ SLOMOSA \n\n\n\n\n\n\n\n\n\n\n\n\n\nCerbère Coryphée\, en collaboration avec The Black Lab\, avec l’accord de VEDETTES vous présentent: \n\n\n\nElder + Slomosa \n\n\n\nELDER (USA\, Masters of Heavy Psychedelic Rock\, Stickman Records) \n\n\n\nEst-ce qu’on a vraiment besoin de présenter Elder? Depuis Dead Roots Stirring\, Elder n’a pas arrêté de sortir des pépites : la maitrise des riffs est cosmique. Mélange parfait de Rock Progressif\, de Heavy Psych et de Stoner\, Elder a su s’imposer comme la pierre angulaire de la scène grace à des compositions toujours plus efficaces et une inventivité débordante. Maintenant basé en Allemagne\, le groupe ne cesse de se réinventer tout en gardant sa patte unique. \n\n\n\nFacebook: https://www.facebook.com/elderofficial/Bandcamp: https://beholdtheelder.bandcamp.com/Instagram: https://www.instagram.com/elderband/?hl=en \n\n\n\n \n\n\n\nSLOMOSA (NO\, Desert Rock\, Apollon Records) \n\n\n\nGuitare fuzz croustillante\, mélodies entêtantes\, groove indécent\, Slomosa vient de Bergen\, en Norvége. Pas le pays le plus représentatif du ‘Desert Rock’\, et pourtant! Digne représentant de la scène Stoner Rock\, le groupe a su briller l’année dernière au Hellfest avec un show ultra efficace\, on les retrouvera au Black Lab en ouverture. \n\n\n\nFacebook: https://www.facebook.com/slomosabandBandcamp: https://slomosa1.bandcamp.com/album/slomosaInstagram: https://www.instagram.com/slomosa/?hl=fr \n\n\n\n\n\n\n\n\n\n\n\n\n\n\n\n\n\n\nACHETEZ VOS BILLETS
URL:https://theblacklab.fr/agenda/elder/
CATEGORIES:ÉVÉNEMENT,SLIDER
ATTACH;FMTTYPE=image/png:https://theblacklab.fr/BL/wp-content/uploads/2023/03/Elder-slider-1.png
END:VEVENT
BEGIN:VEVENT
DTSTART;TZID=Europe/Paris:20231116T190000
DTEND;TZID=Europe/Paris:20231116T233000
DTSTAMP:20260425T181154
CREATED:20230531T145406Z
LAST-MODIFIED:20231102T194404Z
UID:5172-1700161200-1700177400@theblacklab.fr
SUMMARY://SOLD OUT// NAPALM DEATH + CHIEN + PUTRID OFFAL + FALSE
DESCRIPTION:A Gauche De la Lune\, We’re Not Worthy & THE BLACK LABproudly present \n\n\n\nNAPALM DEATH – Grindcore legend (UK) \n\n\n\nConsidéré comme le pionnier du genre\, Napalm Death est LE groupe de grindcore auquel on se réfère quand on veut parler de grindcore. Les nombreuses évolutions de line-up tout au long de la carrière du groupe n’ont jamais atteint leur réputation et le respect international qu’il inspire auprès de toutes les communautés musicales extrêmes : metal\, hardcore\, punk\, crust\, thrash etc. Chaque album vaut son pesant d’or et chaque live est une performance incroyable dont on ne sort jamais indemne\, au sens propre comme au figuré. La plupart du temps on en redemande\, on connaît d’ailleurs des personnes qui les ont vus 73 fois… De notre côté\, c’est la larme à l’œil (et avec l’oreille qui saigne) que l’on annonce fièrement mais alors très fièrement leur venue @ THE BLACK LAB\, enfin ! \n \n\n\n\n  \n\n\n\n+ ESCUELA GRIND – grind à l’écolehttps://escuelagrind.bandcamp.com/ \n+ CHIENS – grind aux abois \nhttps://chiensgrind.bandcamp.com/ \n+ PUTRID OFFAL – death avec les tripeshttps://putridoffal.bandcamp.com/ \n+ FALSE – hardcore pour de vraihttps://falserawhardcore.bandcamp.com/ \n\n\n\n \n\n\n\n\n\n \n\n\n\n\n\n\n \n\n\n\n\nPour toute revente de tickets merci d’utiliser la plateforme sécurisée de notre partenaire Ticketswap :https://www.ticketswap.fr/organizer/the-black-lab/1e321ecc-26b2-407d-beec-5e622438db8e \n\n\n\n \n\n\n\n\n\n\n\n 
URL:https://theblacklab.fr/agenda/napalm-death/
CATEGORIES:ÉVÉNEMENT,SLIDER
ATTACH;FMTTYPE=image/png:https://theblacklab.fr/BL/wp-content/uploads/2023/05/NAPALM-DEATH-slider-4.png
END:VEVENT
BEGIN:VEVENT
DTSTART;TZID=Europe/Paris:20231117T200000
DTEND;TZID=Europe/Paris:20231117T233000
DTSTAMP:20260425T181154
CREATED:20231114T092334Z
LAST-MODIFIED:20231114T092658Z
UID:5523-1700251200-1700263800@theblacklab.fr
SUMMARY:NOVELISTS + ASHEN
DESCRIPTION:  \n\n\n\nA Gauche De La Lune Productions proudly presents\nNOVELISTS + ASHEN\n\n\n\n\n\nGroupe de rock/metal\, fondé à Paris en 2021\, ASHEN devient rapidement un outil cathartique\, poussant à développer une identité plurielle et introspective. Le passé\, les traumas et les peurs que le monde moderne provoque chez les membres du groupe sont l’essence de leur créativité. Leur musique se constitue de sonorités déchirantes et sombres\, qui illustrent les souffrances du passé et les peurs du futur\, façonnant les personnalités de chacun. La volonté d’ASHEN est de traiter en profondeur l’expression de sentiments intenses et intimes et d’arriver à faire se rejoindre des pôles émotionnels opposés.\n\n\n \n \n\n\n\n \n\n\n\n\n\n24\,80€ (en prévente)\n\n\n\n\n\n\nACHETEZ VOS BILLETS\n\n\n\n\nPour toute revente de tickets merci d’utiliser la plateforme sécurisée de notre partenaire Ticketswap : https://www.ticketswap.fr/organizer/the-black-lab/1e321ecc-26b2-407d-beec-5e622438db8e \n\n\n\n \n\n\n\n\n\n\n\n 
URL:https://theblacklab.fr/agenda/novelists-ashen/
CATEGORIES:ÉVÉNEMENT,SLIDER
ATTACH;FMTTYPE=image/png:https://theblacklab.fr/BL/wp-content/uploads/2023/11/novelists-slider-2.png
END:VEVENT
BEGIN:VEVENT
DTSTART;TZID=Europe/Paris:20231125T200000
DTEND;TZID=Europe/Paris:20231125T233000
DTSTAMP:20260425T181154
CREATED:20230628T150621Z
LAST-MODIFIED:20230628T150623Z
UID:5230-1700942400-1700955000@theblacklab.fr
SUMMARY:SKYND
DESCRIPTION:THE BLACK LAB \, A Gauche De La Lune & LIVE NATION proudly present \n\n\n\nSKYND – Rock Industriel  \n\n\n\nSKYNDFormé en 2018\, SKYND est un groupe de rock industriel connu pour leur esthétique musicale saisissante et leurs paroles controversées qui s’inspirent d’histoires troublantes liées à des événements tragiques. \n\n\n\nComposé de la chanteuse SKYND et du producteur/multi-instrumentaliste Father\, le duo explore la psyché humaine et ses côtés les plus sombres. Ils ont tous les deux attiré l’attention du public dès leur premier single\, « Gary Heidnik »\, sorti en 2018. SKYND a alors enchaîné avec d’autres morceaux tout aussi captivants tels que « Elisa Lam »\, « Tyler Hadley » ou encore « Katherine Knight » \n\n\n\nGrâce à leur fusion novatrice de différents genres musicaux\, une narration intense et des performances scéniques captivantes\, leur art a attiré l’attention de fans à travers le monde entier. \n\n\n\n\n\n\n\n\n\n \n\n\n\n \n\n\n\n\n\n\n\n\n\n\n\n\n\n\n\n\n\n\nACHETEZ VOS BILLETS
URL:https://theblacklab.fr/agenda/skynd/
CATEGORIES:ÉVÉNEMENT,SLIDER
ATTACH;FMTTYPE=image/png:https://theblacklab.fr/BL/wp-content/uploads/2023/06/skynd-slider.png
END:VEVENT
END:VCALENDAR