BEGIN:VCALENDAR
VERSION:2.0
PRODID:-//THE BLACK LAB - ECPv6.6.4//NONSGML v1.0//EN
CALSCALE:GREGORIAN
METHOD:PUBLISH
X-ORIGINAL-URL:https://theblacklab.fr
X-WR-CALDESC:évènements pour THE BLACK LAB
REFRESH-INTERVAL;VALUE=DURATION:PT1H
X-Robots-Tag:noindex
X-PUBLISHED-TTL:PT1H
BEGIN:VTIMEZONE
TZID:Europe/Paris
BEGIN:DAYLIGHT
TZOFFSETFROM:+0100
TZOFFSETTO:+0200
TZNAME:CEST
DTSTART:20240331T010000
END:DAYLIGHT
BEGIN:STANDARD
TZOFFSETFROM:+0200
TZOFFSETTO:+0100
TZNAME:CET
DTSTART:20241027T010000
END:STANDARD
END:VTIMEZONE
BEGIN:VEVENT
DTSTART;TZID=Europe/Paris:20240601T200000
DTEND;TZID=Europe/Paris:20240601T233000
DTSTAMP:20260421T053150
CREATED:20240524T123735Z
LAST-MODIFIED:20240524T124307Z
UID:5991-1717272000-1717284600@theblacklab.fr
SUMMARY:THE LUCKY DEVILS + LORD FOSTER
DESCRIPTION:Venez fêter les 25 ans des Lucky Devils et la sortie de leur 8ème album ! Le CD et le LP seront disponibles sur place ! Notre poteau Fred Beltran (qui a dessiné la magifique pochette!) sera là avec son groupe Lord Fester et DJ Schnaps alias Ricky Siffredo va enflammer le Black Lab avec son set de malade jusqu’au point du jour !  \n\n\n\n\n\n\n\n\n\n\n\n\n\n\n\n\n\n\nRéservation –> theschnaps@gmail.com
URL:https://theblacklab.fr/agenda/iamx-2/
CATEGORIES:ÉVÉNEMENT
ATTACH;FMTTYPE=image/png:https://theblacklab.fr/BL/wp-content/uploads/2024/05/lucky-devil-slider-1.png
END:VEVENT
BEGIN:VEVENT
DTSTART;TZID=Europe/Paris:20240604T200000
DTEND;TZID=Europe/Paris:20240604T233000
DTSTAMP:20260421T053150
CREATED:20231220T111846Z
LAST-MODIFIED:20231220T111846Z
UID:5575-1717531200-1717543800@theblacklab.fr
SUMMARY:BRUJERIA
DESCRIPTION:  \n\n\n\n\n\n\nWE’RE NOT WORTHY & THE BLACK LAB proudly \nBRUJERIA – Death grind (US) \nLa légende dit qu’une bande de barons de la drogue mexicains\, tous satanistes de surcroît\, ont décidé de monter un groupe à leur image\, sans concession\, pour instaurer la peur et la terreur sur leur territoire et au sein de leur cartel… 30 ans plus tard\, ils reviennent à la conquête du vieux monde investir le marché européen. Pour fans de Terrorizer\, Napalm Death\, Brutal Truth… Ultra rare\, ne manquait pas la venue de la sorcière à l’occasion de la sortie de son dernier album Esto Es Brujeria paru en septembre chez Nuclear Blast Records. Bruja encabronada et venez foulard sur le nez. \n\n\n\n\n \n\n \n\n\n\n \n\n\n\n\n\n23€ (en prévente) / 28€ sur place / 14€ tarifs réduits  / Gratuit pour les – de 13 ans\n\n\n\n\n\n\nACHETEZ VOS BILLETS\n\n\n\n\nPour toute revente de tickets merci d’utiliser la plateforme sécurisée de notre partenaire Ticketswap : https://www.ticketswap.fr/organizer/the-black-lab/1e321ecc-26b2-407d-beec-5e622438db8e \n\n\n\n \n\n\n\n\n\n\n\n 
URL:https://theblacklab.fr/agenda/brujeria/
CATEGORIES:ÉVÉNEMENT,SLIDER
ATTACH;FMTTYPE=image/png:https://theblacklab.fr/BL/wp-content/uploads/2023/12/BRUJERIA-slider.png
END:VEVENT
BEGIN:VEVENT
DTSTART;TZID=Europe/Paris:20240608T193000
DTEND;TZID=Europe/Paris:20240608T233000
DTSTAMP:20260421T053150
CREATED:20240412T080941Z
LAST-MODIFIED:20240412T080943Z
UID:5896-1717875000-1717889400@theblacklab.fr
SUMMARY:WHEATUS
DESCRIPTION:Ether Agency & THE BLACK LAB proudly present \n\n\n\nWheatus\, groupe de pop rock américain fondé en 1998. Il est originaire de Northport\, sur l’île de Long Island. Au début des années 2000\, il s’est notamment fait connaître en classant deux gros tubes dans les pays anglophones : Teenage Dirtbag en 2000\, puis A Little respect en 2001. \n\n\n\nIls reviennent en Europe pour quelques dates et s’arrêteront @ THE BLACK LAB pour une date unique en France ! \n\n\n\n \n\n\n\n\n\n\n\n\n\n\n\n\n\n\n\n\n\n\n\n\n\n\n\n\n\n\n\n\n\n\nACHETEZ VOS BILLETS\n\n\n\n\nPour toute revente de tickets merci d’utiliser la plateforme sécurisée de notre partenaire Ticketswap :https://www.ticketswap.fr/organizer/the-black-lab/1e321ecc-26b2-407d-beec-5e622438db8e
URL:https://theblacklab.fr/agenda/wheatus/
CATEGORIES:ÉVÉNEMENT,SLIDER
ATTACH;FMTTYPE=image/png:https://theblacklab.fr/BL/wp-content/uploads/2024/04/Wheatus-slider.png
END:VEVENT
BEGIN:VEVENT
DTSTART;TZID=Europe/Paris:20240611T193000
DTEND;TZID=Europe/Paris:20240611T233000
DTSTAMP:20260421T053150
CREATED:20240505T182927Z
LAST-MODIFIED:20240505T182940Z
UID:5978-1718134200-1718148600@theblacklab.fr
SUMMARY:THE GOOD\, THE BAD & THE LOCAL : Concrete Feather + Zone 21
DESCRIPTION:The Good\, the Bad and the Local accueille de nouveau Concrete Feather et ZoneX21 au Black Lab de Wasquehal le 11 juin !!  \n\n\n\nSoyez au rendez-vous pour une bonne soirée Rock n’ Roll \n\n\n\n \n\n\n\n\n\n\n\n\n\n\n\n \n\n\n\n\nVoir l’event Facebook\n\n\n\n\n\n\n\n\n\nEntrée gratuite toute la soirée !
URL:https://theblacklab.fr/agenda/the-good-the-bad-the-local-concrete-feather/
CATEGORIES:ÉVÉNEMENT
ATTACH;FMTTYPE=image/png:https://theblacklab.fr/BL/wp-content/uploads/2024/02/GOODBADLOCAL-slider.png
END:VEVENT
BEGIN:VEVENT
DTSTART;TZID=Europe/Paris:20240613T200000
DTEND;TZID=Europe/Paris:20240613T233000
DTSTAMP:20260421T053150
CREATED:20240312T115252Z
LAST-MODIFIED:20240315T075126Z
UID:5837-1718308800-1718321400@theblacklab.fr
SUMMARY:DESCENDENTS
DESCRIPTION:THE BLACK LAB proudly presents : \n\n\n\nThe legendary skate punk rock monsters : \n\n\n\nDESCENDENTS (usa)Tout est dit ! \n\n\n\n\n\n\n\n\n\n\n\n\n\n\n\n\n\n\n\n\n\n\n\n\n\n\n\n\n\n\nACHETEZ VOS BILLETS\n\n\n\n\nPour toute revente de tickets merci d’utiliser la plateforme sécurisée de notre partenaire Ticketswap :https://www.ticketswap.fr/organizer/the-black-lab/1e321ecc-26b2-407d-beec-5e622438db8e
URL:https://theblacklab.fr/agenda/descendents/
CATEGORIES:ÉVÉNEMENT,SLIDER
ATTACH;FMTTYPE=image/png:https://theblacklab.fr/BL/wp-content/uploads/2024/03/DESCENDENTS-slider.png
END:VEVENT
BEGIN:VEVENT
DTSTART;TZID=Europe/Paris:20240614T193000
DTEND;TZID=Europe/Paris:20240614T233000
DTSTAMP:20260421T053150
CREATED:20240412T082710Z
LAST-MODIFIED:20240412T082931Z
UID:5900-1718393400-1718407800@theblacklab.fr
SUMMARY:CONCERT ROCK AU PROFIT DE L'INSTITUT CURIE
DESCRIPTION:Rock 4 Life & THE BLACK LAB proudly present \n\n\n\nCharles se bat contre 1 cancer primitif inconnu depuis janvier 2023. C’est un cancer rare\, dont on ne connaît pas “le foyer initial”. Cela concerne 2% des cancers en France\, aucun industriel de santé ne finance la recherche. Les dons sont donc essentiels ! Nous organisons en présence de l ‘équipe de recherche de l’ institut Curie qui travaille sur ces cancers primitifs inconnus\, un concert Rock où l ‘intégralité de la billetterie leur sera reversée. Alors\, plus on sera\, mieux ca sera ! Venez nombreux\, accompagnés\, nous vous garantirons une bonne soiree musicale avec des groupes de qualité \, sous le signe de la solidarité\, de l’ amitié et de la combativité ! En attendant la billetterie en ligne\, bloquez cette date et partagez cette page en vous abonnant !!  \n\n\n\n\n\n\n\n\n\n\n\n\nBILLETS DISPONIBLE ULTÉRIEUREMENT \n\n\n\n\n\n\n\n\n\nACHETEZ VOS BILLETS\n\n\n\n\nPour toute revente de tickets merci d’utiliser la plateforme sécurisée de notre partenaire Ticketswap :https://www.ticketswap.fr/organizer/the-black-lab/1e321ecc-26b2-407d-beec-5e622438db8e
URL:https://theblacklab.fr/agenda/concert-rock-au-profit-de-linstitut-curie/
CATEGORIES:ÉVÉNEMENT,SLIDER
ATTACH;FMTTYPE=image/png:https://theblacklab.fr/BL/wp-content/uploads/2024/04/curie-slider.png
END:VEVENT
BEGIN:VEVENT
DTSTART;TZID=Europe/Paris:20240617T200000
DTEND;TZID=Europe/Paris:20240617T233000
DTSTAMP:20260421T053150
CREATED:20240412T084647Z
LAST-MODIFIED:20240412T084649Z
UID:5904-1718654400-1718667000@theblacklab.fr
SUMMARY:ATREYU
DESCRIPTION:A GAUCHE DE LA LUNE & THE BLACK LAB proudly present \n\n\n\nATREYU – (USA / METALCORE) \n\n\n\nAtreyu est un groupe au sens premier du terme : ce sont avant tout cinq amis qui créent de la musique pour eux-mêmes autant que pour leurs fans. Avec 20 ans de carrière et 8 albums acclamés par la critique\, le quintet Californien n’a plus rien à prouver. \n\n\n\n\n\n\n\n\n\n\n\n\n\n\n\n\n\n\n\n\n\n\n\n\n\n\n\n\n\n\n\n\n\n\n\n\nACHETEZ VOS BILLETS\n\n\n\n\nPour toute revente de tickets merci d’utiliser la plateforme sécurisée de notre partenaire Ticketswap :https://www.ticketswap.fr/organizer/the-black-lab/1e321ecc-26b2-407d-beec-5e622438db8e
URL:https://theblacklab.fr/agenda/atreyu/
CATEGORIES:ÉVÉNEMENT,SLIDER
ATTACH;FMTTYPE=image/png:https://theblacklab.fr/BL/wp-content/uploads/2024/04/Atreyu-slider.png
END:VEVENT
BEGIN:VEVENT
DTSTART;TZID=Europe/Paris:20240619T200000
DTEND;TZID=Europe/Paris:20240619T233000
DTSTAMP:20260421T053150
CREATED:20240322T154033Z
LAST-MODIFIED:20240322T154035Z
UID:5853-1718827200-1718839800@theblacklab.fr
SUMMARY:AYRON JONES
DESCRIPTION:« Explosive » est sans aucun doute le terme adéquat pour qualifier la musique d’Ayron Jones\, chanteur/guitariste originaire de Seattle\, la ville qui a vu naître Jimi Hendrix\, Nirvana\, Pearl Jam\, Soundgarden. \n\n\n\nSorti courant 2021\, son album Child of the State suinte le blues\, le grunge\, la soul. \n\n\n\nAyron Jones a fait grosse impression lors de son premier concert en Europe en novembre dernier\, et lors de sa tournée à travers toute la France. Solidays\, le Hellfest\, les Papillons de Nuit entre autres. \n\n\n\nLe guitariste prodige\, dont la réputation ne fait que croitre\, a assurer la première partie des Rolling Stones en juillet 2022 à l’Hippodrome Paris Longchamp\, et vient de clôturer une tournée de 10 dates en France en novembre.  \n\n\n\nLes critiques et le public sont unanimes\, une légende est en train de naitre … \n\n\n\n\n\n\n\n\n\n \n\n\n\n\n\n\n\n\n\n\n\n\n\n\n\n\n\n\n\n\n\n\n\n\nACHETEZ VOS BILLETS\n\n\n\n\nPour toute revente de tickets merci d’utiliser la plateforme sécurisée de notre partenaire Ticketswap :https://www.ticketswap.fr/organizer/the-black-lab/1e321ecc-26b2-407d-beec-5e622438db8e
URL:https://theblacklab.fr/agenda/ayron-jones-2/
CATEGORIES:ÉVÉNEMENT,SLIDER
ATTACH;FMTTYPE=image/png:https://theblacklab.fr/BL/wp-content/uploads/2024/03/AYRON-JONES-slider-1.png
END:VEVENT
BEGIN:VEVENT
DTSTART;TZID=Europe/Paris:20240620T200000
DTEND;TZID=Europe/Paris:20240620T233000
DTSTAMP:20260421T053150
CREATED:20240130T122005Z
LAST-MODIFIED:20240130T122007Z
UID:5705-1718913600-1718926200@theblacklab.fr
SUMMARY:HIGH ON FIRE
DESCRIPTION:A Gauche De La Lune & THE BLACK LAB proudly present \n\n\n\nHIGH ON FIRE – Heavy riffs since 1998 (US) \n\n\n\nQuand Sleep a splitté en 98\, Matt Pike a infusé son art de pionnier du stoner/doom dans les influences thrash de sa jeunesse pour un résultat unique\, alliant la crasse et la lourdeur de son premier groupe aux riffs de tueurs hérités de la Bay Area. Sept albums au compteur aujourd’hui pour HIGH ON FIRE\, sept pierres blanches dans l’histoire de la poisse musicale posées par un power trio primitif\, à la fois bourrin et inspiré. Avec “Luminiferous”\, le groupe perpétue le thrash super evil hérité de Slayer et le heavy rock ultra burné made in Lemmy\, HIGH ON FIRE continue son bonhomme de chemin et\, mine de rien\, aura imprimé en quelques disques son empreinte dans l’histoire du rock lourd et sale\, en insufflant une brutalité nouvelle au métal qui pèse. \n\n\n\n\n\n\n\n\n\n\n\n\n\n\n\n\n\n\n\n\n\n\n\n\n\n\n\n\n\n\nACHETEZ VOS BILLETS\n\n\n\n\nPour toute revente de tickets merci d’utiliser la plateforme sécurisée de notre partenaire Ticketswap :https://www.ticketswap.fr/organizer/the-black-lab/1e321ecc-26b2-407d-beec-5e622438db8e
URL:https://theblacklab.fr/agenda/high-on-fire/
CATEGORIES:ÉVÉNEMENT,SLIDER
ATTACH;FMTTYPE=image/png:https://theblacklab.fr/BL/wp-content/uploads/2024/01/HIGHONFIRE-slider.png
END:VEVENT
BEGIN:VEVENT
DTSTART;TZID=Europe/Paris:20240624T200000
DTEND;TZID=Europe/Paris:20240624T233000
DTSTAMP:20260421T053150
CREATED:20240412T085918Z
LAST-MODIFIED:20240412T090005Z
UID:5909-1719259200-1719271800@theblacklab.fr
SUMMARY:KARNIVOOL
DESCRIPTION:FIDELITY CORP & THE BLACK LAB proudly present \n\n\n\nKarnivool are pleased to announce a return to the UK and Europe in June 2024 as part of their TRI CONTINENTAL DRIFT TOUR.  \n\n\n\nKARNIVOOL’s last Europe tour (January and Februarys SOLD OUT rescheduled The Regeneration Tour) was the band’s first time in Europe since 2015\, when they were supporting the release of the band’s last studio album “Asymmetry” (2013). To have the band back in the UK a Europe so soon is wonderful news for all those ‘Vool fans out there… \n\n\n\nVocalist Ian Kenny says\, “We were blown away by the insane reception to the much delayed European tour dates in early 2023. When we were offered with the opportunity to come back we jumped at it. See you back out there people…” \n\n\n\n\n\n\n\n\n\n\n\n\n\n\n\n\n\n\n\n\n\n\n\n\n\n\n\n\n\n\nACHETEZ VOS BILLETS\n\n\n\n\nPour toute revente de tickets merci d’utiliser la plateforme sécurisée de notre partenaire Ticketswap :https://www.ticketswap.fr/organizer/the-black-lab/1e321ecc-26b2-407d-beec-5e622438db8e
URL:https://theblacklab.fr/agenda/karnivool/
CATEGORIES:ÉVÉNEMENT,SLIDER
ATTACH;FMTTYPE=image/png:https://theblacklab.fr/BL/wp-content/uploads/2024/04/KARNIVOOL-slider.png
END:VEVENT
BEGIN:VEVENT
DTSTART;TZID=Europe/Paris:20240625T183000
DTEND;TZID=Europe/Paris:20240625T233000
DTSTAMP:20260421T053150
CREATED:20240229T160042Z
LAST-MODIFIED:20240229T160044Z
UID:5809-1719340200-1719358200@theblacklab.fr
SUMMARY:THE BLACK DAHLIA MURDER + SUFFOCATION + KHEMMIS
DESCRIPTION:En accord avec Garmonbozia Inc.THE BLACK LAB proudly presents \n\n\n\nTHE BLACK DAHLIA MURDER – death metal (US) \n\n\n\n+ co-headlining show with \n\n\n\nSUFFOCATION – death metal (US) \n\n\n\n+ KHEMMIS – doom metal (US) \n\n\n\n\n\n\n\n\n\n\n\n\n\n\n\n\n\n\n\n\n\n\n\n\n\n\n\n\n\n\n\n\n\n\nACHETEZ VOS BILLETS\n\n\n\n\nPour toute revente de tickets merci d’utiliser la plateforme sécurisée de notre partenaire Ticketswap :https://www.ticketswap.fr/organizer/the-black-lab/1e321ecc-26b2-407d-beec-5e622438db8e
URL:https://theblacklab.fr/agenda/the-black-dahlia-murder-suffocation-khemmis/
CATEGORIES:ÉVÉNEMENT,SLIDER
ATTACH;FMTTYPE=image/png:https://theblacklab.fr/BL/wp-content/uploads/2024/02/DAHLIAMURDER-slider.png
END:VEVENT
BEGIN:VEVENT
DTSTART;TZID=Europe/Paris:20240626T200000
DTEND;TZID=Europe/Paris:20240626T233000
DTSTAMP:20260421T053150
CREATED:20240412T064552Z
LAST-MODIFIED:20240412T064554Z
UID:5877-1719432000-1719444600@theblacklab.fr
SUMMARY:UUHAI
DESCRIPTION:GINGER & THE BLACK LAB proudly present \n\n\n\nUUHAI – (Mongolie / Folk Metal) \n\n\n\nUUHAI est bien plus qu’un groupe de musique – ils sont une expérience à part entière\, une fusion captivante de sonorités Folk Mongole et Metal qui transcendent les frontières culturelles. Leur empreinte indélébile sur tous ceux qui ont eu le privilège d’assister à leurs concerts en fait des pionniers dans le monde de la musique\, et des ambassadeurs culturels puissants pour la Mongolie. \n\n\n\n“Au programme\, toujours un folk metal on ne peut plus dépaysant\, et chants de gorge accompagnés d’instruments traditionnels. Un son audacieux\, encore plus ancré dans la tradition mongole. C’est parti pour un nouveau moment de communion et de frénésie collective !” – HELLFEST \n\n\n\nLeur parcours remarquable a débuté avec une entrée fracassante sur la scène européenne lors de leur tournée inaugurale qui a rassemblé près de 200 000 spectateurs dans des festivals de renom tels que Bloodstock\, Motocultor\, Pol’and’Rock\, Leyendas Del Rock\, Rock Castle\, pour n’en citer que quelques-uns. Leur présence magnétique et leur musique révolutionnaire ont immédiatement captivé les foules. \n\n\n\nEn 2024\, UUHAI poursuit son ascension fulgurante avec une tournée à travers l’Europe\, où ils promettent de repousser encore les limites de l’innovation musicale. Leur prochaine étape marquante sera sur la scène prestigieuse du HELLFEST OPEN AIR\, un témoignage éloquent de leur montée en puissance et de la reconnaissance croissante qu’ils reçoivent en tant qu’ambassadeurs de la culture mongole à travers le monde. \n\n\n\nAvec leur capacité unique à fusionner les genres musicaux et à créer une expérience envoûtante\, UUHAI continue de repousser les frontières de la musique et de faire vibrer les cœurs de leur public\, affirmant ainsi leur place de leader sur la scène mondiale de Folk Metal. \n\n\n\nWELCOME TO MONGOLIA ! \n\n\n\n\n\n\n\n\n\n\n\n\n\n\n\n\n\n\n\n\n\n\n\n\nACHETEZ VOS BILLETS\n\n\n\n\nPour toute revente de tickets merci d’utiliser la plateforme sécurisée de notre partenaire Ticketswap :https://www.ticketswap.fr/organizer/the-black-lab/1e321ecc-26b2-407d-beec-5e622438db8e
URL:https://theblacklab.fr/agenda/uuhai/
CATEGORIES:ÉVÉNEMENT,SLIDER
ATTACH;FMTTYPE=image/png:https://theblacklab.fr/BL/wp-content/uploads/2024/04/THE-BLACK-LAB-slider-UUHAI.png
END:VEVENT
BEGIN:VEVENT
DTSTART;TZID=Europe/Paris:20240627T200000
DTEND;TZID=Europe/Paris:20240627T233000
DTSTAMP:20260421T053150
CREATED:20240229T103530Z
LAST-MODIFIED:20240229T103533Z
UID:5800-1719518400-1719531000@theblacklab.fr
SUMMARY:COSMIC PSYCHOS + V-LOVE
DESCRIPTION:THE BLACK LAB proudly presents \n\n\n\nCOSMIC PSYCHOS – Punk garage legend (AUS) \n\n\n\nIt’s a nice day to go to THE BLACK LAB. \n\n\n\n\n\n\n\n\n\n+ \n\n\n\nV-LOVE – Vauriens locaux (FR) \n\n\n\nIt’s a nice day to fall in V-Love. \n\n\n\n\n\n\n\n\n\n\n\n\n\n\n\n\n\n\n\n\n\n\n\n\nACHETEZ VOS BILLETS\n\n\n\n\nPour toute revente de tickets merci d’utiliser la plateforme sécurisée de notre partenaire Ticketswap :https://www.ticketswap.fr/organizer/the-black-lab/1e321ecc-26b2-407d-beec-5e622438db8e
URL:https://theblacklab.fr/agenda/cosmic-psychos-v-love/
CATEGORIES:ÉVÉNEMENT,SLIDER
ATTACH;FMTTYPE=image/png:https://theblacklab.fr/BL/wp-content/uploads/2024/02/COSMIC-PSYCHOS-slider.png
END:VEVENT
BEGIN:VEVENT
DTSTART;TZID=Europe/Paris:20240630T200000
DTEND;TZID=Europe/Paris:20240630T233000
DTSTAMP:20260421T053150
CREATED:20240401T202701Z
LAST-MODIFIED:20240401T202931Z
UID:5859-1719777600-1719790200@theblacklab.fr
SUMMARY:MONONEON
DESCRIPTION:Tu m’étonnes x Live Nation présentent \n\n\n\nMonoNeon est un bassiste et musicien expérimental américain\, de Memphis au Tennesse. \n\n\n\nIl est connu pour sa présence sur YouTube à jouer de la guitare basse\, pour avoir collaboré avec le chanteur Ne-Yo\, mais surtout pour avoir été l’une des dernières personnes à avoir travaillé avec Prince.Thomas\, de son prénom\, est lauréat d’un Grammy Award\, pour sa participation à l’album de Nas\, King’s Desease.Flea des Red Hot Chili Peppers a qualifié Mono de « meilleur putain de bassiste » (« The greatest fucking electric bass player »).Le 1er novembre 2022\, Fender a sorti une collection MonoNeon\, dont la MonoNeon Jazz Bass V Signature. \n\n\n\n\n\n\n\n\n\n\n\n\n\n\n\n\n\n\n\n\n\n\n\n\n\n\n\n\n\n\nACHETEZ VOS BILLETS\n\n\n\n\nPour toute revente de tickets merci d’utiliser la plateforme sécurisée de notre partenaire Ticketswap :https://www.ticketswap.fr/organizer/the-black-lab/1e321ecc-26b2-407d-beec-5e622438db8e
URL:https://theblacklab.fr/agenda/mononeon/
CATEGORIES:ÉVÉNEMENT,SLIDER
ATTACH;FMTTYPE=image/png:https://theblacklab.fr/BL/wp-content/uploads/2024/03/mononeon-slider.png
END:VEVENT
END:VCALENDAR