BEGIN:VCALENDAR
VERSION:2.0
PRODID:-//THE BLACK LAB - ECPv6.6.4//NONSGML v1.0//EN
CALSCALE:GREGORIAN
METHOD:PUBLISH
X-ORIGINAL-URL:https://theblacklab.fr
X-WR-CALDESC:évènements pour THE BLACK LAB
REFRESH-INTERVAL;VALUE=DURATION:PT1H
X-Robots-Tag:noindex
X-PUBLISHED-TTL:PT1H
BEGIN:VTIMEZONE
TZID:Europe/Paris
BEGIN:DAYLIGHT
TZOFFSETFROM:+0100
TZOFFSETTO:+0200
TZNAME:CEST
DTSTART:20240331T010000
END:DAYLIGHT
BEGIN:STANDARD
TZOFFSETFROM:+0200
TZOFFSETTO:+0100
TZNAME:CET
DTSTART:20241027T010000
END:STANDARD
END:VTIMEZONE
BEGIN:VEVENT
DTSTART;TZID=Europe/Paris:20240903T190000
DTEND;TZID=Europe/Paris:20240903T233000
DTSTAMP:20260421T001919
CREATED:20240222T134129Z
LAST-MODIFIED:20240222T134130Z
UID:5759-1725390000-1725406200@theblacklab.fr
SUMMARY:IAMX
DESCRIPTION:PERSONA GRATA & THE BLACK LAB proudly present \n\n\n\nIAMX – (USA / Electro Pop/ Dark) \n\n\n\nSeptember 2024 will see the return of the beautifully dark cult electronic project IAMX for an extensive tour throughout Europe. \n\n\n\n\n\n\n\n\n\n\n\n\n\n\n\n\n\n\n\n\n\n\n\n\n\n\n\n\n\n\nACHETEZ VOS BILLETS\n\n\n\n\nPour toute revente de tickets merci d’utiliser la plateforme sécurisée de notre partenaire Ticketswap :https://www.ticketswap.fr/organizer/the-black-lab/1e321ecc-26b2-407d-beec-5e622438db8e
URL:https://theblacklab.fr/agenda/iamx/
CATEGORIES:ÉVÉNEMENT,SLIDER
ATTACH;FMTTYPE=image/png:https://theblacklab.fr/BL/wp-content/uploads/2024/02/IAMX-slider.png
END:VEVENT
BEGIN:VEVENT
DTSTART;TZID=Europe/Paris:20240907T200000
DTEND;TZID=Europe/Paris:20240907T233000
DTSTAMP:20260421T001919
CREATED:20240717T201028Z
LAST-MODIFIED:20240717T201253Z
UID:6116-1725739200-1725751800@theblacklab.fr
SUMMARY:TEETHGRINDER + P.L.F. + WHORESNATION + TEIGNE
DESCRIPTION:We’re Not Worthy & THE BLACK LAB proudly presentWARM-UP (We’re Not Worthy Fest 5) \n\n\n\nTEETHGRINDER – (NL)Grindcore with Black & Death metal in a crusty fashion\, while making sure touches of Hardcore\, Post-metal and even some Drone and Stoner shine through \n\n\n\n\n\n\n\n\n\nP.L.F. – (US)Old school crusty Grindcore with a strong Thrash Metal influence in a devastating result \n\n\n\n\n\n\n\n\n\nWHORESNATION – (FR)Grindcore onslaught \n\n\n\n\n\n\n\n\n\nTEIGNE – (FR)Parasitic Grindcore & Hardcore causing mindloss \n\n\n\n\n\n\n\n\n\n\n\n\n\n\n\n\n\n\n\n\n\n\n\n\n\n\nACHETEZ VOS BILLETS\n\n\n\n\nPour toute revente de tickets merci d’utiliser la plateforme sécurisée de notre partenaire Ticketswap :https://www.ticketswap.fr/organizer/the-black-lab/1e321ecc-26b2-407d-beec-5e622438db8e
URL:https://theblacklab.fr/agenda/teethgrinder-p-l-f-whoresnation-teigne/
CATEGORIES:ÉVÉNEMENT,SLIDER
ATTACH;FMTTYPE=image/png:https://theblacklab.fr/BL/wp-content/uploads/2024/07/Teethgrinder-slider.png
END:VEVENT
BEGIN:VEVENT
DTSTART;TZID=Europe/Paris:20240910T200000
DTEND;TZID=Europe/Paris:20240910T233000
DTSTAMP:20260421T001919
CREATED:20240822T083924Z
LAST-MODIFIED:20240822T084244Z
UID:6135-1725998400-1726011000@theblacklab.fr
SUMMARY:FALLEN GLEAM + THE WESTERS
DESCRIPTION:Fallen Gleam et The Westers vous offre une soirée dans deux styles bien différents ! \n\n\n\n20h – THE WESTERS « une musique typée Americana Blues Rock. » \n\n\n\n21h – FALLEN GLEAMLa musique de Fallen Gleam est un mélange organique des différentes influences et expériences de ses membres. Des breaks violents aux douces mélodies épiques en passant par les sonorités électro\, le mix se veut riche et varié tout en restant intuitif et percutant. \n\n\n\nLa pratique amateure dans toute sa splendeur ! \n\n\n\nEt ça se passe à THE BLACK LAB à Wasquehal. \n\n\n\n\n\n\n\n\nENTRÉE GRATUITE
URL:https://theblacklab.fr/agenda/fallen-gleam-the-westers/
CATEGORIES:ÉVÉNEMENT
ATTACH;FMTTYPE=image/jpeg:https://theblacklab.fr/BL/wp-content/uploads/2024/08/fallengleam.jpg
END:VEVENT
BEGIN:VEVENT
DTSTART;TZID=Europe/Paris:20240914T200000
DTEND;TZID=Europe/Paris:20240914T233000
DTSTAMP:20260421T001919
CREATED:20240531T075651Z
LAST-MODIFIED:20240531T075656Z
UID:5992-1726344000-1726356600@theblacklab.fr
SUMMARY:SYMPHONY X 
DESCRIPTION:SYMPHONY X a atteint un niveau de maturité musical avec leur neuvième album\, “Underworld”\, grâce au talent de Michael Romeo\, à l’expérience de Russell Allen avec le TRANS-SIBERIAN ORCHESTRA\, aux défis de santé surmontés par Jason Rullo\, et à la stabilité de la composition du groupe depuis plus de 20 ans. \n\n\n\n\n\n\n\n\n\n\n\n\n\n\n\n\n\n\n\n\n\n\n\n\nACHETEZ VOS BILLETS\n\n\n\n\nPour toute revente de tickets merci d’utiliser la plateforme sécurisée de notre partenaire Ticketswap :https://www.ticketswap.fr/organizer/the-black-lab/1e321ecc-26b2-407d-beec-5e622438db8e
URL:https://theblacklab.fr/agenda/symphony-x/
CATEGORIES:ÉVÉNEMENT,SLIDER
ATTACH;FMTTYPE=image/png:https://theblacklab.fr/BL/wp-content/uploads/2024/05/symphonyX-slider.png
END:VEVENT
BEGIN:VEVENT
DTSTART;TZID=Europe/Paris:20240918T170000
DTEND;TZID=Europe/Paris:20240918T233000
DTSTAMP:20260421T001919
CREATED:20240912T110140Z
LAST-MODIFIED:20240912T110145Z
UID:6179-1726678800-1726702200@theblacklab.fr
SUMMARY:EXPO. GUITAR LEGENDS
DESCRIPTION:Vernissage\n\n\n\n\n\n\n\n\n\nVernissage de l’exposition guitar legends\, au Black Lab qui me donne l’occasion de présenter pour la première fois cette série. \n\n\n\nÇa commence le mercredi 18 septembre à partir de 17h\, et l’exposition sera visible jusqu’en… \n\n\n\nPour ma part je serai présent ce jour là\, ce sera un plaisir de discuter avec les curieux.ses autour d’un verre.Il fera beau\, la terrasse est cool\, le son est bon\, il y’a l’happy hour et en plus on peut jouer au “qui est-ce ?” avec ces illustrations. \n\n\n\n– Guitar legends est une série d’illustrations inspirée par l’histoire de la musique rock\, du blues au metal. Un tribute aux guitaristes et musiciens les plus influents et emblématiques de ces genres musicaux. \n\n\n\nOn se retrouve fort fort fort\, lourd lourd lourd\, # qui va bien. \n\n\n\n\n\n\n\n\nENTRÉE GRATUITE
URL:https://theblacklab.fr/agenda/expo-guitar-legends/
CATEGORIES:ÉVÉNEMENT
ATTACH;FMTTYPE=image/png:https://theblacklab.fr/BL/wp-content/uploads/2024/09/expoguitar-slider.png
END:VEVENT
BEGIN:VEVENT
DTSTART;TZID=Europe/Paris:20240921T200000
DTEND;TZID=Europe/Paris:20240921T233000
DTSTAMP:20260421T001919
CREATED:20240711T100526Z
LAST-MODIFIED:20240920T111602Z
UID:6068-1726948800-1726961400@theblacklab.fr
SUMMARY:[ANNULÉ] PHIL CAMPBELL & THE BASTARD SONS + JUNKYARD DRIVE
DESCRIPTION:ANNULATION DÉCEPTION !! \n\n\n\nNous sommes navrés de vous annoncer l’annulation du concert de Phil Campbell and the Bastard Sons qui devait se tenir le 21 septembre 2024 @ THE BLACK LAB. L’annulation de la tournée de Scorpions a directement impacté celle de Phil Campbell\, nous espérons l’accueillir une prochaine fois\, cf. Message du groupe below en anglais dans le texte. Pour l’heure\, tous les billets achetés seront intégralement remboursés dans les jours qui suivent\, checkez vos comptes bancaires.A très bientôt\, peut-être pour Anvil le 18 octobre ?Bisous ? Câlins ! \n\n\n\n— \n\n\n\nDue to the unforeseen cancellation of Scorpions tour in September\, due to logistical reasons it also means we have no choice but to cancel our coinciding headline shows throughout September.We hope to re-schedule these dates in the future. Refunds will be available soon from your point of sale. We apologise for any inconvenience this causes to our fans. \n\n\n\n— \n\n\n\n \n\n\n\n \n\n\n\nEn accord avec Garmonbozia Inc.THE BLACK LAB proudly presents \n\n\n\nPHIL CAMPBELL AND THE BASTARD SONS – Hard rock (Galles)Band of Motörhead legendary guitarist 1983>2015 \n\n\n\n\n\n\n\n\n\n+ JUNKYARD DRIVE – Hard rock (DK)Nouvelles stars montantes du hard danois\, on parle bien musique et veste à patchs.
URL:https://theblacklab.fr/agenda/phil-campbell-the-bastard-sons-junkyard-drive/
CATEGORIES:ÉVÉNEMENT
ATTACH;FMTTYPE=image/png:https://theblacklab.fr/BL/wp-content/uploads/2024/07/PHIL-CAMPBELL-slider.png
END:VEVENT
BEGIN:VEVENT
DTSTART;TZID=Europe/Paris:20240922T190000
DTEND;TZID=Europe/Paris:20240922T233000
DTSTAMP:20260421T001919
CREATED:20240401T200529Z
LAST-MODIFIED:20240430T141557Z
UID:5865-1727031600-1727047800@theblacklab.fr
SUMMARY:KALANDRA + LILI REFRAIN
DESCRIPTION:Cerbère Coryphée et THE BLACK LAB présentent : \n\n\n\nKALANDRA (NOR\, Olso / Folk – Pop)Le quatuor norvégien fondé en 2012\, Kalandra puise ses racines dans la folk nordique mélancolique et les guitares grinçantes\, tissant des mélodies éthérées dans des paysages musicaux bruts et étranges. La sortie du nouveau single « The State of the World » voit le groupe explorer un côté fragile de leur univers\, touchant de nouveaux fans partout dans le monde. Youtube : https://www.youtube.com/c/kalandramusic Facebook : https://www.facebook.com/KalandramusicInstagram : https://www.instagram.com/kalandramusic \n\n\n\nLiIi Refrain (IT\, Rome / Psichedelia occulta)Lili Refrain est une multi-instrumentiste\, compositrice et interprète projet solo fondé en 2007. Elle utilise de la guitare électrique\, du chant\, des percussions et des synthétiseurs\, les superposant en temps réel via des stations en boucle. L’atmosphère qu’elle évoque couvre une large bande de territoire sonore qui combine des textures minimalistes\, folk\, psychédéliques\, blues\, métal et opéra lyrique\, sans utiliser d’ordinateur ni de pistes préenregistrées. Ses chansons sont imprégnées d’énergies rituelles et ses performances live sont une expérience viscérale et cathartique qui conduit l’auditeur à travers un acte fascinant et inoubliable. \n\n\n\nBandcamp : https://lilirefrain.bandcamp.com/Youtube : https://www.youtube.com/user/shippingheadFacebook : https://www.facebook.com/lilirefrainInstagram : https://www.instagram.com/lilirefrain \n\n\n\n\n\n\n\n\n\n\n\n\n\n\n\n\n\n\n\n\n\n\n\n\nACHETEZ VOS BILLETS\n\n\n\n\nPour toute revente de tickets merci d’utiliser la plateforme sécurisée de notre partenaire Ticketswap :https://www.ticketswap.fr/organizer/the-black-lab/1e321ecc-26b2-407d-beec-5e622438db8e
URL:https://theblacklab.fr/agenda/kalandra-lili-refrain/
CATEGORIES:ÉVÉNEMENT,SLIDER
ATTACH;FMTTYPE=image/png:https://theblacklab.fr/BL/wp-content/uploads/2024/04/Kalandra-slider.png
END:VEVENT
BEGIN:VEVENT
DTSTART;TZID=Europe/Paris:20240924T200000
DTEND;TZID=Europe/Paris:20240924T233000
DTSTAMP:20260421T001919
CREATED:20240822T085852Z
LAST-MODIFIED:20240822T085858Z
UID:6144-1727208000-1727220600@theblacklab.fr
SUMMARY:NEEDLES + LITTLE BIG HORN
DESCRIPTION:THE GOOD THE BAD AND THE LOCAL \n\n\n\n**************************20:00 >>> LITTLE BIG HORN [Folk]Groupe de rock Lillois qui puise ses influences des années 70 à nos jours. Leurs compos parlent d’amour\, d’Amérindiens\, de chat et de loup\, de tout et de rien!Little Big Horn\, c’est aussi beaucoup d’oestrogène et un peu de testostérone…– On écoute ici >>> https://littlebighorn1.bandcamp.com/track/medley-5-titres \n\n\n\n21:15 >>> NEEDLES [Pop-Punk]Needles est un groupe de Lille qui a tourné pendant une dizaine d’années (250 concerts en Europe) avec un EP (Burnout – 2005) et un album (Courting Barbie – 2010). Il a brutalement mis fin à son activité en 2011. En 2022\, ils sont de retours et sortent 3 singles sur l’année 2023\, et l’accueil du public est formidable — Needles n’a rien perdu de sa fougue et de son envie de partager sa musique. Ces 3 nouvelles chansons portent un message d’espoir et d’humanité ! Needles entre en studio en février 2024 pour enregistrer de nouveaux morceaux à paraître tout prochainement !!! Et bien sur Needles est sur scène\, là où il se passe toujours un truc !!! – On écoute ici >>> https://open.spotify.com/…/artist/4ZeBfTttCpNByPozB7WJ06 \n\n\n\n\n\n\n\n\nENTRÉE GRATUITE
URL:https://theblacklab.fr/agenda/needles-little-big-horn/
CATEGORIES:ÉVÉNEMENT
ATTACH;FMTTYPE=image/jpeg:https://theblacklab.fr/BL/wp-content/uploads/2024/08/needles.jpg
END:VEVENT
BEGIN:VEVENT
DTSTART;TZID=Europe/Paris:20240927T200000
DTEND;TZID=Europe/Paris:20240927T233000
DTSTAMP:20260421T001919
CREATED:20240711T145000Z
LAST-MODIFIED:20240711T145005Z
UID:6097-1727467200-1727479800@theblacklab.fr
SUMMARY:THE DARTS + GRAND CRU
DESCRIPTION:THE DARTS – Garage (US) \n\n\n\nDélurées bêtes de scène\, The Darts from USA est un quatuor féminin qui a la rage. Constamment en tournée worldwide\, elles se sont rapidement faites remarquer par Jello Biafra himself qui a signé les deux derniers albums en date sur son mythique label Alternative Tentacles. Elles viendront donc littéralement enflammer THE BLACK LAB de leur 60’s horror garage punk aux relents psyché avec leur dernier album “Boomerang” sorti en avril 2024. \n\n\n\n\n\n\n\n\n\n+ GRAND CRU – Garage (FR) \n\n\n\nIls sont déjà venus casser la baraque il y a deux ans en compagnie du révérend James Leg. Comme quand on aime\, on ne compte pas\, on fait de nouveau appel à leur garage abrasif pour lancer cette soirée à ne pas louper. \n\n\n\n\n\n\n\n\n\n\n\n\n\n\n\n\n\n\n\n\n\n\n\n\n\n\n\n\n\n\nACHETEZ VOS BILLETS\n\n\n\n\nPour toute revente de tickets merci d’utiliser la plateforme sécurisée de notre partenaire Ticketswap :https://www.ticketswap.fr/organizer/the-black-lab/1e321ecc-26b2-407d-beec-5e622438db8e
URL:https://theblacklab.fr/agenda/the-darts-grand-cru/
CATEGORIES:ÉVÉNEMENT,SLIDER
ATTACH;FMTTYPE=image/png:https://theblacklab.fr/BL/wp-content/uploads/2024/07/THE-DARTS-slider.png
END:VEVENT
END:VCALENDAR