BEGIN:VCALENDAR
VERSION:2.0
PRODID:-//THE BLACK LAB - ECPv6.6.4//NONSGML v1.0//EN
CALSCALE:GREGORIAN
METHOD:PUBLISH
X-ORIGINAL-URL:https://theblacklab.fr
X-WR-CALDESC:évènements pour THE BLACK LAB
REFRESH-INTERVAL;VALUE=DURATION:PT1H
X-Robots-Tag:noindex
X-PUBLISHED-TTL:PT1H
BEGIN:VTIMEZONE
TZID:Europe/Paris
BEGIN:DAYLIGHT
TZOFFSETFROM:+0100
TZOFFSETTO:+0200
TZNAME:CEST
DTSTART:20240331T010000
END:DAYLIGHT
BEGIN:STANDARD
TZOFFSETFROM:+0200
TZOFFSETTO:+0100
TZNAME:CET
DTSTART:20241027T010000
END:STANDARD
END:VTIMEZONE
BEGIN:VEVENT
DTSTART;TZID=Europe/Paris:20241008T200000
DTEND;TZID=Europe/Paris:20241008T233000
DTSTAMP:20260420T222839
CREATED:20240123T173555Z
LAST-MODIFIED:20240123T173557Z
UID:5671-1728417600-1728430200@theblacklab.fr
SUMMARY:ELLENDE + GROZA + SERVENT
DESCRIPTION:En accord avec Garmonbozia Inc.THE BLACK LAB proudly presents \n\n\n\nELLENDE – Black metal (AUT) \n\n\n\n\n\n\n\n\n\nGROZA – Black metal (GER) \n\n\n\n\n\n\n\n\n\nSERVENT – Black metal (GER) \n\n\n\n\n\n\n\n\n\nELLENDE: “As promised we will do one tour in 2024 and with “Scherben Tour” our longest up to date is being announced. We’ll visit many cities and venues never played before and we’re happy to have our friends in Groza supporting as well as Servant opening.” \n\n\n\nGROZA: “We are excited to announce our next tour. We will bring the storm all over Europe in October 2024 in company of our comrades in Ellende and Servant. This tour will be in support of new yet unannounced music\, to also be unveiled in 2024. Join us. Onwards!” \n\n\n\n \n\n\n\n\n\n\n\n\n\n\n\n\n\n\n\n\n\n\n\n\n\n\n\n\nACHETEZ VOS BILLETS\n\n\n\n\nPour toute revente de tickets merci d’utiliser la plateforme sécurisée de notre partenaire Ticketswap :https://www.ticketswap.fr/organizer/the-black-lab/1e321ecc-26b2-407d-beec-5e622438db8e
URL:https://theblacklab.fr/agenda/ellende-groza-servent/
CATEGORIES:ÉVÉNEMENT,SLIDER
ATTACH;FMTTYPE=image/png:https://theblacklab.fr/BL/wp-content/uploads/2023/12/ELLENDE-slider.png
END:VEVENT
BEGIN:VEVENT
DTSTART;TZID=Europe/Paris:20241009T193000
DTEND;TZID=Europe/Paris:20241009T233000
DTSTAMP:20260420T222839
CREATED:20240822T101925Z
LAST-MODIFIED:20241008T094154Z
UID:6152-1728502200-1728516600@theblacklab.fr
SUMMARY:[ANNULÉ] FLORENCE BLACK + SEEDS OF MARY + BAD SITUATION
DESCRIPTION:FLORENCE BLACKComposé du guitariste primé Tristan Thomas (chanteur/guitare)\, de Jordan Evans (basse) et de Perry Davies (batterie)\, trois musiciens exceptionnels originaires de Merthyr Tydfil\, dans le sud du Pays de Galles. Après l’énorme succès de leur premier album\, WEIGHT OF THE WORLD [numéro 6\, Official UK Rock and Metal Chart] en 2021\, FLORENCE BLACK a pris la route. Le groupe a donné un grand nombre de concerts à travers le Royaume-Uni et l’UE\, y compris des tournées de soutien avec Steel Panther\, Ugly Kid Joe\, deux concerts à guichets fermés dans des stades à Francfort et une tournée à guichets fermés dans des arènes en Allemagne avec les géants allemands Bohse Onkelz. Le groupe a terminé l’année 2022 par sa propre tournée WEIGHT OF THE WORLD en octobre\, qui s’est déroulée à guichets fermés. FLORENCE BLACK est retourné au Long Wave Recording Studio\, à Cardiff\, au printemps 2023 pour enregistrer son deuxième album avec le producteur de WEIGHT OF THE WORLD\, Romesh Dodangoda. Des performances acclamées au Sweden Rock Festival\, au Resurrection Festival\, en Espagne\, et une incroyable performance sur la scène principale du Hellfest\, en France\, ont suivi. Le deuxième album du groupe\, BED OF NAILS\, sortira le 1er décembre et sera suivi d’une tournée britannique en février 2024. \n\n\n\nSEEDS OF MARYSeeds Of Mary\, ce sont 5 mauvaises graines biberonnées au rock et à la bouillie Bordelaise. Leur musique s’enracine tant dans le métal (Gojira\, Katatonia\, Alice In Chains\, Faith No More) que le rock sous toutes ses formes (Beatles\, Pink Floyd) et cette mauvaise herbe n’a pas fini d’envahir le territoire comme en attestent leurs tournées aux quatre coins de l’hexagone. La dernière récolte se nomme Serendipity\, troisième album du groupe à la fois sombre et plein d’espoir\, violent et aérien\, porté sur l’avenir et habité par le passé. \n\n\n\nBAD SITUATIONBAD SITUATION c’est du courant brut amplifié dans un mur de son. Ce duo totalement explosif prouve très rapidement sa capacité à fédérer. Créé par Aziz Bentot\, plus connu sous le nom de Dealer 2 Metal sur Youtube et Lucas Pelletier\, BAD SITUATION s’inspire des groupes qui ont marqué l’histoire pour proposer un Rock musclé\, addictif et immédiat. Après un passage remarqué dans les studios de Rock & Folk\, BAD SITUATION continue de surprendre les amateurs de musiques amplifiées grâce à ses prestations scéniques et son énergie débordante de passion.
URL:https://theblacklab.fr/agenda/florence-black-seeds-of-mary-bad-situation/
CATEGORIES:ÉVÉNEMENT
ATTACH;FMTTYPE=image/jpeg:https://theblacklab.fr/BL/wp-content/uploads/2024/08/florenceblack-slider.jpg
END:VEVENT
BEGIN:VEVENT
DTSTART;TZID=Europe/Paris:20241011T190000
DTEND;TZID=Europe/Paris:20241011T233000
DTSTAMP:20260420T222839
CREATED:20240711T102036Z
LAST-MODIFIED:20240711T102041Z
UID:6072-1728673200-1728689400@theblacklab.fr
SUMMARY:ROTTING CHRIST + BORKNAGAR + SETH
DESCRIPTION:Cerbère Coryphée & The BLACK LAB proudly present \n\n\n\nRotting Christ + Borknagar + Seth \n\n\n\n\n\n\n\n\n\n\n\n\n\n\n\n\n\n\n\n\n\n\n\n\nACHETEZ VOS BILLETS\n\n\n\n\nPour toute revente de tickets merci d’utiliser la plateforme sécurisée de notre partenaire Ticketswap :https://www.ticketswap.fr/organizer/the-black-lab/1e321ecc-26b2-407d-beec-5e622438db8e
URL:https://theblacklab.fr/agenda/rotting-christ-borknagar-seth/
CATEGORIES:ÉVÉNEMENT,SLIDER
ATTACH;FMTTYPE=image/png:https://theblacklab.fr/BL/wp-content/uploads/2024/07/ROTTING-CHRIST-slider.png
END:VEVENT
BEGIN:VEVENT
DTSTART;TZID=Europe/Paris:20241012T160000
DTEND;TZID=Europe/Paris:20241012T233000
DTSTAMP:20260420T222839
CREATED:20240911T193426Z
LAST-MODIFIED:20240911T193428Z
UID:6176-1728748800-1728775800@theblacklab.fr
SUMMARY:THE SCHNAPS LAB • 40+20 ans de radio
DESCRIPTION:40 ans de radio ça se fête ? 20 ans aussi ? Les fidèles acolytes Schnaps et Ben squattent la salle The Black Lab le 12 octobre 2024 de 16h à 01h !  \n\n\n\nThe Black Lab devient The Schnaps Lab ; lieu des folles expérimentations de Schnaps.  \n\n\n\nAu programme : • Atelier scratch pour ados avec DJ Stamiff • Atelier radio pour kids • Lives acoustiques et électros (programmation à venir)• DJ Party avec djs de RCV 99fm• Expo photos• En direct sur le 99fm \n\n\n\n\n\n\n\n\nENTRÉE GRATUITE
URL:https://theblacklab.fr/agenda/the-schnaps-lab-4020-ans-de-radio/
CATEGORIES:ÉVÉNEMENT
ATTACH;FMTTYPE=image/png:https://theblacklab.fr/BL/wp-content/uploads/2024/09/TheSchnapslab-slider.png
END:VEVENT
BEGIN:VEVENT
DTSTART;TZID=Europe/Paris:20241013T190000
DTEND;TZID=Europe/Paris:20241013T233000
DTSTAMP:20260420T222839
CREATED:20240822T110342Z
LAST-MODIFIED:20241009T055037Z
UID:6164-1728846000-1728862200@theblacklab.fr
SUMMARY:[CONCERT DÉPLACÉ] KABAKA PYRAMID
DESCRIPTION:« Pour des raisons indépendantes de la volonté de l’artiste\, de la salle de concert et de la production\, le concert de Kabaka Pyramid prévu dimanche 13 octobre 2024 à 19h00 est déplacé à La Bulle Café à Lille\, le même jour à 20h30. \n\n\n\nLes billets achetés pour THE BLACK LAB restent bien valables pour accéder à La Bulle Café. \n\n\n\nMerci de votre compréhension » \n\n\n\n \n\n\n\n \n\n\n\nKABAKA PYRAMIDKabaka Pyramid\, c’est le mélange savoureux du pouvoir et de la mélodie du reggae\, associés à la puissance des paroles hip-hop ! Auteur compositeur révolutionnaire du genre avec une signature musicale qui lui est propre\, c’est grâce à ce mix de reggae et de hip-hop que Kabaka Pyramid fait partie des heureux élus à avoir été récompensé aux Grammy Award. Retrouvez-le le 13 octobre 2024 au Black Lab ! \n\n\n\n\n\n\n\n\n\n\n\n\n\n\n\n\n\n\n\n\nACHETEZ VOS BILLETS\n\n\n\n\nPour toute revente de tickets merci d’utiliser la plateforme sécurisée de notre partenaire Ticketswap :https://www.ticketswap.fr/organizer/the-black-lab/1e321ecc-26b2-407d-beec-5e622438db8e
URL:https://theblacklab.fr/agenda/kabaka-pyramid/
CATEGORIES:ÉVÉNEMENT
ATTACH;FMTTYPE=image/jpeg:https://theblacklab.fr/BL/wp-content/uploads/2024/08/KABAKA_PYRAMID-slider.jpg
END:VEVENT
BEGIN:VEVENT
DTSTART;TZID=Europe/Paris:20241016T200000
DTEND;TZID=Europe/Paris:20241016T233000
DTSTAMP:20260420T222839
CREATED:20240531T081013Z
LAST-MODIFIED:20240531T081018Z
UID:6005-1729108800-1729121400@theblacklab.fr
SUMMARY:MYRATH
DESCRIPTION:Myrath\, groupe franco-tunisien formé en 2001\, a parcouru un chemin musical jalonné de triomphes bien mérités\, passant du désert au monde. Le groupe a créé un heavy métal mélodique et folklorique unique\, fusionnant des influences de leurs milieux culturels variés avec conviction et espoir. \n\n\n\n\n\n\n\n\n\n\n\n\n\n\n\n\n\n\n\n\n\n\n\n\nACHETEZ VOS BILLETS\n\n\n\n\nPour toute revente de tickets merci d’utiliser la plateforme sécurisée de notre partenaire Ticketswap :https://www.ticketswap.fr/organizer/the-black-lab/1e321ecc-26b2-407d-beec-5e622438db8e
URL:https://theblacklab.fr/agenda/myrath/
CATEGORIES:ÉVÉNEMENT,SLIDER
ATTACH;FMTTYPE=image/png:https://theblacklab.fr/BL/wp-content/uploads/2024/05/Myrath-slider.png
END:VEVENT
BEGIN:VEVENT
DTSTART;TZID=Europe/Paris:20241018T200000
DTEND;TZID=Europe/Paris:20241018T233000
DTSTAMP:20260420T222839
CREATED:20240722T113515Z
LAST-MODIFIED:20240924T182245Z
UID:6120-1729281600-1729294200@theblacklab.fr
SUMMARY:ANVIL
DESCRIPTION:THE BLACK LAB proudly presents \n\n\n\nANVIL – the Heavy Metal masters (can)Oui on parle bien de ces trois canadiens qui ont défriché les voies impénétrables du Hard Rock pour l’emmener vers le Heavy et le Speed Metal en lorgnant très tôt vers ce qui allait devenir le Thrash Metal. Cités régulièrement comme une influence majeure au début des années 80 : Maiden\, Judas\, Motörhead\, Metallica\, Anthrax et même Slayer sont dithyrambiques quant aux exploits scéniques de ce power trio infernal. Un doute ? Allez mater ou remater le fabuleux documentaire “The Story of Anvil”. Et si on le projetait ? Hmmm… On va y réfléchir. En attendant\, prenez vos tickets\, ils ont apparemment enflammé le Hellfest 2024 et leur dernier album “One and only” paru fin juin sur AFM Records est succulent. \n\n\n\n\n\n\n\n\n\n\n\n\n\n\n\n\n\n\n\n\n\n\n\n\n\n\n\n\n\n\nACHETEZ VOS BILLETS\n\n\n\n\nPour toute revente de tickets merci d’utiliser la plateforme sécurisée de notre partenaire Ticketswap :https://www.ticketswap.fr/organizer/the-black-lab/1e321ecc-26b2-407d-beec-5e622438db8e
URL:https://theblacklab.fr/agenda/anvil/
CATEGORIES:ÉVÉNEMENT,SLIDER
ATTACH;FMTTYPE=image/png:https://theblacklab.fr/BL/wp-content/uploads/2024/07/Anvil-slider-1.png
END:VEVENT
BEGIN:VEVENT
DTSTART;TZID=Europe/Paris:20241019T190000
DTEND;TZID=Europe/Paris:20241019T233000
DTSTAMP:20260420T222839
CREATED:20240713T094008Z
LAST-MODIFIED:20240713T094123Z
UID:6107-1729364400-1729380600@theblacklab.fr
SUMMARY:MUSE FRANCE TRIBUTE
DESCRIPTION:THE BLACK LAB et SOAX PROD annoncent avec fierté :  \n\n\n\nTHE BLACK LAB TRIBUTE FEST 2025 \n\n\n\nMuse France présente : Absolution XX TourPour célébrer les 20 ans de l’ère Absolution\, le Muse France Tribute va jouer Absolution en entier\, ainsi que les B-sides !RDV @ THE BLACK LAB\, le 19 Octobre 2024. \n\n\n\nCe n’est pas tout vous pouvez aussi acheter des bracelets “ABSOLUTION” sur notre boutique. Cela permet de soutenir l’action de Muse France. https://www.helloasso.com/…/mus…/boutiques/absolution-xx  \n\n\n\n\n\n\n\n\n\n\n\n\n\n\n\n\n\n\n\n\n\n\n\n\nACHETEZ VOS BILLETS\n\n\n\n\nPour toute revente de tickets merci d’utiliser la plateforme sécurisée de notre partenaire Ticketswap :https://www.ticketswap.fr/organizer/the-black-lab/1e321ecc-26b2-407d-beec-5e622438db8e
URL:https://theblacklab.fr/agenda/muse-france-tribute/
CATEGORIES:ÉVÉNEMENT
ATTACH;FMTTYPE=image/png:https://theblacklab.fr/BL/wp-content/uploads/2024/07/Muse-France-Tribute-slider.png
END:VEVENT
BEGIN:VEVENT
DTSTART;TZID=Europe/Paris:20241022T200000
DTEND;TZID=Europe/Paris:20241022T233000
DTSTAMP:20260420T222839
CREATED:20240531T085922Z
LAST-MODIFIED:20240531T085925Z
UID:6009-1729627200-1729639800@theblacklab.fr
SUMMARY:ULCERATE + FANGE
DESCRIPTION:ACHETEZ VOS BILLETS\n\n\n\n\nPour toute revente de tickets merci d’utiliser la plateforme sécurisée de notre partenaire Ticketswap :https://www.ticketswap.fr/organizer/the-black-lab/1e321ecc-26b2-407d-beec-5e622438db8e
URL:https://theblacklab.fr/agenda/ulcerate-fange/
CATEGORIES:ÉVÉNEMENT,SLIDER
ATTACH;FMTTYPE=image/png:https://theblacklab.fr/BL/wp-content/uploads/2024/05/ulcerate-slider.png
END:VEVENT
BEGIN:VEVENT
DTSTART;TZID=Europe/Paris:20241026T200000
DTEND;TZID=Europe/Paris:20241026T233000
DTSTAMP:20260420T222839
CREATED:20240711T102854Z
LAST-MODIFIED:20240711T102858Z
UID:6076-1729972800-1729985400@theblacklab.fr
SUMMARY:HANGMAN'S CHAIR + DOOL
DESCRIPTION:THE BLACK LAB proudly presents \n\n\n\nUne soirée placée sous le signe du doom(s). \n\n\n\nHANGMAN’S CHAIR – sludge stoner doom (FR) \n\n\n\n\n\n\n\n\n\nDOOL – progressive doom (NL) \n\n\n\n\n\n\n\n\n\n\n\n\n\n\n\n\n\n\n\n\n\n\n\n\n\n\nACHETEZ VOS BILLETS\n\n\n\n\nPour toute revente de tickets merci d’utiliser la plateforme sécurisée de notre partenaire Ticketswap :https://www.ticketswap.fr/organizer/the-black-lab/1e321ecc-26b2-407d-beec-5e622438db8e
URL:https://theblacklab.fr/agenda/hangmans-chair-dool/
CATEGORIES:ÉVÉNEMENT,SLIDER
ATTACH;FMTTYPE=image/png:https://theblacklab.fr/BL/wp-content/uploads/2024/07/HangmansChair-slider.png
END:VEVENT
BEGIN:VEVENT
DTSTART;TZID=Europe/Paris:20241031T190000
DTEND;TZID=Europe/Paris:20241031T233000
DTSTAMP:20260420T222839
CREATED:20241017T063450Z
LAST-MODIFIED:20241017T063453Z
UID:6251-1730401200-1730417400@theblacklab.fr
SUMMARY:MAX'1 AND THE ROOTSMAKER - Freedom Release Party
DESCRIPTION:Pour la sortie de son troisième album\, Max’1 & the Rootsmaker a choisi de fêter à nouveau l’évènement @THE BLACK LAB : un lieu dédier aux musiciens – Music & Food with attitude.La pratique amateur dans toute sa splendeur ! \n\n\n\nPour cet évènement nous vous préparons de belles surprises que nous vous dévoilerons petit à petit…  \n\n\n\n… Et nous commençons par te présenter le Healing Sound System qui nous fera l’honneur de venir nous présenter leur sélection épuré !  \n\n\n\nMore information : Healing roots Sound system né en 2022 est un collectif de Sélecteurs vynile composé de Bongo-g\, baba et dem’selecta\, passionnés de musique et de culture jamaïcaine\, leur sélection s’étend du rocksteady en passant par le roots jusqu’au dernière grosse production dub UK\, leur sono entièrement fabriquée à la main représente parfaitement les origines du Sound system\, pour cette soirée spéciale à l’occasion de la sortie du nouvel album de maxx’1 and rootsmaker les trois acolytes du crew viendront avec leur sélection épurée pour vous mettre en jambes et découvrir ou redécouvrir leur univers!!!! \n\n\n\n\n\n\n\n\n\n\n\n\n\n\n\n\n\n\n\n\n\n\n\n\nACHETEZ VOS BILLETS\n\n\n\n\nPour toute revente de tickets merci d’utiliser la plateforme sécurisée de notre partenaire Ticketswap :https://www.ticketswap.fr/organizer/the-black-lab/1e321ecc-26b2-407d-beec-5e622438db8e
URL:https://theblacklab.fr/agenda/max1-and-the-rootsmaker-freedom-release-party/
CATEGORIES:ÉVÉNEMENT
ATTACH;FMTTYPE=image/png:https://theblacklab.fr/BL/wp-content/uploads/2024/10/max1-slider.png
END:VEVENT
END:VCALENDAR