BEGIN:VCALENDAR
VERSION:2.0
PRODID:-//THE BLACK LAB - ECPv6.6.4//NONSGML v1.0//EN
CALSCALE:GREGORIAN
METHOD:PUBLISH
X-ORIGINAL-URL:https://theblacklab.fr
X-WR-CALDESC:évènements pour THE BLACK LAB
REFRESH-INTERVAL;VALUE=DURATION:PT1H
X-Robots-Tag:noindex
X-PUBLISHED-TTL:PT1H
BEGIN:VTIMEZONE
TZID:Europe/Paris
BEGIN:DAYLIGHT
TZOFFSETFROM:+0100
TZOFFSETTO:+0200
TZNAME:CEST
DTSTART:20250330T010000
END:DAYLIGHT
BEGIN:STANDARD
TZOFFSETFROM:+0200
TZOFFSETTO:+0100
TZNAME:CET
DTSTART:20251026T010000
END:STANDARD
END:VTIMEZONE
BEGIN:VEVENT
DTSTART;TZID=Europe/Paris:20250503T183000
DTEND;TZID=Europe/Paris:20250503T233000
DTSTAMP:20260420T121557
CREATED:20241212T102149Z
LAST-MODIFIED:20250428T153244Z
UID:6396-1746297000-1746315000@theblacklab.fr
SUMMARY:LINEA ASPERA + QUAL + PARADOX OBSCUR + SAD MADONA + KIDDO
DESCRIPTION:IMC & THE BLACK LAB proudly present \n\n\n\na cold night before THE DARK LAB 2 with \n\n\n\nLINEA ASPERA – cold synth wave\, ebm related (ger/uk) – 23h00 \n\n\n\n\n\n\n\n\n\nQUAL – Dark synth\, dancefloor killer related (uk) – 21h50 \n\n\n\n\n\n\n\n\n\n \n\n\n\nPARADOX OBSCUR – indie synth\, analog electro related (gr) – 20h20 \n\n\n\n\n\n\n\n\n\nSAD MADONA – dramatic dance\, shoegaze related (fr) – 19h30 \n\n\n\n\n\n\n\n\n\nClosing party : KIDDO – dark disco (fr) – 00h05 \n\n\n\n \n\n\n\n\n\n\n\n\n\n\n\n\n\n\n\n\n\n\n\n\n\n\n\n\nACHETEZ VOS BILLETS
URL:https://theblacklab.fr/agenda/linea-aspera-more/
CATEGORIES:ÉVÉNEMENT,SLIDER
ATTACH;FMTTYPE=image/png:https://theblacklab.fr/BL/wp-content/uploads/2024/12/LINEA-ASPERA-slider-4.png
END:VEVENT
BEGIN:VEVENT
DTSTART;TZID=Europe/Paris:20250504T180000
DTEND;TZID=Europe/Paris:20250504T233000
DTSTAMP:20260420T121557
CREATED:20241127T105313Z
LAST-MODIFIED:20250226T134910Z
UID:6324-1746381600-1746401400@theblacklab.fr
SUMMARY:TEN56
DESCRIPTION:En accord avec Opus Live\,Les Triomphes du Metal Français & THE BLACK LAB présentent \n\n\n\nten56. – New Deathcore (FR) \n\n\n\nten56. ne s’est jamais arrêté depuis la présentation de leur premier single “Diazepam” en 2021. Le groupe franco-britannique a surpris l’industrie en emportant leur premier album dans les salles du monde entier\, sans intention de ralentir. Il est difficile de savoir exactement où ten56. ira ensuite\, mais le monde regarde et la réponse à la question n’est jamais trop loin. \n\n\n\nten56. c’est de la musique dark\, passée à la moulinette d’une machine industrielle pour donner un son apocalyptique. Une vision moderne et sombre de ce que l’avenir nous réserve. Un vecteur d’émotions brutes et sans compromis\, puisées dans les recoins les plus sombres de la nature humaine. \n\n\n\n\n\n\n\n\n\n\n\n\n\n\n\n\n\n\n\n\n\n\n\n\n\n\n\n\n\n\nACHETEZ VOS BILLETS\n\n\n\n\nPour toute revente de tickets merci d’utiliser la plateforme sécurisée de notre partenaire Ticketswap :https://www.ticketswap.fr/organizer/the-black-lab/1e321ecc-26b2-407d-beec-5e622438db8e
URL:https://theblacklab.fr/agenda/ten56/
CATEGORIES:ÉVÉNEMENT,SLIDER
ATTACH;FMTTYPE=image/png:https://theblacklab.fr/BL/wp-content/uploads/2024/11/TEN56-slider-1.png
END:VEVENT
BEGIN:VEVENT
DTSTART;TZID=Europe/Paris:20250508T190000
DTEND;TZID=Europe/Paris:20250508T233000
DTSTAMP:20260420T121557
CREATED:20240711T105658Z
LAST-MODIFIED:20240711T105924Z
UID:6088-1746730800-1746747000@theblacklab.fr
SUMMARY:THE BLACK LAB TRIBUTE FEST 2025
DESCRIPTION:THE BLACK LAB et SOAX PROD annoncent avec fierté : THE BLACK LAB TRIBUTE FEST 2025  \n\n\n\n LINE UP : JEUDI 8 MAI : Ouverture des portes à 19h19h45 Rage Against the Machine par Bombtracks21h15 Muse par Hypermassive22h45 Linkin Park par MeteoraFin des shows : 00h00 \n\n\n\n VENDREDI 9 MAI : Ouverture des portes à 19h19h45 System of a Down par Chop Suey (UK)21h15 Rammstein par Sonneschein22h45 Slipknot par Early MaggotsFin des shows : 00h00 \n\n\n\n SAMEDI 10 MAI : Ouverture des portes à 19h19h45 Red Hot Chili Peppers par Red Hot Experience21h15 Nirvana par Bleach (IT)22h45 Foo Fighters par Foo Fighters GB (UK)Fin des shows : 00h00 \n\n\n\n—————————————————————————————————— \n\n\n\nJEUDI 8 MAI :>>Rage Against the Machine par Bombtracks. \n\n\n\n>>Muse par Hypermassive.A l’initiative de Charles Vannerum et de Paul Dequeker\, deux fans inconditionnels de Muse\, Hypermassive naît en 2019. L’objectif est de transmettre cette passion commune pour le trio Anglais sur scène. En 2022\, Lucas Linussio les rejoint à la guitare. Ils sont prêts à mettre le feu au The Black Lab Tribute Fest 2025 avec de belles surprises ! Hypermassive c’est le Tribute de référence pour retrouver l’ambiance Muse près de chez soi. Son\, lumière\, jeu de scène\, tout est chorégraphié afin que l’immersion soit totale. Venez vous défouler sur les titres emblématiques comme Hysteria\, Uprising\, Plug In Baby\, Madness tout en n’oubliant pas de faire plaisir aux puristes. Pour tous les fans de Muse\, c’est un événement à ne pas rater ! \n\n\n\n>>Linkin Park par Meteora.METEORA a été formé dans le Nord de la France en 2015 par 5 amis fans de Linkin Park qui se connaissent depuis le collège. METEORA offre un show intense\, interactif et très professionnel\, basé essentiellement sur les premiers albums de Linkin Park\, ceux qui ont propulsé le groupe californien comme étendard de toute une génération marquée par le genre Nu-Metal au début des années 2000. \n\n\n\n—————————————————————————————————— \n\n\n\nPASS  JOURS : Regular 49€ (Nice Price 35€)Profitez de l’accès complet au festival le jeudi\, vendredi et samedi\, pour les 9 concerts.PASS  JOUR : Regular 25€ (Low Budget 20€ / Nice Price 18€ / -13 Ans Gratuit)Profitez de l’accès complet aux 3 concerts le soir de votre choix.ATTENTION  PASS 3 JOURS limités\, il n’y en aura pas pour tout le monde ! \n\n\n\n\n\n\n\n\n\n\n\n\n\n\n\n\n\n\n\n\n\n\n\n\nACHETEZ VOS BILLETS\n\n\n\n\nPour toute revente de tickets merci d’utiliser la plateforme sécurisée de notre partenaire Ticketswap :https://www.ticketswap.fr/organizer/the-black-lab/1e321ecc-26b2-407d-beec-5e622438db8e
URL:https://theblacklab.fr/agenda/the-black-lab-tribute-fest-2025/
CATEGORIES:ÉVÉNEMENT,SLIDER
ATTACH;FMTTYPE=image/png:https://theblacklab.fr/BL/wp-content/uploads/2024/07/TributeFest25-slider.png
END:VEVENT
BEGIN:VEVENT
DTSTART;TZID=Europe/Paris:20250509T190000
DTEND;TZID=Europe/Paris:20250509T233000
DTSTAMP:20260420T121557
CREATED:20240711T110136Z
LAST-MODIFIED:20240711T145304Z
UID:6093-1746817200-1746833400@theblacklab.fr
SUMMARY:THE BLACK LAB TRIBUTE FEST 2025
DESCRIPTION:THE BLACK LAB et SOAX PROD annoncent avec fierté : THE BLACK LAB TRIBUTE FEST 2025  \n\n\n\n LINE UP : JEUDI 8 MAI : Ouverture des portes à 19h19h45 Rage Against the Machine par Bombtracks21h15 Muse par Hypermassive22h45 Linkin Park par MeteoraFin des shows : 00h00 \n\n\n\n VENDREDI 9 MAI : Ouverture des portes à 19h19h45 System of a Down par Chop Suey (UK)21h15 Rammstein par Sonneschein22h45 Slipknot par Early MaggotsFin des shows : 00h00 \n\n\n\n SAMEDI 10 MAI : Ouverture des portes à 19h19h45 Red Hot Chili Peppers par Red Hot Experience21h15 Nirvana par Bleach (IT)22h45 Foo Fighters par Foo Fighters GB (UK)Fin des shows : 00h00 \n\n\n\n—————————————————————————————————— \n\n\n\nVENDREDI 9 MAI :>>System of a Down par Chop Suey (UK).Chop Suey est le tribute numéro un au Royaume-Uni aux cerveaux emblématiques du heavy metal\, System of a Down. Débutant en 2015\, leur première tournée a fait de sérieuses vagues sur le circuit rock et métal britannique et a rapidement consolidé une réputation grâce à leurs performances fulgurantes et énergiques des classiques et des favoris des fans du groupe arméno-américain. Que vous soyez fan de SOAD ou simplement de musique rock en général\, assurez-vous d’assister à cet hommage époustouflant en direct ! \n\n\n\n>>Rammstein par Sonnenschein.Sonnenschein est\, depuis 2011\, un groupe tribute dédié à l’iconique groupe allemand Rammstein. Avec une passion pour la musique et une dévotion pour rendre hommage à l’un des groupes les plus influents de l’industrie du métal\, Sonnenschein a créé une expérience de concert unique pour les fans de Rammstein.Les membres de Sonnenschein s’efforcent de capturer l’essence de Rammstein tout en y ajoutant leur propre touche artistique distinctive\, créant ainsi des moments mémorables lors de leurs spectacles. \n\n\n\n>>Slipknot par Early Maggots.Early Maggots est né de la volonté de faire connaître et perdurer l’oeuvre de Slipknot en live. Ce groupe\, fruit d’une rencontre entre membres expérimentés de la scène Metal française (Atlantis Chronicles\, In Arkadia\, Checkmate\, 91 Allstars) n’a qu’un but : transmettre leur passion aux néophytes et satisfaire les Maggots de la première heure.A travers l’imagerie et les morceaux les plus emblématiques de Slipknot\, Early Maggots a bien l’intention de faire vivre au public une expérience dans les coins les plus sombres de l’Iowa. \n\n\n\n—————————————————————————————————— \n\n\n\nPASS  JOURS : Regular 49€ (Nice Price 35€)Profitez de l’accès complet au festival le jeudi\, vendredi et samedi\, pour les 9 concerts.PASS  JOUR : Regular 25€ (Low Budget 20€ / Nice Price 18€ / -13 Ans Gratuit)Profitez de l’accès complet aux 3 concerts le soir de votre choix.ATTENTION  PASS 3 JOURS limités\, il n’y en aura pas pour tout le monde ! \n\n\n\n\n\n\n\n\n\n\n\n\n\n\n\n\n\n\n\n\n\n\n\n\nACHETEZ VOS BILLETS\n\n\n\n\nPour toute revente de tickets merci d’utiliser la plateforme sécurisée de notre partenaire Ticketswap :https://www.ticketswap.fr/organizer/the-black-lab/1e321ecc-26b2-407d-beec-5e622438db8e
URL:https://theblacklab.fr/agenda/the-black-lab-tribute-fest-2025-2/
CATEGORIES:ÉVÉNEMENT
ATTACH;FMTTYPE=image/png:https://theblacklab.fr/BL/wp-content/uploads/2024/07/TributeFest25-slider.png
END:VEVENT
BEGIN:VEVENT
DTSTART;TZID=Europe/Paris:20250510T190000
DTEND;TZID=Europe/Paris:20250510T233000
DTSTAMP:20260420T121557
CREATED:20240711T110346Z
LAST-MODIFIED:20240711T145203Z
UID:6095-1746903600-1746919800@theblacklab.fr
SUMMARY:THE BLACK LAB TRIBUTE FEST 2025
DESCRIPTION:THE BLACK LAB et SOAX PROD annoncent avec fierté : THE BLACK LAB TRIBUTE FEST 2025  \n\n\n\n LINE UP : JEUDI 8 MAI : Ouverture des portes à 19h19h45 Rage Against the Machine par Bombtracks21h15 Muse par Hypermassive22h45 Linkin Park par MeteoraFin des shows : 00h00 \n\n\n\n VENDREDI 9 MAI : Ouverture des portes à 19h19h45 System of a Down par Chop Suey (UK)21h15 Rammstein par Sonneschein22h45 Slipknot par Early MaggotsFin des shows : 00h00 \n\n\n\n SAMEDI 10 MAI : Ouverture des portes à 19h19h45 Red Hot Chili Peppers par Red Hot Experience21h15 Nirvana par Bleach (IT)22h45 Foo Fighters par Foo Fighters GB (UK)Fin des shows : 00h00 \n\n\n\n—————————————————————————————————— \n\n\n\nSAMEDI 10 MAI : >>Red Hot Chili Peppers par Red Hot Experience.Depuis 1984\, les Red Hot Chili Peppers se sont imposés dans le monde de la musique au travers de leur cocktail explosif de rock\, punk\, funk et pop.Après un passage remarqué au Black Lab en 2022\, Red Hot Exp revient jouer l’histoire de la discographie des Red Hot dans un show explosif mêlant classiques\, nouveautés\, et surprises. \n\n\n\n>>Nirvana par Bleach.Après son second album Nevermind en 1991\, Nirvana à révolutionné la musique populaire en y apportant son gout de rock alternatif qui inspira toute une generation de musiciens.Après 10 ans de tournée\, dont une avec Chad Channing\, batteur fondateur de Nirvana\, Le Tribute Bleach nous fait le plaisir de revenir d’Italie pour assommer le The Black Lab Tribute Fest de par sa ressemblance avec le groupe original. \n\n\n\n>>Foo Fighters par Foo Fighters GB (UK).Fondé en 2012\, Foo Fighters GB s’est rapidement imposé comme une force vivante avec laquelle il faut compter\, tout comme le groupe qu’ils cherchent à imiter.Grâce à des spectacles réguliers\, alimentés par l’adrénaline\, à guichets fermés et des apparitions aux festivals d’été à travers tout le Royaume-Uni (et occasionnellement\, même à l’étranger)\, Foo Fighters GB est l’un des meilleurs tribute de leur pays. \n\n\n\n—————————————————————————————————— \n\n\n\nPASS  JOURS : Regular 49€ (Nice Price 35€)Profitez de l’accès complet au festival le jeudi\, vendredi et samedi\, pour les 9 concerts.PASS  JOUR : Regular 25€ (Low Budget 20€ / Nice Price 18€ / -13 Ans Gratuit)Profitez de l’accès complet aux 3 concerts le soir de votre choix.ATTENTION  PASS 3 JOURS limités\, il n’y en aura pas pour tout le monde ! \n\n\n\n\n\n\n\n\n\n\n\n\n\n\n\n\n\n\n\n\n\n\n\n\nACHETEZ VOS BILLETS\n\n\n\n\nPour toute revente de tickets merci d’utiliser la plateforme sécurisée de notre partenaire Ticketswap :https://www.ticketswap.fr/organizer/the-black-lab/1e321ecc-26b2-407d-beec-5e622438db8e
URL:https://theblacklab.fr/agenda/the-black-lab-tribute-fest-2025-3/
CATEGORIES:ÉVÉNEMENT
ATTACH;FMTTYPE=image/png:https://theblacklab.fr/BL/wp-content/uploads/2024/07/TributeFest25-slider.png
END:VEVENT
BEGIN:VEVENT
DTSTART;TZID=Europe/Paris:20250513T190000
DTEND;TZID=Europe/Paris:20250513T233000
DTSTAMP:20260420T121557
CREATED:20241210T113405Z
LAST-MODIFIED:20241210T113408Z
UID:6366-1747162800-1747179000@theblacklab.fr
SUMMARY:DECAPITATED + CRYPTOSY + WARBRINGER + CARNATION
DESCRIPTION:En accord avec Garmonbozia Inc.\,THE BLACK LAB proudly presents \n\n\n\nDECAPITATED – death metal (POL)Infernal Bloodshed over Europe 2025 \n\n\n\nwith Very Special Guests : \n\n\n\nCRYPTOPSY – death metal (CAN)WARBRINGER – thrash metal (USA)CARNATION – death metal (BEL) \n\n\n\n\n\n\n\n\n\n\n\n\n\n\n\n\n\n\n\n\n\n\n\n\n\n\n\n\n\n\nACHETEZ VOS BILLETS\n\n\n\n\nPour toute revente de tickets merci d’utiliser la plateforme sécurisée de notre partenaire Ticketswap :https://www.ticketswap.fr/organizer/the-black-lab/1e321ecc-26b2-407d-beec-5e622438db8e
URL:https://theblacklab.fr/agenda/decapitated-cryptosy-warbringer-carnation/
CATEGORIES:ÉVÉNEMENT,SLIDER
ATTACH;FMTTYPE=image/png:https://theblacklab.fr/BL/wp-content/uploads/2024/12/DECAPITATED-slider.png
END:VEVENT
BEGIN:VEVENT
DTSTART;TZID=Europe/Paris:20250521T190000
DTEND;TZID=Europe/Paris:20250521T233000
DTSTAMP:20260420T121557
CREATED:20250116T113253Z
LAST-MODIFIED:20250116T113256Z
UID:6489-1747854000-1747870200@theblacklab.fr
SUMMARY:MARKY RAMONE'S BLITZKRIEG
DESCRIPTION:ACHETEZ VOS BILLETS
URL:https://theblacklab.fr/agenda/marky-ramones-blitzkrieg/
CATEGORIES:ÉVÉNEMENT,SLIDER
ATTACH;FMTTYPE=image/png:https://theblacklab.fr/BL/wp-content/uploads/2025/01/markyramones-slider.png
END:VEVENT
BEGIN:VEVENT
DTSTART;TZID=Europe/Paris:20250523T190000
DTEND;TZID=Europe/Paris:20250523T233000
DTSTAMP:20260420T121557
CREATED:20250113T211652Z
LAST-MODIFIED:20250513T092613Z
UID:6478-1748026800-1748043000@theblacklab.fr
SUMMARY:BACK TO WEMBLEY 1985
DESCRIPTION:Back to Wembley 1985  – L’Hommage au Mythique Live Aid  \n\n\n\nUne immersion totale dans l’événement le plus marquant de l’Histoire de la musique : le Live Aid de 1985.  \n\n\n\nRejoignez-nous pour une soirée exceptionnelle au THE BLACK LAB et revivez l’ambiance légendaire de Wembley 40 ans après ! \n\n\n\nUn Line-Up de Légende Reproductions fidèles des performances mythiques des plus grands artistes de l’époque\, dont : \n\n\n\nU2 The Rolling Stones David Bowie The Who The Beatles Elton JohnDire StraitsSting et Phil Collins  Et le point d’orgue de la soirée : une reproduction à l’identique de l’inoubliable performance de Queen !Vous retrouverez toute l’intensité\, la puissance et le charisme de Freddie Mercury et son groupe; dans un hommage à leur performance intemporelle. \n\n\n\nUne Expérience Hors du Commun  \n\n\n\nScénographie exceptionnelle : Plongez dans l’univers du Live Aid et téléportez vous à Londres en 1985. \n\n\n\nCostumes authentiques : Une reproduction fidèle des styles de l’époque\, pour un show 100% immersif. \n\n\n\nMusiciens professionnels : Une équipe talentueuse et passionnée\, qui reproduit les performances à l’identique. \n\n\n\n\n\n\n\n\n\n\n\n\n\n\n\n\n\n\n\n\n\n\n\n\nACHETEZ VOS BILLETS
URL:https://theblacklab.fr/agenda/back-to-wembley-1985/
CATEGORIES:ÉVÉNEMENT,SLIDER
ATTACH;FMTTYPE=image/png:https://theblacklab.fr/BL/wp-content/uploads/2025/01/backwembley-slider-3.png
END:VEVENT
BEGIN:VEVENT
DTSTART;TZID=Europe/Paris:20250527T193000
DTEND;TZID=Europe/Paris:20250527T233000
DTSTAMP:20260420T121557
CREATED:20250526T073643Z
LAST-MODIFIED:20250526T074038Z
UID:6729-1748374200-1748388600@theblacklab.fr
SUMMARY:THE GOOD\, THE BAD & THE LOCAL : Marigold + Vilo
DESCRIPTION:THE GOOD THE BAD AND THE LOCALSoirée entièrement dédiée au grunge/rock ! \n\n\n\n Début du live à 20h concert gratuit Programme : 2h de live rock/grunge \n\n\n\n 1ère partie de soirée : ViL0Le quatuor de la métropole vous emmènera dans leur univers rock aux mélodies entêtantes et aux saturations envoûtantes. Leur son vous rappellera des sonorités britanniques des années 90’ et 00’s.#rockisnotdeadhttps://www.facebook.com/share/1H6yzXeXwm/?mibextid=wwXIfr \n\n\n\n 2ème partie de soirée : MARIGOLD Nirvana Tribute BandHommage passionné de trois fans au trio iconique de Seattle. De retour au Black Lab pour la troisième fois avec une heure des plus grands titres de Nirvana. #GrungeIsNotDeadhttps://youtube.com/@marigoldfrenchnirvanatributeba…Réserve ton mardi 27 mai 2025 et viens partager une soirée grunge/rock \n\n\n\n\n\n\n\n\n\n\n\n \n\n\n\n\n\n\n\n\n\n\n\n\nEntrée gratuite toute la soirée !
URL:https://theblacklab.fr/agenda/the-good-the-bad-the-local-marigold-vilo/
CATEGORIES:ÉVÉNEMENT
ATTACH;FMTTYPE=image/png:https://theblacklab.fr/BL/wp-content/uploads/2024/02/GOODBADLOCAL-slider.png
END:VEVENT
END:VCALENDAR