BEGIN:VCALENDAR
VERSION:2.0
PRODID:-//THE BLACK LAB - ECPv6.6.4//NONSGML v1.0//EN
CALSCALE:GREGORIAN
METHOD:PUBLISH
X-ORIGINAL-URL:https://theblacklab.fr
X-WR-CALDESC:évènements pour THE BLACK LAB
REFRESH-INTERVAL;VALUE=DURATION:PT1H
X-Robots-Tag:noindex
X-PUBLISHED-TTL:PT1H
BEGIN:VTIMEZONE
TZID:Europe/Paris
BEGIN:DAYLIGHT
TZOFFSETFROM:+0100
TZOFFSETTO:+0200
TZNAME:CEST
DTSTART:20250330T010000
END:DAYLIGHT
BEGIN:STANDARD
TZOFFSETFROM:+0200
TZOFFSETTO:+0100
TZNAME:CET
DTSTART:20251026T010000
END:STANDARD
END:VTIMEZONE
BEGIN:VEVENT
DTSTART;TZID=Europe/Paris:20251101T190000
DTEND;TZID=Europe/Paris:20251101T233000
DTSTAMP:20260420T175644
CREATED:20250505T105945Z
LAST-MODIFIED:20251027T100519Z
UID:6680-1762023600-1762039800@theblacklab.fr
SUMMARY:THE DARK LAB 2 > DAY 2 > JE T'AIME + NNHMN + VIVE LA FÊTE + THE HACKER
DESCRIPTION:IMC & THE BLACK LAB proudly present \n\n\n\nTHE DARK LAB 2A gothic electro dark wave festival – 2nd edition \n\n\n\n7 bands + 3 djs2-days pass available : 50€ (hors frais de location)Gratis sunday afternoon for 2-days pass owners \n\n\n\nLe Pass 2 jours (31 oct + 1er nov à 50€) donne accès gratuit à l’événement du dimanche 2 novembre pour Forever Grey + Xwave radio show DJ set \n\n\n\nTickets 31 oct & pass 2-days + 1 gratis : https://ypl.me/Kpt \n\n\n\nTickets 1er nov & pass 2-days + 1 gratis : https://ypl.me/KpR \n\n\n\nTickets 2 nov & pass 2-days + 1 gratis : https://ypl.me/KpZ \n\n\n\n—/// Friday 31st october 2025 – 7pm > 2am \n\n\n\nDAS ICH – electrodarkwave legend (GER) / 0:45pm – 00:00am \n\n\n\n\n\n\n\n\n\n+ Patrick Codenys FRONT 242 DJ set – himself (BE) / 00:05am – 1:30am \n\n\n\n\n\n\n\n\n\n+ Traitrs – new wave post-punk (CAN) / 9:15pm – 10:15pm \n\n\n\n\n\n\n\n\n\n+ Dageist – new wave (FR) / 8:00pm – 8:45pm \n\n\n\n\n\n\n\n\n\nTarifs en prévente (hors frais de location) : https://ypl.me/KptKid 0€ / Nice price 20€ / Low budget 25€ / Regular 30€ (35€ sur place)— \n\n\n\n/// Saturday 1st november 2025 – 7pm > 3am \n\n\n\nVive La Fête – synth pop legend (BE) / 10:45pm – 00:00am \n\n\n\n\n\n\n\n\n\n+ The Hacker – electro EBM master (FR) / 00:05am – 2:30am \n\n\n\n\n\n\n\n\n\n+ NNHMN – dark electronic (GER) / 9:15pm – 10:15pm \n\n\n\n\n\n\n\n\n\n+ JE T’AIME – post punk new wave (FR) / 8:00pm – 8:45pm \n\n\n\n\n\n\n\n\n\nTarifs en prévente (hors frais de location) : https://ypl.me/KpRKid 0€ / Nice price 20€ / Low budget 25€ / Regular 30€ (35€ sur place)— \n\n\n\n/// Sunday 2nd november 2025 – 6pm > 10pm \n\n\n\nFOREVER GREY – dark wave (US) / 6:00pm – 6:30pm  \n\n\n\n\n\n\n\n\n\n+ Xwave radio show DJ set – chenapan (FR) / 6:30pm – 7:30pm \n\n\n\nTarifs en prévente (hors frais de location) : https://ypl.me/KpZKid 0€ / Nice price 10€ / Low budget 13€ / Regular 16€ (20€ sur place) \n\n\n\n———————————————————————————————————– \n\n\n\n° Tarif KID : Tarif équivalent en prévente et sur place dans la limite des places disponiblesEntrée gratuite pour les moins de 13 ans obligatoirement accompagnés d’un adulte et porteurs de protections auditives adaptéesJustificatif : carte d’identité \n\n\n\n° Tarif NICE PRICE : Tarif équivalent en prévente et sur place dans la limite des places disponiblesTarif très réduit pour les moins de 16 ans\, les étudiants\, les demandeurs d’emploi\, les bénéficiaires de minima sociaux et titulaire du PASS CULTUREJustificatifs : carte d’identité\, carte étudiante\, attestation France Travail\, attestation d’inscription aux différents organismes sociaux \n\n\n\n° Tarif LOW BUDGET : Tarif équivalent en prévente et sur place dans la limite des places disponiblesTarif réduit pour les personnes salariées\, indépendantes ou retraitées dont les revenus mensuels sont inférieurs à 1400€ nets qui ne peuvent bénéficier du tarif NICE PRICEJustificatifs : attestation de revenus comme un bulletin de paie récent\, avis d’impôts n-1\, relevé de pension… \n\n\n\n° Tarif REGULAR : Plein tarif en prévente / +5€ sur place dans la limite des places disponibles—Pour toute revente de tickets merci d’utiliser la plateforme sécurisée de notre partenaire Ticketswap :https://www.ticketswap.fr/organizer/the-black-lab/…—Avec le précieux soutien de @rapid_flyer pour tous nos événements @ THE BLACK LAB—La brasserie Moulins d’Ascq est fournisseur officiel des backstages de THE BLACK LAB et les artistes nous remercient tous les jours \n\n\n\n\n\n\n\n\n\n\n\n\n\n\n\n\n\n\n\n\n\n\n\n\nACHETEZ VOS BILLETS
URL:https://theblacklab.fr/agenda/the-dark-lab2-je-taime-nnhmn-vive-la-fete-the-hacker/
CATEGORIES:ÉVÉNEMENT,SLIDER
ATTACH;FMTTYPE=image/png:https://theblacklab.fr/BL/wp-content/uploads/2025/05/DARK-LAB-2-1er-slider.png
END:VEVENT
BEGIN:VEVENT
DTSTART;TZID=Europe/Paris:20251102T180000
DTEND;TZID=Europe/Paris:20251102T233000
DTSTAMP:20260420T175644
CREATED:20250505T112810Z
LAST-MODIFIED:20251027T101143Z
UID:6682-1762106400-1762126200@theblacklab.fr
SUMMARY:FOREVER GREY + XWAVE RADIO SHOW DJ SET
DESCRIPTION:IMC & THE BLACK LAB proudly present \n\n\n\nTHE DARK LAB 2A gothic electro dark wave festival – 2nd edition \n\n\n\n7 bands + 3 djs2-days pass available : 50€ (hors frais de location)Gratis sunday afternoon for 2-days pass owners \n\n\n\nLe Pass 2 jours (31 oct + 1er nov à 50€) donne accès gratuit à l’événement du dimanche 2 novembre pour Forever Grey + Xwave radio show DJ set \n\n\n\nTickets 31 oct & pass 2-days + 1 gratis : https://ypl.me/Kpt \n\n\n\nTickets 1er nov & pass 2-days + 1 gratis : https://ypl.me/KpR \n\n\n\nTickets 2 nov & pass 2-days + 1 gratis : https://ypl.me/KpZ \n\n\n\n—/// Friday 31st october 2025 – 7pm > 2am \n\n\n\nDAS ICH – electrodarkwave legend (GER) / 0:45pm – 00:00am \n\n\n\n\n\n\n\n\n\n+ Patrick Codenys FRONT 242 DJ set – himself (BE) / 00:05am – 1:30am \n\n\n\n\n\n\n\n\n\n+ Traitrs – new wave post-punk (CAN) / 9:15pm – 10:15pm \n\n\n\n\n\n\n\n\n\n+ Dageist – new wave (FR) / 8:00pm – 8:45pm \n\n\n\n\n\n\n\n\n\nTarifs en prévente (hors frais de location) : https://ypl.me/KptKid 0€ / Nice price 20€ / Low budget 25€ / Regular 30€ (35€ sur place)— \n\n\n\n/// Saturday 1st november 2025 – 7pm > 3am \n\n\n\nVive La Fête – synth pop legend (BE) / 10:45pm – 00:00am \n\n\n\n\n\n\n\n\n\n+ The Hacker – electro EBM master (FR) / 00:05am – 2:30am \n\n\n\n\n\n\n\n\n\n+ NNHMN – dark electronic (GER) / 9:15pm – 10:15pm \n\n\n\n\n\n\n\n\n\n+ JE T’AIME – post punk new wave (FR) / 8:00pm – 8:45pm \n\n\n\n\n\n\n\n\n\nTarifs en prévente (hors frais de location) : https://ypl.me/KpRKid 0€ / Nice price 20€ / Low budget 25€ / Regular 30€ (35€ sur place)— \n\n\n\n/// Sunday 2nd november 2025 – 6pm > 10pm \n\n\n\nFOREVER GREY – dark wave (US) / 6:00pm – 6:30pm \n\n\n\n\n\n\n\n\n\n+ Xwave radio show DJ set – chenapan (FR) / 6:30pm – 7:30pm \n\n\n\nTarifs en prévente (hors frais de location) : https://ypl.me/KpZKid 0€ / Nice price 10€ / Low budget 13€ / Regular 16€ (20€ sur place) \n\n\n\n———————————————————————————————————– \n\n\n\n° Tarif KID : Tarif équivalent en prévente et sur place dans la limite des places disponiblesEntrée gratuite pour les moins de 13 ans obligatoirement accompagnés d’un adulte et porteurs de protections auditives adaptéesJustificatif : carte d’identité \n\n\n\n° Tarif NICE PRICE : Tarif équivalent en prévente et sur place dans la limite des places disponiblesTarif très réduit pour les moins de 16 ans\, les étudiants\, les demandeurs d’emploi\, les bénéficiaires de minima sociaux et titulaire du PASS CULTUREJustificatifs : carte d’identité\, carte étudiante\, attestation France Travail\, attestation d’inscription aux différents organismes sociaux \n\n\n\n° Tarif LOW BUDGET : Tarif équivalent en prévente et sur place dans la limite des places disponiblesTarif réduit pour les personnes salariées\, indépendantes ou retraitées dont les revenus mensuels sont inférieurs à 1400€ nets qui ne peuvent bénéficier du tarif NICE PRICEJustificatifs : attestation de revenus comme un bulletin de paie récent\, avis d’impôts n-1\, relevé de pension… \n\n\n\n° Tarif REGULAR : Plein tarif en prévente / +5€ sur place dans la limite des places disponibles—Pour toute revente de tickets merci d’utiliser la plateforme sécurisée de notre partenaire Ticketswap :https://www.ticketswap.fr/organizer/the-black-lab/…—Avec le précieux soutien de @rapid_flyer pour tous nos événements @ THE BLACK LAB—La brasserie Moulins d’Ascq est fournisseur officiel des backstages de THE BLACK LAB et les artistes nous remercient tous les jours \n\n\n\n\n\n\n\n\n\n\n\n\n\n\n\n\n\n\n\n\n\n\n\n\nACHETEZ VOS BILLETS
URL:https://theblacklab.fr/agenda/forever-grey-xwave-radio-show-dj-set/
CATEGORIES:ÉVÉNEMENT,SLIDER
ATTACH;FMTTYPE=image/png:https://theblacklab.fr/BL/wp-content/uploads/2025/05/DARK-LAB-2-2-nov-slider.png
END:VEVENT
BEGIN:VEVENT
DTSTART;TZID=Europe/Paris:20251107T190000
DTEND;TZID=Europe/Paris:20251107T233000
DTSTAMP:20260420T175644
CREATED:20250505T115029Z
LAST-MODIFIED:20251015T115751Z
UID:6689-1762542000-1762558200@theblacklab.fr
SUMMARY:FRUSTRATION + GWENDOLINE + NO FILTER + CANTELEU
DESCRIPTION:THE BLACK LAB proudly presents \n\n\n\nFRUSTRATION – trop bien (fr)23h00 > 00h00https://frustrationblind.bandcamp.com \n\n\n\nGWENDOLINE – canon (fr)21h40 > 22h30https://gwendolineshlagwave.bandcamp.com \n\n\n\nNO FILTER – la bagarre (fr)20h30 > 21h10https://nofilter38.bandcamp.com/ \n\n\n\nCANTELEU – coin coin (fr)19h30 > 20h00https://canteleu.bandcamp.com/ \n\n\n\n———————————————————————————————– \n\n\n\nVendredi 7 novembre 2025Ouverture des portes 18h30 / fin des haricots 01h00 \n\n\n\nTarifs en prévente (hors frais de location) : https://ypl.me/K6X \n\n\n\nKid 0€ / Nice price 15€ / Low budget 20€ / Regular 25€ (30€ sur place) \n\n\n\n° Tarif KID : 0€ (tarif équivalent en prévente et sur place dans la limite des places disponibles)Entrée gratuite pour les moins de 13 ans obligatoirement accompagnés d’un adulte et porteurs de protections auditives adaptéesJustificatif : carte d’identité \n\n\n\n° Tarif NICE PRICE : 15€ (tarif équivalent en prévente et sur place dans la limite des places disponibles)Tarif très réduit pour les moins de 16 ans\, les étudiants\, les demandeurs d’emploi\, les bénéficiaires de minima sociaux et titulaire du PASS CULTUREJustificatifs : carte d’identité\, carte étudiante\, attestation France Travail\, attestation d’inscription aux différents organismes sociaux \n\n\n\n° Tarif LOW BUDGET : 20€ (tarif équivalent en prévente et sur place dans la limite des places disponibles)Tarif réduit pour les personnes salariées\, indépendantes ou retraitées dont les revenus mensuels sont inférieurs à 1400€ nets qui ne peuvent bénéficier du tarif NICE PRICEJustificatifs : attestation de revenus comme un bulletin de paie récent\, avis d’impôts n-1\, relevé de pension… \n\n\n\n° Tarif REGULAR : 25€ en prévente / 30€ sur place dans la limite des places disponibles—Pour toute revente de tickets merci d’utiliser la plateforme sécurisée de notre partenaire Ticketswap :https://www.ticketswap.fr/…/1e321ecc-26b2-407d-beec…—Avec le précieux soutien de @rapid_flyer pour tous nos événements @ THE BLACK LAB—La brasserie Moulins d’Ascq est fournisseur officiel des backstages de THE BLACK LAB et les artistes nous remercient tous les jours \n\n\n\n\n\n\n\n\n\n\n\n\n\n\n\n\n\n\n\n\n\n\n\n\nACHETEZ VOS BILLETS
URL:https://theblacklab.fr/agenda/frustration-gwendoline-no-filter-canteleu/
CATEGORIES:ÉVÉNEMENT,SLIDER
ATTACH;FMTTYPE=image/png:https://theblacklab.fr/BL/wp-content/uploads/2025/05/Frustration-slider.png
END:VEVENT
BEGIN:VEVENT
DTSTART;TZID=Europe/Paris:20251112T190000
DTEND;TZID=Europe/Paris:20251112T233000
DTSTAMP:20260420T175644
CREATED:20251106T140403Z
LAST-MODIFIED:20251106T144625Z
UID:7038-1762974000-1762990200@theblacklab.fr
SUMMARY:STRAY FROM THE PATH + ALPHA WOLF + GRAPHIC NATURE + CALVA LOUISE
DESCRIPTION:DATE INITIALEMENT PRÉVUE AU SPLENDID – LES BILLETS RESTENT VALABLES POUR LE BLACK LAB \n\n\n\nSTRAY FROM THE PATH➤ Stray From The Path\, groupe hardcore de Long Island (NY)\, est revenu en force en 2022 avec Euthanasia\, leur album le plus sombre et le plus intense. Marqué par des épreuves personnelles et mondiales\, l’album mêle riffs puissants\, rythmique implacable et paroles engagées dans une ambiance plus oppressante que jamais. \n\n\n\nActifs depuis plus de 20 ans\, Stray From The Path s’est donné pour mission de combiner musique heavy et message radical. Euthanasia\, produit par Will Putney (Knocked Loose\, Body Count)\, reflète cette maturité : un hardcore abrasif\, des influences hip-hop\, et une atmosphère apocalyptique qui ne lâche jamais l’auditeur. \n\n\n\n+ ALPHA WOLF + GRAPHIC NATURE + CALVA LOUISE \n\n\n\n \n\n\n\n\n\n\n\n\n\n\n\n\n\n\n\n\n\n\n\n\nACHETEZ VOS BILLETS
URL:https://theblacklab.fr/agenda/stray-from-the-path/
CATEGORIES:ÉVÉNEMENT,SLIDER
ATTACH;FMTTYPE=image/png:https://theblacklab.fr/BL/wp-content/uploads/2025/11/STRAY-FROM-THE-PATH.png
END:VEVENT
BEGIN:VEVENT
DTSTART;TZID=Europe/Paris:20251115T190000
DTEND;TZID=Europe/Paris:20251115T233000
DTSTAMP:20260420T175644
CREATED:20251014T093536Z
LAST-MODIFIED:20251015T115424Z
UID:6972-1763233200-1763249400@theblacklab.fr
SUMMARY:UGLY KID JOE
DESCRIPTION:UGLY KID JOE  \n\n\n\nAprès deux sold out à six mois d’intervalle en 2024\, Ugly Kid Joe revient avec un last minute show infernal le samedi 15 novembre 2025 @ THE BLACK LAB\, Wasquehal\, North of France. Star mondiale depuis les nineties\, tout le monde connait notamment le single hit “Everything About You”\, titre phare de la B.O. du fabuleux film Wayne’s World. En live le groupe dépote\, on ne saurait trop vous conseiller de prendre rapidement vos billets. \n\n\n\nPour toute revente de tickets merci d’utiliser la plateforme sécurisée de notre partenaire Ticketswap :https://www.ticketswap.fr/…/1e321ecc-26b2-407d-beec… \n\n\n\n \n\n\n\n\n\n\n\n\n\n\n\n\n\n\n\n\n\n\n\n\n\n\n\n\nACHETEZ VOS BILLETS
URL:https://theblacklab.fr/agenda/ugly-kid-joe-2/
CATEGORIES:ÉVÉNEMENT,SLIDER
ATTACH;FMTTYPE=image/png:https://theblacklab.fr/BL/wp-content/uploads/2025/10/ugly-Yurplan.png
END:VEVENT
BEGIN:VEVENT
DTSTART;TZID=Europe/Paris:20251121T200000
DTEND;TZID=Europe/Paris:20251121T233000
DTSTAMP:20260420T175644
CREATED:20250625T135647Z
LAST-MODIFIED:20250625T135648Z
UID:6782-1763755200-1763767800@theblacklab.fr
SUMMARY:LES HURLEMENTS D'LÉO
DESCRIPTION:LES HURLEMENTS D’LÉO➤ C’était en 1996 : Laurent Kebous et Erwan Naour unissaient leurs plumes pour écrire Le Café des Jours Heureux\, détonateur de près de trois décennies de chanson\, de partage et de scène en France et dans plus de quarante pays.En 2022\, après une pause nécessaire\, Erwan revient dans la meute. Sur scène\, c’est une déferlante\, l’équipe plus solide que jamais. Et l’alchimie opère partout où les Hurlements allument la mèche.En coulisses\, les deux frères d’âme redécouvrent le plaisir d’écrire ensemble. Ils proposent leurs idées et le feu créatif se propage avec enthousiasme au reste du crew.De cette effervescence naît une évidence : il est temps de créer à nouveau\, de donner naissance à un album façonné à plusieurs mains\, à plusieurs coeurs. Ce n’est plus une envie…mais un besoin.Ce nouvel album\, qui sortira à la fin septembre 2025 chez le label At(h)ome\, est celui d’un collectif\, emprunt de l’ADN qui a fait son succès. Fidèle à son goût de l’aventure et à l’exploration de nouveaux sentiers\, les poumons amples.Comme un clin d’oeil au destin\, le groupe retrouve aujourd’hui 3C\, ce partenaire historique qui les a accompagnés à leurs débuts\, entre 1996 et 2006.Les Hurlements\, sont de retour\, et avec eux\, l’énergie\, l’émotion\, et la promesse d’instants qui de nos jours se font trop rares. La scène les attend. Leur public aussi. \n\n\n\n \n\n\n\n\n\n\n\n\n\n\n\n\n\n\n\n\n\n\n\n\n\n\n\n\nACHETEZ VOS BILLETS
URL:https://theblacklab.fr/agenda/les-hurlements-dleo/
CATEGORIES:ÉVÉNEMENT,SLIDER
ATTACH;FMTTYPE=image/png:https://theblacklab.fr/BL/wp-content/uploads/2025/06/hurlement-slider.png
END:VEVENT
BEGIN:VEVENT
DTSTART;TZID=Europe/Paris:20251122T190000
DTEND;TZID=Europe/Paris:20251122T233000
DTSTAMP:20260420T175644
CREATED:20250625T140925Z
LAST-MODIFIED:20251101T170408Z
UID:6786-1763838000-1763854200@theblacklab.fr
SUMMARY:BACK TO WEMBLEY 1985 - 2ème séance !
DESCRIPTION:Back to Wembley 1985 – Le Multi-Tribute Show. \n\n\n\nBack to Wembley 1985 revient au The Black Lab avec une version améliorée de son show ! Rejoignez-nous pour une soirée exceptionnelle au THE BLACK LAB et revivez l’ambiance légendaire de Wembley 40 ans après ! \n\n\n\nUn Line-Up de Légende Reproductions fidèles des performances mythiques des plus grands artistes de l’époque\, dont :U2The Rolling StonesDavid BowieThe WhoThe BeatlesElton JohnDire StraitsSting et Phil Collins Et le point d’orgue de la soirée : une reproduction fidèle de l’inoubliable performance de Queen !Vous retrouverez toute l’intensité\, la puissance et le charisme de Freddie Mercury et son groupe; dans un hommage à leur performance intemporelle. \n\n\n\nUne Expérience Hors du Commun Scénographie exceptionnelle :Plongez dans l’univers d’un stade et téléportez vous à Londres en 1985.Costumes authentiques : Une reproduction fidèle des styles de l’époque\, pour un show 100% immersif.Musiciens professionnels : Une équipe talentueuse et passionnée\, qui reproduit les performances des groupes à l’identique. \n\n\n\n \n\n\n\n\n\n\n\n\n\n\n\n\n\n\n\n\n\n\n\n\n\n\n\n\nACHETEZ VOS BILLETS
URL:https://theblacklab.fr/agenda/back-to-wembley-1985-2eme-seance/
CATEGORIES:ÉVÉNEMENT,SLIDER
ATTACH;FMTTYPE=image/png:https://theblacklab.fr/BL/wp-content/uploads/2025/06/backwembley-slider.png
END:VEVENT
BEGIN:VEVENT
DTSTART;TZID=Europe/Paris:20251125T200000
DTEND;TZID=Europe/Paris:20251125T233000
DTSTAMP:20260420T175644
CREATED:20251027T103028Z
LAST-MODIFIED:20251126T144208Z
UID:7012-1764100800-1764113400@theblacklab.fr
SUMMARY:THE GOOD\, THE BAD & THE LOCAL - CONCERT ROCK/ METAL - BLACK OLD SOUND + MADJORA
DESCRIPTION:BLACK OLD SOUND \n\n\n\nBlack Old Sound est un groupe de rock Nordiste formé en 2021\, d’une grosse envie de brûler des extincteurs et de casser des sismographes. Pour ce faire\, le groupe balance des morceaux aussi nerveux que massifs d’un rock puissant\, énergique\, mélodique\, et varié\, qui vous attrape par les gonades et vous emmène faire un tour. Malgré des influences aussi variées qu’un rayon « bières » en Belgique\, la recette est simple : des guitares\, de la voix\, du rythme et du feu. Beaucoup de feu.Après 2 salves de concerts suivant la sortie de « BOS » (3 titres) en 2022\, et de « Wasted » en 2024\, disponibles sur toutes les plateformes\, le groupe rode son nouveau line up à la crémation scénique\, et prépare une nouvelle saison à vous souder leurs morceaux dans les oreilles. A coups de refrains. Et de chalumeau.https://www.facebook.com/BlackOldSound \n\n\n\n \n\n\n\nMADJORA \n\n\n\nFormé en 2018\, Madjora est un groupe de métal alternatif provenant de Lille\, mêlant énergie et atmosphères lourdes. Il est composé de quatre musiciens : Mathilde (voix)\, Sébastien (guitare)\, Alexis (basse) et Antoine (batterie). Le groupe a sorti son premier EP en décembre 2023\, disponible sur les plateformes de streaming.https://www.facebook.com/MADJORA/ \n\n\n\nAlors venez vous réchauffer avec nous le 25/11 au BlackLab ! Prévoyez des bouchons d’oreilles (et un extincteur) \n\n\n\n\n\n\n\n\n\n\n\n\nEntrée gratuite toute la soirée !
URL:https://theblacklab.fr/agenda/concert-rock-metal-black-old-sound-madjora-gratuit/
CATEGORIES:ÉVÉNEMENT
ATTACH;FMTTYPE=image/png:https://theblacklab.fr/BL/wp-content/uploads/2024/02/GOODBADLOCAL-slider.png
END:VEVENT
BEGIN:VEVENT
DTSTART;TZID=Europe/Paris:20251126T193000
DTEND;TZID=Europe/Paris:20251126T233000
DTSTAMP:20260420T175644
CREATED:20251106T160120Z
LAST-MODIFIED:20251107T155125Z
UID:7045-1764185400-1764199800@theblacklab.fr
SUMMARY:CACHEMIRE + CASABLANCA DRIVERS + SKINNY BAMBIES
DESCRIPTION:Soirée Rock du festival Le Père Noël est il un Rocker ?avec les concerts sulfureux de : \n\n\n\n– CACHEMIRE– CASABLANCA DRIVERS– SKINNY BAMBIES \n\n\n\n@ THE BLACK LAB8 Rue des Champs\, 59290 Wasquehal \n\n\n\n\n\n\n\n\n\n\n\n\n\n\n\n\n\n\n\n\nACHETEZ VOS BILLETS
URL:https://theblacklab.fr/agenda/soiree-rock-cachemire-le-pere-noel-est-il-un-rocker/
CATEGORIES:ÉVÉNEMENT,SLIDER
ATTACH;FMTTYPE=image/png:https://theblacklab.fr/BL/wp-content/uploads/2025/11/CACHEMIRE-2-scaled.png
END:VEVENT
BEGIN:VEVENT
DTSTART;TZID=Europe/Paris:20251127T190000
DTEND;TZID=Europe/Paris:20251127T233000
DTSTAMP:20260420T175644
CREATED:20250625T142553Z
LAST-MODIFIED:20251107T190559Z
UID:6790-1764270000-1764286200@theblacklab.fr
SUMMARY:DEAFHEAVEN + PORTRAYAL OF GUILT + ZERUEL
DESCRIPTION:Cerbère Coryphée et THE BLACK LAB proudly present :Deafheaven (US/ blackgaze)Formé à San Francisco\, Deafheaven est composé du chanteur George Clarke\, des guitaristes Kerry McCoy et Shiv Mehra\, du bassiste Christopher Johnson et du batteur Daniel Tracy. Le groupe a été largement acclamé pour son album révolutionnaire de 2013\, Sunbather\, qui a redéfini les limites de la du heavy et a été classé parmi les 100 meilleurs albums de métal de tous les temps par Rolling Stone et les 200 meilleurs albums des années 2010 par Pitchfork. Deafheaven a de nouveau défié les conventions du genre avec leur album New Bermuda en 2015 tandis que leur celui de 2018\, Ordinary Corrupt Human Love a valu au groupe sa toute première nomination aux GRAMMY dans la catégorie « Meilleure performance metal ». L’album Infinite Granite\, sorti en 2021\, poursuit l’évolution du groupe et le galvanise avec un raffinement axé sur des textures plus luxuriantes et des mélodies plus douces. Vénéré pour ses concerts transcendants\, le groupe a fait le tour du monde en se produisant dans des festivals tels que Coachella et Primavera Sound\, tout en partageant la scène avec Slipknot\, Knocked Loose\, Chelsea Wolfe et Mono.https://deafheaven.com/https://www.facebook.com/deafheavenhttps://www.instagram.com/deafheavenband/https://twitter.com/deafheavenbandhttps://ffm.to/dfhvn-ig \n\n\n\n\n\n\n\n\n\nPortrayal of Guilt (US/ post hardcore)Si le groupe d’Austin\, au Texas\, a sorti des morceaux à un rythme effréné depuis sa formation il y a seulement six ans\, il était quasiment impossible de prédire le son de chaque album suivant. Le seul aperçu de ce à quoi on pouvait s’attendre était les titres de ces albums\, qui abordent des thèmes comme la souffrance\, l’isolement et de simples allusions aux bas-fonds. Naturellement\, cela mène à… Devil Music.Des paysages sonores implacables\, nihilistes et hurlants\, créés par King\, le batteur James Beveridge et le bassiste Alex Stanfield. Chaque morceau raconte une histoire se déroulant dans un environnement des plus sombres\, que l’auditeur peut interpréter et explorer.https://portrayalofguilt.com/https://www.facebook.com/portrayalofguilthttps://portrayalofguilt.bandcamp.com/album/devil-music \n\n\n\n\n\n\n\n\n\nZeruel (US/ modern-metalcore and bright shoegaze)Fantaisie… Ambiance éthérée et expression cinématographique. Avec ce qu’il considère comme du « dark-gaze/ambient metal »\, la vision artistique de Zeruel mêle différents aspects du metalcore moderne féroce et du shoegaze lumineux\, ainsi que des caractéristiques de la musique classique\, pour offrir à l’auditeur un son cinématographique à l’expression chaleureuse dans chacune de ses chansons. \n\n\n\nhttps://zeruel.bandcamp.com/https://www.instagram.com/zeruel.xiv/?hl=frhttps://linktr.ee/zeruel14https://www.youtube.com/@zeruelevangelion14 \n\n\n\n\n\n\n\n\n\n……… \n\n\n\n \n\n\n\n\n\n\n\n\n\n\n\n\n\n\n\n\n\n\n\n\n\n\n\n\nACHETEZ VOS BILLETS
URL:https://theblacklab.fr/agenda/deafheaven-portrayal-of-guilt-zeruel/
CATEGORIES:ÉVÉNEMENT,SLIDER
ATTACH;FMTTYPE=image/png:https://theblacklab.fr/BL/wp-content/uploads/2025/06/backwembley-slider-2.png
END:VEVENT
BEGIN:VEVENT
DTSTART;TZID=Europe/Paris:20251130T180000
DTEND;TZID=Europe/Paris:20251130T233000
DTSTAMP:20260420T175644
CREATED:20250410T120737Z
LAST-MODIFIED:20250410T120738Z
UID:6657-1764525600-1764545400@theblacklab.fr
SUMMARY:GUILT TRIP + BIG BOY + WHISPERS + CALCINE
DESCRIPTION:En accord avec Opus Live\,Taste of Mind\, Play Loud & THE BLACK LAB proudly present \n\n\n\nGUILT TRIP – Crossover (UK)+ BIG BOY – Real bay shit (US)+ WHISPERS – Bangkok evilcore (THA)+ CALCINE – Paris Hardcore (FR) \n\n\n\n————————————————————————— \n\n\n\nDimanche 30 novembre 2025Ouverture des portes 18h00 / fin des haricots 23h00Kid 0€ / Nice price 15€ / Low budget 20€ / Regular 25€ (30€ sur place) \n\n\n\n° Tarif KID : 0€ (tarif équivalent en prévente et sur place dans la limite des places disponibles)Entrée gratuite pour les moins de 13 ans obligatoirement accompagnés d’un adulte et porteurs de protections auditives adaptéesJustificatif : carte d’identité \n\n\n\n° Tarif NICE PRICE : 15€ (tarif équivalent en prévente et sur place dans la limite des places disponibles)Tarif très réduit pour les moins de 16 ans\, les étudiants\, les demandeurs d’emploi\, les bénéficiaires de minima sociaux et titulaire du PASS CULTUREJustificatifs : carte d’identité\, carte étudiante\, attestation France Travail\, attestation d’inscription aux différents organismes sociaux \n\n\n\n° Tarif LOW BUDGET : 20€ (tarif équivalent en prévente et sur place dans la limite des places disponibles)Tarif réduit pour les personnes salariées\, indépendantes ou retraitées dont les revenus mensuels sont inférieurs à 1400€ nets qui ne peuvent bénéficier du tarif NICE PRICEJustificatifs : attestation de revenus comme un bulletin de paie récent\, avis d’impôts n-1\, relevé de pension… \n\n\n\n° Tarif REGULAR : 25€ en prévente / 30€ sur place dans la limite des places disponibles—Pour toute revente de tickets merci d’utiliser la plateforme sécurisée de notre partenaire Ticketswap :https://www.ticketswap.fr/…/1e321ecc-26b2-407d-beec…—Avec le précieux soutien de @rapid_flyer pour tous nos événements @ THE BLACK LAB—La brasserie Moulins d’Ascq est fournisseur officiel des backstages de THE BLACK LAB et les artistes nous remercient tous les jours. \n\n\n\n\n\n\n\n\n\n\n\n\n\n\n\n\n\n\n\n\n\n\n\n\nACHETEZ VOS BILLETS
URL:https://theblacklab.fr/agenda/guilt-trip-big-boy-whispers-calcine/
CATEGORIES:ÉVÉNEMENT,SLIDER
ATTACH;FMTTYPE=image/png:https://theblacklab.fr/BL/wp-content/uploads/2025/04/B-slider.png
END:VEVENT
END:VCALENDAR