BEGIN:VCALENDAR
VERSION:2.0
PRODID:-//THE BLACK LAB - ECPv6.6.4//NONSGML v1.0//EN
CALSCALE:GREGORIAN
METHOD:PUBLISH
X-WR-CALNAME:THE BLACK LAB
X-ORIGINAL-URL:https://theblacklab.fr
X-WR-CALDESC:évènements pour THE BLACK LAB
REFRESH-INTERVAL;VALUE=DURATION:PT1H
X-Robots-Tag:noindex
X-PUBLISHED-TTL:PT1H
BEGIN:VTIMEZONE
TZID:Europe/Paris
BEGIN:DAYLIGHT
TZOFFSETFROM:+0100
TZOFFSETTO:+0200
TZNAME:CEST
DTSTART:20260329T010000
END:DAYLIGHT
BEGIN:STANDARD
TZOFFSETFROM:+0200
TZOFFSETTO:+0100
TZNAME:CET
DTSTART:20261025T010000
END:STANDARD
END:VTIMEZONE
BEGIN:VEVENT
DTSTART;TZID=Europe/Paris:20260106T200000
DTEND;TZID=Europe/Paris:20260106T233000
DTSTAMP:20260422T123621
CREATED:20251219T124552Z
LAST-MODIFIED:20251222T123652Z
UID:7127-1767729600-1767742200@theblacklab.fr
SUMMARY:THE GOOD\, THE BAD AND THE LOCAL : LITTLE DROP + KARPE DILEMME
DESCRIPTION:Après une année 2025 mouvementée\, Karpe Dilemme & Little Drop se retrouvent pour partager la scène du Black Lab le 06 Janvier 2026 dans le cadre des “THE GOOD\, THE BAD & THE LOCAL ” ! \n\n\n\n\n\n\n\n \n\n\n\n\n\n\n\n\n\n\n\n\n\n\n\n\n\n\n\n\n\n\nEntrée gratuite toute la soirée !
URL:https://theblacklab.fr/agenda/the-good-the-bad-and-the-local-little-drop-karpe-dilemme/
CATEGORIES:ÉVÉNEMENT
ATTACH;FMTTYPE=image/png:https://theblacklab.fr/BL/wp-content/uploads/2024/02/GOODBADLOCAL-slider.png
END:VEVENT
BEGIN:VEVENT
DTSTART;TZID=Europe/Paris:20260111T190000
DTEND;TZID=Europe/Paris:20260111T233000
DTSTAMP:20260422T123621
CREATED:20250603T200222Z
LAST-MODIFIED:20250603T200223Z
UID:6737-1768158000-1768174200@theblacklab.fr
SUMMARY:Motocultor Tour 2026 • NANOWAR OF STEEL + UUHAI
DESCRIPTION:ACCESS LIVE PRESENTE : Le Motocultor Across Europe Tour 2026 ! \n\n\n\nDes champs de Bretagne aux clubs et salles de concert d’Europe\, l’esprit du 𝐌𝐨𝐭𝐨𝐜𝐮𝐥𝐭𝐨𝐫 𝐅𝐞𝐬𝐭𝐢𝐯𝐚𝐥 reprend la route ! Préparez-vous pour un voyage épique avec deux des groupes de metal les plus originaux et électrisants\, dans 27 villes à travers 9 pays. \n\n\n\nDu 9 janvier au 8 février 2025\, les fans de tout le continent assisteront à une célébration du metal sans frontières\, mêlant satire\, culture et puissance ! \n\n\n\n𝐍𝐀𝐍𝐎𝐖𝐀𝐑 𝐎𝐅 𝐒𝐓𝐄𝐄𝐋 – Les champions incontestés du metal parodique en Italie débarquent avec leurs performances théâtrales et délirantes. Alliant humour absurde et virtuosité musicale\, Nanowar of Steel tourne en dérision tous les recoins de l’univers metal tout en assurant un show digne des plus grandes scènes. Attendez-vous à des costumes\, des chants avec le public\, des power ballads\, des chœurs vikings… et peut-être même un lama ou deux (sans garantie). \n\n\n\n𝐔𝐔𝐇𝐀𝐈 – En provenance des vastes steppes de Mongolie\, Uuhai fusionne le chant diphonique traditionnel et les instruments folkloriques avec l’énergie du metal moderne et un récit puissant. En co-tête d’affiche\, ils offriront une expérience live envoûtante et immersive\, transcendant les cultures et les frontières : un parfait contrepoids à l’univers déjanté de Nanowar. \n\n\n\n \n\n\n\n\n\n\n\n\n\n\n\n\n\n\n\n\n\n\n\n\n\n\n\n\nACHETEZ VOS BILLETS
URL:https://theblacklab.fr/agenda/motocultor-tour-2026-nanowar-of-steel-uuhai/
CATEGORIES:ÉVÉNEMENT,SLIDER
ATTACH;FMTTYPE=image/png:https://theblacklab.fr/BL/wp-content/uploads/2025/05/nanowar-slider.png
END:VEVENT
BEGIN:VEVENT
DTSTART;TZID=Europe/Paris:20260113T200000
DTEND;TZID=Europe/Paris:20260113T233000
DTSTAMP:20260422T123621
CREATED:20251222T135748Z
LAST-MODIFIED:20251222T140021Z
UID:7180-1768334400-1768347000@theblacklab.fr
SUMMARY:THE GOOD\, THE BAD AND LOCAL : INVERNESS + HAMMERS & THE NAILS
DESCRIPTION:Le Black Lab accueille dès 20h le mardi 13 janvier : \n\n\n\nINVERNESS:Groupe de Post-Rock instrumental lillois aux influences rock prog et psyché \n\n\n\nHAMMERS AND THE NAILS:Le quintet lillois de Rock Alt revient sur la scène grandiose du BL avec ses nouveaux riffs enflammés et son énergie explosive pour garantir une puissante seconde partie de concert \n\n\n\n\n\n\n\n\n\n\n\n\n\n\n\n\n\n\n\n\n\n\n\n\n\n\nEntrée gratuite toute la soirée !
URL:https://theblacklab.fr/agenda/the-good-the-bad-and-local-inverness-hammers-the-nails/
CATEGORIES:ÉVÉNEMENT
ATTACH;FMTTYPE=image/png:https://theblacklab.fr/BL/wp-content/uploads/2024/02/GOODBADLOCAL-slider.png
END:VEVENT
BEGIN:VEVENT
DTSTART;TZID=Europe/Paris:20260115T190000
DTEND;TZID=Europe/Paris:20260115T233000
DTSTAMP:20260422T123621
CREATED:20251205T085148Z
LAST-MODIFIED:20251222T123549Z
UID:7105-1768503600-1768519800@theblacklab.fr
SUMMARY:SUICIDE - LYDIA LUNCH & MARC HURTADO
DESCRIPTION:SUICIDE & ALAN VEGA  \n\n\n\nLydia Lunch & Marc Hurtado play Suicide and Alan Vega songs \n\n\n\nMarc Hurtado et son frère se sont faits connaître par leur duo expérimental-indus\, Étant Donnés (référence à Marcel Duchamp) et avaient invité Alan Vega sur l’album Re-Up en 1999. Ils s’étaient également retrouvés sur scène au Centre Pompidou de Paris avec Christophe (le chanteur) en 2004. Hurtado est à la base du concept de Nouvelle Musique Électronique\, ayant travaillé avec Lydia LUNCH\, Gabi Delgado (D.A.F) et Michael Gira (Swans)\, il ne pouvait pas manquer de croiser le chemin d’Alan Vega et enfanter l’infernal album “Sniper” paru sur le Son du Maquis en 2010. \n\n\n\nLydia Lunch a croisé la route d’Alan Vega et de Martin Rev dès la fin des années 70 à son arrivée à New York à l’âge de 16 ans. Elle a joué avec eux sur scène et sur « Frankie Teardrop » de Suicide et elle a participé à l’album “Sniper” d’Alan Vega et Marc Hurtado en 2010. Insatiable\, elle a travaillé avec Nick Cave\, William Burroughs ou Virginie Despentes risquant de perdre la vie des dizaines de fois pour son art. \n\n\n\nCet hommage à l’œuvre de Suicide et Alan Vega est d’autant plus légitime qu’il est porté avec fougue et désespoir par deux êtres possédés et totalement habités par les démons Rev et Vega. \n\n\n\nAux platines avant et après le show\, nous retrouverons l’infâme Beau Bluff aka Pascal Descamps (Forest Sessions) pour nous enivrer de ses mixs douteux puisés aux confins de sa discographie abyssale. \n\n\n\n\n\n\n\n° Tarif KID : 0€ (tarif équivalent en prévente et sur place dans la limite des places disponibles)Entrée gratuite pour les moins de 13 ans obligatoirement accompagnés d’un adulte et porteurs de protections auditives adaptéesJustificatif : carte d’identité \n\n\n\n° Tarif NICE PRICE : 15€ (tarif équivalent en prévente et sur place dans la limite des places disponibles)Tarif très réduit pour les moins de 16 ans\, les étudiants\, les demandeurs d’emploi\, les bénéficiaires de minima sociaux et titulaire du PASS CULTUREJustificatifs : carte d’identité\, carte étudiante\, attestation France Travail\, attestation d’inscription aux différents organismes sociaux \n\n\n\n° Tarif LOW BUDGET : 20€ (tarif équivalent en prévente et sur place dans la limite des places disponibles)Tarif réduit pour les personnes salariées\, indépendantes ou retraitées dont les revenus mensuels sont inférieurs à 1450€ nets qui ne peuvent bénéficier du tarif NICE PRICEJustificatifs : attestation de revenus comme un bulletin de paie récent\, avis d’impôts n-1\, relevé de pension… \n\n\n\n° Tarif REGULAR : 20€ en prévente / 25€ sur place dans la limite des places disponibles—Pour toute revente de tickets merci d’utiliser la plateforme sécurisée de notre partenaire Ticketswap :https://www.ticketswap.fr/…/1e321ecc-26b2-407d-beec… \n\n\n\n\n\n\n\n\n\n\n\n\n\n\n\n\n\n\n\n\nACHETEZ VOS BILLETS
URL:https://theblacklab.fr/agenda/sucde-alan-vega/
CATEGORIES:ÉVÉNEMENT,SLIDER
ATTACH;FMTTYPE=image/png:https://theblacklab.fr/BL/wp-content/uploads/2025/12/Suicide-facebookevent.png
END:VEVENT
BEGIN:VEVENT
DTSTART;TZID=Europe/Paris:20260120T200000
DTEND;TZID=Europe/Paris:20260120T233000
DTSTAMP:20260422T123621
CREATED:20251216T153451Z
LAST-MODIFIED:20251216T153614Z
UID:7124-1768939200-1768951800@theblacklab.fr
SUMMARY:THE GOOD\, THE BAD AND THE LOCAL : NOVOST + THE FALLING TAPE
DESCRIPTION:NOVOST + THE FALLING TAPE  \n\n\n\nNOVOST – modern groove metal – Lillehttps://youtu.be/f5yAEj2WjGETHE FALLING TAPE – metal alternatif – Lillehttps://youtu.be/W2MJ7uklw-w?si=H0JUKJAOOgR3G8-l \n\n\n\n\n\n\n\n\n\n\n\n\n\n\n\n\n\n\n\n\n\n\nEntrée gratuite toute la soirée !
URL:https://theblacklab.fr/agenda/the-good-the-bad-and-the-local-novost-the-falling-tape/
CATEGORIES:ÉVÉNEMENT
ATTACH;FMTTYPE=image/png:https://theblacklab.fr/BL/wp-content/uploads/2024/02/GOODBADLOCAL-slider.png
END:VEVENT
BEGIN:VEVENT
DTSTART;TZID=Europe/Paris:20260121T190000
DTEND;TZID=Europe/Paris:20260121T233000
DTSTAMP:20260422T123621
CREATED:20251007T134457Z
LAST-MODIFIED:20251007T134458Z
UID:6963-1769022000-1769038200@theblacklab.fr
SUMMARY:THE EX + KITCHEN TOOL SET
DESCRIPTION:THE BLACK LAB proudly present \n\n\n\nTHE EX – noise rock non figé (NL)Through 2000 concerts\, the adventurous\, innovative Dutch band The Ex turns 47 years this year and is still going strong. \n\n\n\nKITCHEN TOOL SET – noise rock de Douai (FR)Through 200 000 concerts\, the Douai band Kitchen Tool Set turns 26 years this year and is still our local Fugazi. \n\n\n\n \n\n\n\n\n\n\n\n\n\n\n\n\n\n\n\n\n\n\n\n\n\n\n\n\nACHETEZ VOS BILLETS
URL:https://theblacklab.fr/agenda/the-ex-kitchen-tool-set/
CATEGORIES:ÉVÉNEMENT,SLIDER
ATTACH;FMTTYPE=image/png:https://theblacklab.fr/BL/wp-content/uploads/2025/10/The-EX-facebookevent.png
END:VEVENT
BEGIN:VEVENT
DTSTART;TZID=Europe/Paris:20260123T200000
DTEND;TZID=Europe/Paris:20260123T233000
DTSTAMP:20260422T123621
CREATED:20251118T130632Z
LAST-MODIFIED:20251118T132354Z
UID:7060-1769198400-1769211000@theblacklab.fr
SUMMARY:LÉMAN
DESCRIPTION:LÉMAN➤ Connu pour mêler l’énergie brute du rock et l’élégance de la pop à des textes engagés\, Léman poursuit son ascension fulgurante après son premier EP “On est Plein” (sorti en juin 2024). Après avoir conquis le public sur les réseaux sociaux et sur scène\, Léman annonce les premières dates de sa tournée 2025. Il sera en concert au Black Lab à Wasquehal le vendredi 23 janvier 2026 ! \n\n\n\n→ Billetterie :  https://agauchedelalune.tickandyou.com/…/2620-leman.html et dans les points de ventes habituels \n\n\n\n \n\n\n\n\n\n\n\n\n\n\n\n\n\n\n\n\n\n\n\n\nACHETEZ VOS BILLETS
URL:https://theblacklab.fr/agenda/leman/
CATEGORIES:ÉVÉNEMENT,SLIDER
ATTACH;FMTTYPE=image/png:https://theblacklab.fr/BL/wp-content/uploads/2025/11/Leman-couverture-scaled.png
END:VEVENT
BEGIN:VEVENT
DTSTART;TZID=Europe/Paris:20260124T140000
DTEND;TZID=Europe/Paris:20260125T233000
DTSTAMP:20260422T123621
CREATED:20251117T105407Z
LAST-MODIFIED:20251117T105408Z
UID:7054-1769263200-1769383800@theblacklab.fr
SUMMARY:Battle in the Nord - 3e Édition
DESCRIPTION:Le festival Battle in the Nord revient pour une 3e édition explosive\, et cette fois-ci\, c’est sur deux jours que la magie opérera ! \n\n\n\nPréparez-vous à une affiche encore plus intense\, mêlant les ténèbres du Black Metal et la puissance écrasante du Doom Metal\, avec déjà annoncés :Besatt (Black Metal – Pologne)Merrimack (Black Metal – France)Invernoir (Doom Metal – Italie)Servant (Black Metal – Allemagne)Antrisch (Black Metal – Allemagne)Malphas (Black Metal – Suisse) Officium Triste (Doom/Death Metal – Pays Bas)Gorgon (Black Metal – France)Antzaat (Black Metal – Belgique)Onheil (Blackened & Melodic Thrash/Death Metal – Pays-Bas)Skaphos (Black/Death Metal – France)Alkhemia (Black Metal – France)Monolithe (Melodic Death/Doom Metal – France)Paths to Deliverance (Black Metal – France)Mourning Dawn (Black/Doom Metal – France)Lying Figures (Doom/Death Metal – France) Soul Dissolution (Atmospheric Post-Black Metal – Belgique) OST (Black Metal – France) \n\n\n\nToutes les informations sur : https://battleinthenord.com \n\n\n\n\n\n\n\n\n\n\n\n\n\n\n\n\n\n\n\n\nACHETEZ VOS BILLETS
URL:https://theblacklab.fr/agenda/battle-in-the-nord-3e-edition/
CATEGORIES:ÉVÉNEMENT,SLIDER
ATTACH;FMTTYPE=image/png:https://theblacklab.fr/BL/wp-content/uploads/2025/11/Battle-in-the-Nord-3e-Edition-scaled.png
END:VEVENT
BEGIN:VEVENT
DTSTART;TZID=Europe/Paris:20260127T200000
DTEND;TZID=Europe/Paris:20260127T233000
DTSTAMP:20260422T123621
CREATED:20251218T103509Z
LAST-MODIFIED:20251218T103805Z
UID:7132-1769544000-1769556600@theblacklab.fr
SUMMARY:THE GOOD\, THE BAD AND LOCAL : BOMBER + NECROSHADE
DESCRIPTION:BOMBER – Thrash Metal \n\n\n\nBomber\, c’est un déferlement de thrash aux relents de punk hardcore\, de hard rock des années 70 et de sludge : tranchant\, lourd ; une rage contrôlée et mélodieuse\, dont les textes évoquent la violence\, la mort\, l’amour\, la passion\, la dualité\, l’équilibre et la liberté\, accompagnant des compositions variées et taillées pour le live ! \n\n\n\nNECROSHADE – Death Metal \n\n\n\nNecroshade crache un death metal putride et sans concession\, à grands coups de Boss HM-2. Héritier direct du death suédois old school\, nourri de la sauvagerie japonaise et de mélodies funèbres des années 90 \n\n\n\nGRATUITDébut des concerts : 20h00 \n\n\n\n\n\n\n\n\n\n\n\n\n\n\n\n\n\n\n\n\n\n\nEntrée gratuite toute la soirée !
URL:https://theblacklab.fr/agenda/the-good-the-bad-and-local-bomber-necroshade/
CATEGORIES:ÉVÉNEMENT
ATTACH;FMTTYPE=image/png:https://theblacklab.fr/BL/wp-content/uploads/2024/02/GOODBADLOCAL-slider.png
END:VEVENT
BEGIN:VEVENT
DTSTART;TZID=Europe/Paris:20260130T190000
DTEND;TZID=Europe/Paris:20260130T233000
DTSTAMP:20260422T123621
CREATED:20260127T093839Z
LAST-MODIFIED:20260130T155433Z
UID:7245-1769799600-1769815800@theblacklab.fr
SUMMARY:REN MUSIC LIVE #6
DESCRIPTION:Concert gratuit au profit de l’association « LES FOURCHETTES ROSES ». \n\n\n\n5 groupes pop rock composés d’une vingtaine de chefs d’entreprise\, Lauréats et Membres de Réseau Entreprendre® Nord\, vont vous entraîner sur des rythmes endiablés de pop rock et vont enflammer la scène du BLACK LAB à Wasquehal \n\n\n\nx Soirée animée par Caroline Charlet.x THE UNDERCOVERSBertrand Delgrange\, Rudy Houque\, Nicolas Quillietx BEN & BREAKFASTJulien Delicourt\, Benoit Henno\, Sylvain Julien\, Julien Payen\, Marc-Antoine Redienx RIFF & BRICKSTelmo Silva\, Irwan Djoehana\, Maxime Bonte\, Laurent Dunkelman\, Nicolas Quillietx UGLY VAMPIRESDavid Minard\, Anthony\, Julien\, Arnaudx RADIO CLUBJean-Luc\, Arnaud\, Sébastien\, Audrey\, Jérémie et Marcel \n\n\n\n\n\n\n\n\n\n\n\n\n\n\n\n\n\n\nEntrée gratuite toute la soirée !
URL:https://theblacklab.fr/agenda/ren-music-live-6/
CATEGORIES:ÉVÉNEMENT,SLIDER
ATTACH;FMTTYPE=image/png:https://theblacklab.fr/BL/wp-content/uploads/2026/01/Nord-entreprend-scaled.png
END:VEVENT
END:VCALENDAR