BEGIN:VCALENDAR
VERSION:2.0
PRODID:-//THE BLACK LAB - ECPv6.6.4//NONSGML v1.0//EN
CALSCALE:GREGORIAN
METHOD:PUBLISH
X-WR-CALNAME:THE BLACK LAB
X-ORIGINAL-URL:https://theblacklab.fr
X-WR-CALDESC:évènements pour THE BLACK LAB
REFRESH-INTERVAL;VALUE=DURATION:PT1H
X-Robots-Tag:noindex
X-PUBLISHED-TTL:PT1H
BEGIN:VTIMEZONE
TZID:Europe/Paris
BEGIN:DAYLIGHT
TZOFFSETFROM:+0100
TZOFFSETTO:+0200
TZNAME:CEST
DTSTART:20260329T010000
END:DAYLIGHT
BEGIN:STANDARD
TZOFFSETFROM:+0200
TZOFFSETTO:+0100
TZNAME:CET
DTSTART:20261025T010000
END:STANDARD
END:VTIMEZONE
BEGIN:VEVENT
DTSTART;TZID=Europe/Paris:20260604T200000
DTEND;TZID=Europe/Paris:20260604T233000
DTSTAMP:20260420T145823
CREATED:20260414T095216Z
LAST-MODIFIED:20260416T083445Z
UID:7478-1780603200-1780615800@theblacklab.fr
SUMMARY:DAVID
DESCRIPTION:A GAUCHE DE LA LUNE \n\n\n\nDAVID➤ Les Racines Musicales \n\n\n\nNé le 7 juillet 1986 à Gennevilliers\, David Coscas a toujours entretenu un lien viscéral avec la musique. Son apprentissage débute très tôt avec le violon\, instrument qu’il pratique de ses 6 à ses 14 ans. C’est à cet âge qu’il a un véritable coup de foudre pour la guitare\, un instrument qu’il ne lâchera plus. \n\n\n\nL’Introspection et la Renaissance  \n\n\n\nDe Mcfly à DaviD Le 4 mars 2023\, face à un épuisement professionnel\, le duo annonce une pause bien méritée. C’est le déclic pour David : cette période lui permet de se recentrer sur sa passion originelle\, la musique\, et de préparer un projet solo. Pendant deux ans\, il mène une profonde introspection pour trouver la musique qui lui ressemble à 100%\, sans chercher à plaire\, mais avec la volonté d’être le Biographie 1 plus authentique possible. Il décide de quitter son alter ego “Mcfly” pour se livrer sous son véritable prénom\, DaviD. \n\n\n\n“Le But du Je”  \n\n\n\nLe Succès d’un Rock Intime Sorti le 7 mars 2025\, son premier projet en tant que DaviD s’intitule Le But du Je. Cet EP marque une véritable rupture avec son image de trublion du web et dévoile un musicien accompli. Un accueil retentissant : L’authenticité a payé\, puisque l’EP a bénéficié d’un bel engouement à sa sortie\, se hissant directement dans le TOP 8 des ventes en France lors de sa première semaine d’exploitation. Une œuvre nuancée : Entouré de collaborateurs\, DaviD propose un son précis\, oscillant entre rock mélodique\, post-rock et des touches assumées de neo-metal.  \n\n\n\nDes thèmes poignants : À travers les 6 titres rock de l’EP\, DaviD se livre intimement. Il y exorcise ses démons\, sa peine enfouie\, ses relations et ses traumatismes\, tout en gardant une lueur d’espoir et d’optimisme. Un retour aux sources : L’artiste laisse exploser ses riffs de guitares et ses influences rock allant de Dream Theater à Coldplay\, en passant par Incubus ou A Perfect Circle. L’objectif est clair : défendre ce rock français puissant et introspectif sur scène\, avec sa sueur et ses musiciens.  \n\n\n\nDaviD est actuellement en studio afin dʼenregistrer son premier album. \n\n\n\n\n\n\n\n→ Informations groupes & PMR :A GAUCHE DE LA LUNE03 28 04 04 53 – reservation@tickandyou.com \n\n\n\n\n\n\n\n\n\n\n\n\n\n\nACHETEZ VOS BILLETS
URL:https://theblacklab.fr/agenda/david-2/
CATEGORIES:ÉVÉNEMENT,SLIDER
ATTACH;FMTTYPE=image/jpeg:https://theblacklab.fr/BL/wp-content/uploads/2026/03/HEADER-1.jpg
END:VEVENT
BEGIN:VEVENT
DTSTART;TZID=Europe/Paris:20260623T200000
DTEND;TZID=Europe/Paris:20260623T223000
DTSTAMP:20260420T145823
CREATED:20260414T110039Z
LAST-MODIFIED:20260416T080924Z
UID:7483-1782244800-1782253800@theblacklab.fr
SUMMARY:THE GOOD\, THE BAD AND LOCAL : PMB + CONCRETE FEATHER
DESCRIPTION:Entrée gratuite toute la soirée !
URL:https://theblacklab.fr/agenda/the-good-the-bad-and-local-pmb-concrete-feather/
CATEGORIES:ÉVÉNEMENT
ATTACH;FMTTYPE=image/png:https://theblacklab.fr/BL/wp-content/uploads/2024/02/GOODBADLOCAL-slider.png
END:VEVENT
BEGIN:VEVENT
DTSTART;TZID=Europe/Paris:20260630T193000
DTEND;TZID=Europe/Paris:20260630T233000
DTSTAMP:20260420T145823
CREATED:20260415T141525Z
LAST-MODIFIED:20260415T143819Z
UID:7527-1782847800-1782862200@theblacklab.fr
SUMMARY:THE GOOD\, THE BAD AND LOCAL : ANTENOX + F#UCK THE SYSTEM
DESCRIPTION:THE GOOD\, THE BAD AND LOCAL  \n\n\n\nANTENOX (Rock Alternatif) :  \n\n\n\nAntenox\, c’est l’histoire de quatre musicien·ne·s de la scène lilloise qui se retrouvent en décembre 2022 avec une envie claire : balancer un rock alternatif bien nerveux\, entre punk\, grunge et touches de métal. Victor (chant/guitare)\, Rémi (guitare/chœurs)\, Alexandre (basse) et Marion (batterie) se connectent vite autour d’un son à la fois brut et planant\, où les guitares saturées croisent des ambiances plus aériennes\, le tout porté par une rythmique qui tape fort. \n\n\n\nLiens : https://linktr.ee/antenox \n\n\n\nF#CK THE SYSTEM (Tribute SOAD) \n\n\n\nF#ck The System” ? Que de vulgarités !… Mais c’est qui au juste ? \n\n\n\nUn quatuor d’exception a décidé de rendre hommage à l’un des groupes les plus influents de la scène Metal des années 90 / 2000 : Marcel et son orchestre ! Euh non attendez relis ses fiches System of a Down ! \n\n\n\nOn fait du bruit\, on crie dans des micros et on tape sur des trucs de manière frénétiquement frénétique. Parfois ça ressemble à de la musique. \n\n\n\nLes coupables ? \n\n\n\nSimon : Chant / ClavierJosselin : Guitare / ChantPaul : Basse / ChantJulien : Batterie / Beau Gosse \n\n\n\nVous attendez quoi pour venir secouer vos têtes et boire de la bonne eau pétillante 50cl en promotion à Carrefour devant notre prestation bardesque ? \n\n\n\n\n\n\n\n\n\n\n\n\n\n\n\n\nEntrée gratuite toute la soirée !
URL:https://theblacklab.fr/agenda/the-good-the-bad-and-local/
CATEGORIES:ÉVÉNEMENT
ATTACH;FMTTYPE=image/png:https://theblacklab.fr/BL/wp-content/uploads/2024/02/GOODBADLOCAL-slider.png
END:VEVENT
END:VCALENDAR