BEGIN:VCALENDAR
VERSION:2.0
PRODID:-//THE BLACK LAB - ECPv6.6.4//NONSGML v1.0//EN
CALSCALE:GREGORIAN
METHOD:PUBLISH
X-WR-CALNAME:THE BLACK LAB
X-ORIGINAL-URL:https://theblacklab.fr
X-WR-CALDESC:évènements pour THE BLACK LAB
REFRESH-INTERVAL;VALUE=DURATION:PT1H
X-Robots-Tag:noindex
X-PUBLISHED-TTL:PT1H
BEGIN:VTIMEZONE
TZID:Europe/Paris
BEGIN:DAYLIGHT
TZOFFSETFROM:+0100
TZOFFSETTO:+0200
TZNAME:CEST
DTSTART:20260329T010000
END:DAYLIGHT
BEGIN:STANDARD
TZOFFSETFROM:+0200
TZOFFSETTO:+0100
TZNAME:CET
DTSTART:20261025T010000
END:STANDARD
END:VTIMEZONE
BEGIN:VEVENT
DTSTART;TZID=Europe/Paris:20260915T200000
DTEND;TZID=Europe/Paris:20260915T233000
DTSTAMP:20260420T191739
CREATED:20260403T083933Z
LAST-MODIFIED:20260417T121155Z
UID:7438-1789502400-1789515000@theblacklab.fr
SUMMARY:ALLEGAEON + GOROD + ABYSMAL DAWN 
DESCRIPTION:A GAUCHE DE LA LUNE \n\n\n\nALLEGAEON \n\n\n\nLeur dernier album\, *The Ossuary Lens*\, est leur septième opus\, mais surtout le premier avec le chanteur d’origine Ezra Haynes depuis son départ en 2015\, à la suite de l’album *Elements of the Infinite*. Remplacer un chanteur n’est pas une mince affaire\, et le fait qu’Haynes ait pu rejoindre le groupe est donc une véritable bonne nouvelle.  L’approche vocale plus claire des trois derniers albums constituait une manœuvre artistique fascinante\, qui avait rafraîchi Allegaeon\, mais il est indéniablement exaltant d’entendre la voix rauque de Haynes de retour au sein du groupe sur cet opus incontestablement brutal et techniquement éblouissant. Les paroles à caractère scientifique sont aussi exigeantes que le jeu musical progressif\, ce qui donne lieu à un ensemble de morceaux tout simplement époustouflants. C’est un son que Haynes lui-même qualifie de « melotech » (death metal mélodique et technique). « Je pense qu’au début\, nous étions un peu plus dépouillés »\, ajoute Burgess. « Un death metal mélodique très axé sur la guitare. \n\n\n\nGOROD \n\n\n\nAvec “The Ember Gone”\, Gorod signe son retour avec un huitième album plus progressif et ambitieux\, dans la droite lignée du mythique “Transcendence”. Entièrement enregistré au Bud Studio par Mathieu Pascal\, le quintet livre un opus technique\, bien sûr\, mais également riche en arrangements ciselés et en atmosphères envoûtantes. Son concept et ses paroles\, profondément ancrés dans la réalité contemporaine\, questionnent notre société actuelle. Une nouvelle pierre à l’édifice de l’un des groupes majeurs de la scène tech death internationale\, qui n’attend plus qu’à être défendu sur scène. \n\n\n\nABYSMAL DAWN \n\n\n\nAu plus fort de la dystopie apocalyptique mondiale de 2020\, Abysmal Dawn a persévéré et sorti l’un des plus grands albums de sa carrière\, Phylogenesis. \n\n\n\nEn 2022\, ces icônes du death metal technique ont repris là où ils s’étaient arrêtés et ont sorti Nightmare Frontier\, un EP poignant de quatre titres. L’EP comprend un morceau original\, une version réenregistrée de la démo de 2006 « Blacken the Sky »\, ainsi que deux reprises épiques qui mettent en valeur la polyvalence musicale et le talent illimité du groupe. \n\n\n\n\n\n\n\n\n\n\n\n\n\n\n\n\n\n\n\n\nACHETEZ VOS BILLETS
URL:https://theblacklab.fr/agenda/allegaeon-gorod-abysmal-dawn/
CATEGORIES:ÉVÉNEMENT,SLIDER
ATTACH;FMTTYPE=image/jpeg:https://theblacklab.fr/BL/wp-content/uploads/2026/04/01_desert_Gorod_Promo-Shoot_2026cLeonor-Ananke-scaled.jpg
END:VEVENT
BEGIN:VEVENT
DTSTART;TZID=Europe/Paris:20260926T190000
DTEND;TZID=Europe/Paris:20260926T233000
DTSTAMP:20260420T191739
CREATED:20260409T091949Z
LAST-MODIFIED:20260415T145710Z
UID:7451-1790449200-1790465400@theblacklab.fr
SUMMARY:AEPHANEMER
DESCRIPTION:GARMONBOZIA x THE BLACK LAB  \n\n\n\nMêlant Death Metal Mélodique et Musique Classique\, le groupe toulousain Aephanemer s’est forgé une identité sonore à part dans la scène Metal française. Leur jeu scénique\, remarqué notamment au Wacken Open Air\, au Hellfest\, au Motocultor ou encore au Summer Breeze et la qualité de leurs compositions ont conduit à une collaboration avec Napalm Records ouvrant la voie à une diffusion plus large et à de nombreuses dates en Europe. Plus récemment\, Aephanemer intégre des influences folk et médiévales à leur musique déjà très singulière. Le 31 octobre 2025 sortait son nouvel album\, Utopie\, toujours chez Napalm Records. Ce disque poursuit l’exploration du lien entre musique extrême et orchestrations symphoniques. Fidèle à son identité\, Aephanemer continue d’avancer sans compromis\, s’installant comme l’un des groupes majeurs de la nouvelle scène Metal française. \n\n\n\n\n\n\n\n\n\n\n\n\n\n\n\n\n\n\n\n\nACHETEZ VOS BILLETS
URL:https://theblacklab.fr/agenda/aephanemer/
CATEGORIES:ÉVÉNEMENT,SLIDER
ATTACH;FMTTYPE=image/png:https://theblacklab.fr/BL/wp-content/uploads/2026/04/AEPHANEMER-slider.png
END:VEVENT
END:VCALENDAR