BEGIN:VCALENDAR
VERSION:2.0
PRODID:-//THE BLACK LAB - ECPv6.6.4//NONSGML v1.0//EN
CALSCALE:GREGORIAN
METHOD:PUBLISH
X-WR-CALNAME:THE BLACK LAB
X-ORIGINAL-URL:https://theblacklab.fr
X-WR-CALDESC:évènements pour THE BLACK LAB
REFRESH-INTERVAL;VALUE=DURATION:PT1H
X-Robots-Tag:noindex
X-PUBLISHED-TTL:PT1H
BEGIN:VTIMEZONE
TZID:Europe/Paris
BEGIN:DAYLIGHT
TZOFFSETFROM:+0100
TZOFFSETTO:+0200
TZNAME:CEST
DTSTART:20230326T010000
END:DAYLIGHT
BEGIN:STANDARD
TZOFFSETFROM:+0200
TZOFFSETTO:+0100
TZNAME:CET
DTSTART:20231029T010000
END:STANDARD
END:VTIMEZONE
BEGIN:VEVENT
DTSTART;TZID=Europe/Paris:20230330T200000
DTEND;TZID=Europe/Paris:20230330T233000
DTSTAMP:20260426T062930
CREATED:20221212T113718Z
LAST-MODIFIED:20230227T103231Z
UID:4792-1680206400-1680219000@theblacklab.fr
SUMMARY:NO FUN AT ALL
DESCRIPTION:+ BURNING HEADS + JODIE FASTER \n\n\n\n\n\n\n\n\n\n\n\n\n\nBetiZFest & THE BLACK LAB proudly presents : \n\n\n\n \n\n\n\nNO FUN AT ALL – Punk legend (SW) \n\n\n\nQuel honneur d’accueillir les légendaires NFAA\, groupe 100% estampillé skate depuis 1991. Quelques aléas\, reformés pour de bon depuis 2013\, leur son est à ranger dans la case skate punk mélodique aux côtés de Bad Religion\, NOFX\, Millencollin… Entre autres hits\, ils nous présenteront leur 7e album\, le bien nommé Seventh Wave paru en 2022 sur le label SBÄM. \n\n\n\n\n\n\n\n\n\nBURNING HEADS – Punk legend too (FR)  \n\n\n\nÀ groupe légendaire\, groupe légendaire. On les adore\, ils sont venus en mai dernier\, si on pouvait les booker tous les deux mois… On le ferait ! Mais qu’est-ce qui nous en empêche ?? Leur dernier album est fabuleux\, le nouveau line-up ultra convaincant\, il était évident de leur proposer ce plateau de dingue… pour un nouveau concert inoubliable @ THE BLACK LAB. \n\n\n\n\n\n\n\n\n\nJODIE FASTER – Pun… too fast (FR) \n\n\n\nAprès leur passage trop vite trop court en avril dernier pour les 30+1 ans de Toxic Waste (quelle poilade aussi cette date)\, on cherchait le spot idéal pour les accueillir de nouveau et leur permettre de dérouler un set plein et entier d’au moins… 7 minutes. Un son unique\, des concerts explosifs\, une tournée aux US en prime\, les voilà gonflés à bloc pour nous remettre la pâté. \n\n\n\n\n\n\n\n\n\n \n\n\n\n_______________________________________ \n\n\n\n \n\n\n\n\n\n\n\n\n\n\n\n\n\n\n\n\n\n\nACHETEZ VOS BILLETS
URL:https://theblacklab.fr/agenda/no-fun-at-all/
CATEGORIES:ÉVÉNEMENT,SLIDER
ATTACH;FMTTYPE=image/png:https://theblacklab.fr/BL/wp-content/uploads/2022/12/skate-slider-1.png
END:VEVENT
END:VCALENDAR