BEGIN:VCALENDAR
VERSION:2.0
PRODID:-//THE BLACK LAB - ECPv6.6.4//NONSGML v1.0//EN
CALSCALE:GREGORIAN
METHOD:PUBLISH
X-ORIGINAL-URL:https://theblacklab.fr
X-WR-CALDESC:évènements pour THE BLACK LAB
REFRESH-INTERVAL;VALUE=DURATION:PT1H
X-Robots-Tag:noindex
X-PUBLISHED-TTL:PT1H
BEGIN:VTIMEZONE
TZID:Europe/Paris
BEGIN:DAYLIGHT
TZOFFSETFROM:+0100
TZOFFSETTO:+0200
TZNAME:CEST
DTSTART:20230326T010000
END:DAYLIGHT
BEGIN:STANDARD
TZOFFSETFROM:+0200
TZOFFSETTO:+0100
TZNAME:CET
DTSTART:20231029T010000
END:STANDARD
END:VTIMEZONE
BEGIN:VEVENT
DTSTART;TZID=Europe/Paris:20230401T200000
DTEND;TZID=Europe/Paris:20230401T233000
DTSTAMP:20260426T063027
CREATED:20221117T091813Z
LAST-MODIFIED:20221117T091816Z
UID:4775-1680379200-1680391800@theblacklab.fr
SUMMARY:SPIDER ZED
DESCRIPTION:A GAUCHE DE LA LUNE presents : \n\n\n\n \n\n\n\n« Pas très bavard mais rien à redire » \n\n\n\nC’est le seul avis laissé sur mon profil BlaBlaCar après un covoiturage au Parc Astérix en 2017. \n\n\n\nJ’aurais jamais pensé qu’un inconnu à qui j’ai si peu parlé me comprendrait mieux que tous les membres de ma famille. \n\n\n\nDans mon prochain album Club de cœur\, je parle beaucoup de mes proches.  \n\n\n\nJe trouve qu’il y a un parallèle marrant entre ta famille et l’équipe que tu supportes. \n\n\n\nTu ne choisis pas\, souvent ça te rend triste\, parfois ça te rend heureux mais dans tous les cas tu l’aimes et tu peux pas l’abandonner. \n\n\n\n_______________________________________ \n\n\n\n \n\n\n\n\n\n\n\n\n\n\n\n\n\n\n\n\n\n\nACHETEZ VOS BILLETS
URL:https://theblacklab.fr/agenda/spider-zed/
CATEGORIES:ÉVÉNEMENT
ATTACH;FMTTYPE=image/png:https://theblacklab.fr/BL/wp-content/uploads/2022/11/SPIDERZED-slider.png
END:VEVENT
END:VCALENDAR