BEGIN:VCALENDAR
VERSION:2.0
PRODID:-//THE BLACK LAB - ECPv6.6.4//NONSGML v1.0//EN
CALSCALE:GREGORIAN
METHOD:PUBLISH
X-ORIGINAL-URL:https://theblacklab.fr
X-WR-CALDESC:évènements pour THE BLACK LAB
REFRESH-INTERVAL;VALUE=DURATION:PT1H
X-Robots-Tag:noindex
X-PUBLISHED-TTL:PT1H
BEGIN:VTIMEZONE
TZID:Europe/Paris
BEGIN:DAYLIGHT
TZOFFSETFROM:+0100
TZOFFSETTO:+0200
TZNAME:CEST
DTSTART:20230326T010000
END:DAYLIGHT
BEGIN:STANDARD
TZOFFSETFROM:+0200
TZOFFSETTO:+0100
TZNAME:CET
DTSTART:20231029T010000
END:STANDARD
END:VTIMEZONE
BEGIN:VEVENT
DTSTART;TZID=Europe/Paris:20230409T143000
DTEND;TZID=Europe/Paris:20230409T220000
DTSTAMP:20260426T063145
CREATED:20230111T210734Z
LAST-MODIFIED:20230227T144304Z
UID:4835-1681050600-1681077600@theblacklab.fr
SUMMARY:SUNDAY SESSION
DESCRIPTION:w/ UNEARTH + MISERY INDEX + YEAR OF THE KNIFE + LEACH + TURBID NORTH + HURAKAN + VIRGIL \n\n\n\n\n\n\n\n\n\n\n\n\n\nTHE BLACK LAB proudly presents \n\n\n\nSUNDAY SESSIONYoupi c’est Pâques ! Alors on fait un bécot à Mamie et on sort vite de table : go to THE BLACK LAB pour se retrouver un peu à l’ancienne quand\, un dimanche\, on prenait la bagnole bourrée à craquer de copines et copains direction la Belgique pour voir un de ces plateaux dont Metallysée Concerts avait le secret : ça ouvrait tôt\, on rentrait pas si tard\, et on s’en prenait plein la tronche tout l’après-midi… Bienvenue à notre nouveau rendez-vous du dimanche\, d’autres esthétiques musicales pourront être visitées mais on attaque fort avec un plateau de furieux.featuring :UNEARTH origin of metalcore (US)Unearth c’est depuis 1998 un groupe qui casse des bouches et des barrières en mélangeant le punk hardcore et la nouvelle vague nord européenne de Death Mélodique (mais si\, Children Of Bodom tout ça). Bref c’est lourd et ça va envoyer on stage!Si vous les ratez au Hellfest c’est ici qu’il faut passer les voir. \n\n\n\n\n\n\n\n\n\nMISERY INDEX severe death grind (US)Depuis 2003 Misery Index c’est 6 albums\, des Eps & plus de 1000 dates dans 44 pays différents. Autant dire que ça envoie du lourd\, et ils tournent depuis la sortie de leur Album Complete Control en 2022. En même temps quand 2 ex Dying Fetus décident de monter un groupe c’est pas étonnant de se retrouver avec un death grind qui pète\, qui envoie\, fait plaisir et promet on stage! \n\n\n\n\n\n\n\n\n\nYEAR OF THE KNIFE new metalcore (US)Delaware Straightedge. Résolument CORE\, définitivement metal\, les gars de Year Of The Knife vous font le plaisir de venir vous cracher un metalcore résolument taillé pour la bagarre. Et qu’est ce qu’on à hâte d’entendre ça. \n\n\n\n\n\n\n\n\n\nLEACH thrash’n’roll (SW)Quand en Suède\, force et mélodie s’accouplent\, c’est Leach qui en résulte. LEACH ont en quelques années réussi à se construire un univers bien à eux mélangeant proprement trash\, hardcore\, metal\, punk et vous savez quoi ? Même un peu de Rock & Roll plus traditionnel\, pour résumer\, du bon thrash N roll bien bourrin. On ne compte même plus le nombre d’influences dont ils se réclament. D’ailleurs ils tournent\, c’est donc avec plaisir qu’on les reçoit ici au Black Lab pour notre Sunday Session qui annonce du lourd lourd \n\n\n\n\n\n\n\n\n\n \n\n\n\nTURBID NORTH heavy doom (US) \n\n\n\nVous entendez ? Au loin ? Non\, vous n’entendez ni lourdeur\, ni colère se diriger vers le nord de la France? Parce que nous ici\, ce qu’on entend c’est que trois mecs venus tout droit du Texas avec leur heavy doom bien lourd arrivent sur la scène de the BLACK LAB pour y mettre le feu.. Vous l’aurez compris\, c’est Turbid North qu’on accueillera pour la Sunday Session du 9 avril (mais si\, le mini festival qui vous donnera l’envie de vous battre un dimanche de printemps). \n\n\n\n\n\n\n\n\n\n \n\n\n\n \n\n\n\nHURAKAN deathcore outsiders (FR) \n\n\n\nDu deathcore hyper technique\, sophistiqué et qui pousse loin dans les limites du genre. Résultat? Un truc organique\, mature\, brutal qui couvre un tas d’émotions et d’atmosphère\, mais qui donne aussi envie de méchamment s’éclater dans la fosse. Allé\, on fonce écouter leur dernier album Via Aeterna\, parce que ça vaut quand même sacrément le coup ! \n\n\n\n\n\n\n\n\n\nVIRGIL post black death (FR)Parfois mélodiques\, souvent lourds comme on aime\, c’est aussi sombre que violent. En résulte un truc hyper brutal que vous prendrez plaisir à écouter avec nous en live. Outre la référence évidente à Dante Alighieri les français viennent de sortir leur dernier album\, “Archeron” en novembre dernier. Et ça vaut vraiment le détour. \n\n\n\n\n\n\n\n\n\n \n\n\n\n\n\n\n\n\n\n\n\n\n\n\n\n\n\n\nACHETEZ VOS BILLETS
URL:https://theblacklab.fr/agenda/sunday-session/
CATEGORIES:ÉVÉNEMENT,SLIDER
ATTACH;FMTTYPE=image/png:https://theblacklab.fr/BL/wp-content/uploads/2023/01/SS-01-slider-2.png
END:VEVENT
END:VCALENDAR