BEGIN:VCALENDAR
VERSION:2.0
PRODID:-//THE BLACK LAB - ECPv6.6.4//NONSGML v1.0//EN
CALSCALE:GREGORIAN
METHOD:PUBLISH
X-ORIGINAL-URL:https://theblacklab.fr
X-WR-CALDESC:évènements pour THE BLACK LAB
REFRESH-INTERVAL;VALUE=DURATION:PT1H
X-Robots-Tag:noindex
X-PUBLISHED-TTL:PT1H
BEGIN:VTIMEZONE
TZID:Europe/Paris
BEGIN:DAYLIGHT
TZOFFSETFROM:+0100
TZOFFSETTO:+0200
TZNAME:CEST
DTSTART:20230326T010000
END:DAYLIGHT
BEGIN:STANDARD
TZOFFSETFROM:+0200
TZOFFSETTO:+0100
TZNAME:CET
DTSTART:20231029T010000
END:STANDARD
END:VTIMEZONE
BEGIN:VEVENT
DTSTART;TZID=Europe/Paris:20230422T210000
DTEND;TZID=Europe/Paris:20230422T233000
DTSTAMP:20260426T063723
CREATED:20230207T123353Z
LAST-MODIFIED:20230301T104932Z
UID:4859-1682197200-1682206200@theblacklab.fr
SUMMARY:Secret Garden - DEPECHE MODE EXPERIENCE
DESCRIPTION:Samedi Soir Productions présente : \n\n\n\n \n\n\n\nAu fil des années\, SECRET GARDEN s’est imposé comme l’un des meilleurs Tribute de DEPECHE MODE d’Europe. Il a même été mis à l’honneur sur la page officielle du groupe britannique DEPECHE MODE. \n\n\n\nC’est une succession de tubes interprétés de façon remarquable. Sans jamais tomber dans la parodie\, le groupe présente un show efficace\, très fidèle à l’original en revisitant toutes les époques.  \n\n\n\n \n\n\n\n \n\n\n\n\n\n\n\n\n\n\n\n\n\n\n\n\n\n\nACHETEZ VOS BILLETS
URL:https://theblacklab.fr/agenda/secret-garden-depeche-mode-experience/
CATEGORIES:ÉVÉNEMENT
ATTACH;FMTTYPE=image/png:https://theblacklab.fr/BL/wp-content/uploads/2023/02/Secret-Garden-slider.png
END:VEVENT
END:VCALENDAR