BEGIN:VCALENDAR
VERSION:2.0
PRODID:-//THE BLACK LAB - ECPv6.6.4//NONSGML v1.0//EN
CALSCALE:GREGORIAN
METHOD:PUBLISH
X-ORIGINAL-URL:https://theblacklab.fr
X-WR-CALDESC:évènements pour THE BLACK LAB
REFRESH-INTERVAL;VALUE=DURATION:PT1H
X-Robots-Tag:noindex
X-PUBLISHED-TTL:PT1H
BEGIN:VTIMEZONE
TZID:Europe/Paris
BEGIN:DAYLIGHT
TZOFFSETFROM:+0100
TZOFFSETTO:+0200
TZNAME:CEST
DTSTART:20230326T010000
END:DAYLIGHT
BEGIN:STANDARD
TZOFFSETFROM:+0200
TZOFFSETTO:+0100
TZNAME:CET
DTSTART:20231029T010000
END:STANDARD
END:VTIMEZONE
BEGIN:VEVENT
DTSTART;TZID=Europe/Paris:20230502T200000
DTEND;TZID=Europe/Paris:20230502T233000
DTSTAMP:20260426T045536
CREATED:20230324T080103Z
LAST-MODIFIED:20230324T081945Z
UID:5049-1683057600-1683070200@theblacklab.fr
SUMMARY:TRISOMIE 21 [Nouvelle date]
DESCRIPTION:+ DAGEIST + ALEXANDER LEVRIER \n\n\n\n\n\n\n\n\n\n\n\n\n\nTHE BLACK LAB proudly presents : \n\n\n\n \n\n\n\nTRISOMIE 21 – New wave legend (FR)Originaires de nos contrées nordistes\, précurseurs de la vague New Wave\, les frères Lompret se sont attachés à développer au fil des années un son qui leur est propre\, industriel et atmosphérique voire stratosphérique. Reconnus dans le monde entier comme une référence ultime de la Cold Wave à la française\, ils ont sortis de nombreux albums et autres remix aux multiples collaborations sur les label emblématiques comme Play It Again Sam\, Le Maquis ou encore Alfa Matrix. Nous sommes très heureux de les accueillir @ THE BLACK LAB pour une date qui s’annonce légendaire. \n\n\n\n\n\n\n\n\n\nDAGEIST – New wave defenders (FR) \n\n\n\nCette date ne serait rien sans le fameux duo emblématique DaGeist. Fleuron de la scène new wave actuelle\, il la dynamise par de nombreuses apparitions un peu partout en Europe\, ou encore récemment aux USA à New York (!) De par son univers sombre aux sonorités 80’s\, il a conquis un large public et a convaincu de nombreux pros\, on l’a vu aux côtés de Anne Clark\, Die krupps\, DAF\, Lebanon Hanover\, She Past Away… et bien sûr Trisomie 21… Le ton est donné et la relève assurée. \n\n\n\n\n\n\n\n\n\n \n\n\n\nALEXANDER LEVRIER – DJ Set (FR) \n\n\n\nAussi bien DJ que producer\, Alex Levrier va aller puiser dans ses racines pour nous ambiancer autour de T21 et DaGeist. À grand renfort de sonorités issues de son background musical mais pas que\, c’est Kraftwerk\, Front 242\, Trisomie 21\, New Order\, Clan of Xymox\, Béruriers Noirs\, Killing Joke\, Psyché\, A Flock of Seagulls\, Bauhaus\, Love and Rockets\, The Chameleons\, Neon Judgement\, Anne Clark\, Underworld… qui vont l’inspirer lors des deux soirées désormais mythiques @ THE BLACK LAB\, on le sait déjà. \n\n\n\n\n\n\n\n\n\n\n\n\n\n\n\n\n\n\n\n\n\n\n\n\nACHETEZ VOS BILLETS
URL:https://theblacklab.fr/agenda/trisomie-21-2/
CATEGORIES:ÉVÉNEMENT,SLIDER
ATTACH;FMTTYPE=image/png:https://theblacklab.fr/BL/wp-content/uploads/2023/03/TRISOMIE-21-slider.png
END:VEVENT
END:VCALENDAR