BEGIN:VCALENDAR
VERSION:2.0
PRODID:-//THE BLACK LAB - ECPv6.6.4//NONSGML v1.0//EN
CALSCALE:GREGORIAN
METHOD:PUBLISH
X-WR-CALNAME:THE BLACK LAB
X-ORIGINAL-URL:https://theblacklab.fr
X-WR-CALDESC:évènements pour THE BLACK LAB
REFRESH-INTERVAL;VALUE=DURATION:PT1H
X-Robots-Tag:noindex
X-PUBLISHED-TTL:PT1H
BEGIN:VTIMEZONE
TZID:Europe/Paris
BEGIN:DAYLIGHT
TZOFFSETFROM:+0100
TZOFFSETTO:+0200
TZNAME:CEST
DTSTART:20230326T010000
END:DAYLIGHT
BEGIN:STANDARD
TZOFFSETFROM:+0200
TZOFFSETTO:+0100
TZNAME:CET
DTSTART:20231029T010000
END:STANDARD
END:VTIMEZONE
BEGIN:VEVENT
DTSTART;TZID=Europe/Paris:20230510T200000
DTEND;TZID=Europe/Paris:20230510T233000
DTSTAMP:20260426T045519
CREATED:20230109T154253Z
LAST-MODIFIED:20230314T103926Z
UID:4812-1683748800-1683761400@theblacklab.fr
SUMMARY:MESSER CHUPS
DESCRIPTION:+ JOE VIBRATO \n\n\n\n\n\n\n\n\n\n\n\n\n\nTHE BLACK LAB proudly presents : \n\n\n\n \n\n\n\nMESSER CHUPS – Surf from the grave (RU) \n\n\n\nSorti droit d’une crypte de Saint-Pétersbourg il y a de ça 25 ans\, Messer Chups s’est imprégné du rockabilly des années 50 et de la surf des années 60 pour minutieusement les triturer aux B.O. de la grindhouse. Hautement nourrie par les films d’horreur de série B\, c’est cheveux gominés\, reverb exubérante et lignes de basse sexy que la surf music venue de l’Est débarque @ The BLACK LAB\, frissons sulfureux garantis. \n\n\n\n\n\n\n\n\n\nJOE VIBRATO – Surf from the van (FR)  \n\n\n\nSorti droit de son combi Volkswagen\, Joe Vibrato se joue des codes pour proposer un show pas comme les autres. De covers inattendues en riffs de guitare impromptus\, c’est masqué qu’il animera toute la soirée. Dj set ou performance live ? Venez tôt\, partez tard\, Joe Vivbrato s’occupera de vos restes. \n\n\n\n\n\n\n\n\n\n_______________________________________ \n\n\n\n \n\n\n\n\n\n\n\n\n\n\n\n\n\n\n\n\n\n\nACHETEZ VOS BILLETS
URL:https://theblacklab.fr/agenda/messer-chups/
CATEGORIES:ÉVÉNEMENT,SLIDER
ATTACH;FMTTYPE=image/png:https://theblacklab.fr/BL/wp-content/uploads/2023/01/MESSER-CHUPS-slider.png
END:VEVENT
END:VCALENDAR