BEGIN:VCALENDAR
VERSION:2.0
PRODID:-//THE BLACK LAB - ECPv6.6.4//NONSGML v1.0//EN
CALSCALE:GREGORIAN
METHOD:PUBLISH
X-ORIGINAL-URL:https://theblacklab.fr
X-WR-CALDESC:évènements pour THE BLACK LAB
REFRESH-INTERVAL;VALUE=DURATION:PT1H
X-Robots-Tag:noindex
X-PUBLISHED-TTL:PT1H
BEGIN:VTIMEZONE
TZID:Europe/Paris
BEGIN:DAYLIGHT
TZOFFSETFROM:+0100
TZOFFSETTO:+0200
TZNAME:CEST
DTSTART:20230326T010000
END:DAYLIGHT
BEGIN:STANDARD
TZOFFSETFROM:+0200
TZOFFSETTO:+0100
TZNAME:CET
DTSTART:20231029T010000
END:STANDARD
END:VTIMEZONE
BEGIN:VEVENT
DTSTART;TZID=Europe/Paris:20230516T200000
DTEND;TZID=Europe/Paris:20230516T233000
DTSTAMP:20260426T050621
CREATED:20230322T150219Z
LAST-MODIFIED:20230322T150222Z
UID:5032-1684267200-1684279800@theblacklab.fr
SUMMARY:MAD SIN
DESCRIPTION:THE BLACK LAB proudly presents : \n\n\n\nMAD SIN & NURSE’S DEAD BODIES \n\n\n\nMAD SIN – Psychobilly masters (GER) \n\n\n\nMAD SIN s’est formé en 1987 entre deux combats de rue trop arrosé dans un Berlin encore séparé par le mur. Issu de la scène Rockabilly et Punk\, le groupe s’est rapidement frayé un chemin et forgé un nom en tant que l’un des chefs de file du mouvement Psychobilly aux côtés de groupes tels que Demented Are Go ou The Meteors. “Unbreakable”\, son dernier album en date\, est sorti chez Century Media en 2020 et c’est @ THE BLACK LAB qu’il viendra assoir la légende pour (encore) une date mythique ici. \n\n\n\n\n\n\n\n\n\nNURSE’S DEAD BODIES  \n\n\n\nNURSE’S DEAD BODIES – Punkabilly wanderers (FR) \n\n\n\nNURSE’S DEAD BODIES mêle punk\, rock’n’roll et psycho depuis 2013. Après 10 ans de scène et de terreur\, le combo délivre des shows bouillants pour un résultat détonnant de Punkabilly mené par une voix féminine explosive. Le quatuor viendra défendre son dernier album en date “Beyond the grave” sorti en 2022 chez Larsen Prod et Ronce Records pour une performance des plus horrifiques. Brrr… \n\n\n\n\n\n\n\n\n\n \n\n\n\nTarifs (hors frais de location) \n\n\n\nALERTE PASS DEUX CONCERTS(Messer Chups – 10 mai 23 + Mad Sin – 16 mai 23) \n\n\n\nPass 2 jours : \n\n\n\nTarif plein>> 25€ en prévente / 30€ sur place au guichet le 10 mai \n\n\n\nTarif réduit (sur présentation d’un justificatif au contrôle d’accès)>> 15€ pour les moins de 16 ans\, étudiants\, demandeurs d’emploi\, bénéficiaires des minima sociaux \n\n\n\nPass 1 jour : \n\n\n\nTarif plein>> 15€ en prévente / 20€ sur place \n\n\n\nTarif réduit (sur présentation d’un justificatif au contrôle d’accès)>> 10€ pour les moins de 16 ans\, étudiants\, demandeurs d’emploi\, bénéficiaires des minima sociaux \n\n\n\nGratuit pour les moins de 13 ans \n\n\n\n \n\n\n\n\n\n\n\n\n\n\n\n\n\n\n\n\n\n\nACHETEZ VOS BILLETS
URL:https://theblacklab.fr/agenda/mad-sin/
CATEGORIES:ÉVÉNEMENT,SLIDER
ATTACH;FMTTYPE=image/png:https://theblacklab.fr/BL/wp-content/uploads/2023/03/mad-sin-cms.png
END:VEVENT
END:VCALENDAR