BEGIN:VCALENDAR
VERSION:2.0
PRODID:-//THE BLACK LAB - ECPv6.6.4//NONSGML v1.0//EN
CALSCALE:GREGORIAN
METHOD:PUBLISH
X-WR-CALNAME:THE BLACK LAB
X-ORIGINAL-URL:https://theblacklab.fr
X-WR-CALDESC:évènements pour THE BLACK LAB
REFRESH-INTERVAL;VALUE=DURATION:PT1H
X-Robots-Tag:noindex
X-PUBLISHED-TTL:PT1H
BEGIN:VTIMEZONE
TZID:Europe/Paris
BEGIN:DAYLIGHT
TZOFFSETFROM:+0100
TZOFFSETTO:+0200
TZNAME:CEST
DTSTART:20230326T010000
END:DAYLIGHT
BEGIN:STANDARD
TZOFFSETFROM:+0200
TZOFFSETTO:+0100
TZNAME:CET
DTSTART:20231029T010000
END:STANDARD
END:VTIMEZONE
BEGIN:VEVENT
DTSTART;TZID=Europe/Paris:20230705T200000
DTEND;TZID=Europe/Paris:20230705T233000
DTSTAMP:20260426T014247
CREATED:20230703T101035Z
LAST-MODIFIED:20230703T112609Z
UID:5259-1688587200-1688599800@theblacklab.fr
SUMMARY:FOREVER PAVOT
DESCRIPTION:Ah Bon? Productions et THE BLACK LAB proudly present \n\n\n\nFOREVER PAVOTForever Pavot est un télescopage entre musique de films avec Jean-Paul Belmondo\, rock progressif à la YES et chanson française expérimentale sans égale… Oui\, oui\, on aime beaucoup parce que ça vaut vraiment le coup. Unique dans le paysage musical français\, les compositions et les textes de Emile Sornin résonnent d’une modernité absolue malgré son ancrage dans l’ancien : de ses influences aux instruments qu’il utilise. C’est Born Bad Records qui suit le groupe depuis ses débuts et c’est le magnifique 3e album sorti le 3 février 2023 que viendra présenter Emile et ses comparses en mode FULL SET SUMMER : notre ONLY ONE BAND TONITE mais en été (dingue !). Dernier point : on les a vu plusieurs fois et en live\, ça défonce. Maintenant que vous avez les références et que vous savez que c’est bien\, venez. \n\n\n\n\n\n\n\n\n\n\n\n\n\n\n\n\nACHETEZ VOS BILLETS
URL:https://theblacklab.fr/agenda/forever-pavot-2/
CATEGORIES:ÉVÉNEMENT,SLIDER
ATTACH;FMTTYPE=image/png:https://theblacklab.fr/BL/wp-content/uploads/2023/05/FOREVER-PAVOT-slider.png
END:VEVENT
END:VCALENDAR