BEGIN:VCALENDAR
VERSION:2.0
PRODID:-//THE BLACK LAB - ECPv6.6.4//NONSGML v1.0//EN
CALSCALE:GREGORIAN
METHOD:PUBLISH
X-ORIGINAL-URL:https://theblacklab.fr
X-WR-CALDESC:évènements pour THE BLACK LAB
REFRESH-INTERVAL;VALUE=DURATION:PT1H
X-Robots-Tag:noindex
X-PUBLISHED-TTL:PT1H
BEGIN:VTIMEZONE
TZID:Europe/Paris
BEGIN:DAYLIGHT
TZOFFSETFROM:+0100
TZOFFSETTO:+0200
TZNAME:CEST
DTSTART:20230326T010000
END:DAYLIGHT
BEGIN:STANDARD
TZOFFSETFROM:+0200
TZOFFSETTO:+0100
TZNAME:CET
DTSTART:20231029T010000
END:STANDARD
END:VTIMEZONE
BEGIN:VEVENT
DTSTART;TZID=Europe/Paris:20230807T200000
DTEND;TZID=Europe/Paris:20230807T233000
DTSTAMP:20260426T001648
CREATED:20230609T115941Z
LAST-MODIFIED:20230705T141500Z
UID:5201-1691438400-1691451000@theblacklab.fr
SUMMARY:STEVE VON TILL
DESCRIPTION:THE BLACK LAB proudly presents \n\n\n\nSTEVE VON TILL – Musique contemplative / Dark Folk (US) \n\n\n\nArchtung sur cette venue dont on est très fière : Steve Von Till\, éminent guitariste et chanteur de Neurosis @ THE BLACK LAB en août prochain. “Avec une discographie solo qui s’étend sur plus de deux décennies\, Steve Von Till a épluché les couches de la réalité dans une recherche sans fin du sens profond des choses et de l’émotion à l’état brut” pour vous livrer une folk sombre\, la plus sombre qui soit. C’est en live band qu’il viendra nous présenter son dernier album “A Deep Voiceless Wilderness” paru chez qui ? Ah ah\, fans et groupies de la première heure\, chez le très respectable label Neurot Recordings.Et maintenant\, séquence contemplation (attention\, c’est très très beau) \n\n\n\n\n\n\n\n\n\n \n\n\n\n \n\n\n\n\n\n\n\n\n\n\n\n\n\n\n\n\n\nTarifs (hors frais de location) : >> Tarif plein 20€ en prévente / 25€ sur place>> Tarif réduit 13€ pour les moins de 16 ans\, étudiants\, demandeurs d’emploi\, bénéficiaires des minima sociaux (sur présentation d’un justificatif au contrôle d’accès)>> Gratuit pour les moins de 13 ans \n\n\n\n\nACHETEZ VOS BILLETS\n\n\n\n\nPour toute revente de tickets merci d’utiliser la plateforme sécurisée de notre partenaire Ticketswap :https://www.ticketswap.fr/organizer/the-black-lab/1e321ecc-26b2-407d-beec-5e622438db8e
URL:https://theblacklab.fr/agenda/steve-von-till/
CATEGORIES:ÉVÉNEMENT,SLIDER
ATTACH;FMTTYPE=image/png:https://theblacklab.fr/BL/wp-content/uploads/2023/06/STEVE-VON-TILL-slider.png
END:VEVENT
END:VCALENDAR