BEGIN:VCALENDAR
VERSION:2.0
PRODID:-//THE BLACK LAB - ECPv6.6.4//NONSGML v1.0//EN
CALSCALE:GREGORIAN
METHOD:PUBLISH
X-ORIGINAL-URL:https://theblacklab.fr
X-WR-CALDESC:évènements pour THE BLACK LAB
REFRESH-INTERVAL;VALUE=DURATION:PT1H
X-Robots-Tag:noindex
X-PUBLISHED-TTL:PT1H
BEGIN:VTIMEZONE
TZID:Europe/Paris
BEGIN:DAYLIGHT
TZOFFSETFROM:+0100
TZOFFSETTO:+0200
TZNAME:CEST
DTSTART:20230326T010000
END:DAYLIGHT
BEGIN:STANDARD
TZOFFSETFROM:+0200
TZOFFSETTO:+0100
TZNAME:CET
DTSTART:20231029T010000
END:STANDARD
END:VTIMEZONE
BEGIN:VEVENT
DTSTART;TZID=Europe/Paris:20230816T183000
DTEND;TZID=Europe/Paris:20230816T233000
DTSTAMP:20260426T001724
CREATED:20230725T135931Z
LAST-MODIFIED:20230725T135933Z
UID:5308-1692210600-1692228600@theblacklab.fr
SUMMARY:BLINDEST
DESCRIPTION: BLINDTEST ALERT  \n\n\n\nNouvelle date : mercredi 16 août 2023 \n\n\n\nStop ! On arrête la bronzette et go to THE BLACK LAB pour le tant envié blindtest de DJ Tof. \n\n\n\nTHEMATIQUE : Un bon mix entre les vacances et un bêtisier de l’année écoulée\, t’es ok ? (on est bat !) \n\n\n\nEt n’oubliez pas : Shazam est ton ennemi. L’équipe qui remporte grâce à Shazam\, ne pourra plus jamais se regarder dans un miroir\, bien fait. \n\n\n\nAs usual : de nombreux lots à gagner. \n\n\n\n(Good) snacking sur place.Happy Hour de 17 à 19h.
URL:https://theblacklab.fr/agenda/blindest-2/
CATEGORIES:ÉVÉNEMENT
ATTACH;FMTTYPE=image/png:https://theblacklab.fr/BL/wp-content/uploads/2023/05/lider-tof.png
END:VEVENT
END:VCALENDAR