BEGIN:VCALENDAR
VERSION:2.0
PRODID:-//THE BLACK LAB - ECPv6.6.4//NONSGML v1.0//EN
CALSCALE:GREGORIAN
METHOD:PUBLISH
X-WR-CALNAME:THE BLACK LAB
X-ORIGINAL-URL:https://theblacklab.fr
X-WR-CALDESC:évènements pour THE BLACK LAB
REFRESH-INTERVAL;VALUE=DURATION:PT1H
X-Robots-Tag:noindex
X-PUBLISHED-TTL:PT1H
BEGIN:VTIMEZONE
TZID:Europe/Paris
BEGIN:DAYLIGHT
TZOFFSETFROM:+0100
TZOFFSETTO:+0200
TZNAME:CEST
DTSTART:20230326T010000
END:DAYLIGHT
BEGIN:STANDARD
TZOFFSETFROM:+0200
TZOFFSETTO:+0100
TZNAME:CET
DTSTART:20231029T010000
END:STANDARD
END:VTIMEZONE
BEGIN:VEVENT
DTSTART;TZID=Europe/Paris:20230826T120000
DTEND;TZID=Europe/Paris:20230826T233000
DTSTAMP:20260426T001459
CREATED:20230711T132354Z
LAST-MODIFIED:20230711T132356Z
UID:5277-1693051200-1693092600@theblacklab.fr
SUMMARY:BREW OR DIE 2
DESCRIPTION:BREW OR DIE 2 : Le retour. \n\n\n\nAprès une 1e édition flamboyante\, Cerbère Coryphée\, Ah Bon ? Productions et THE BLACK LAB unissent leurs bons goûts pour vous proposer BREW OR DIE 2 : un événement en mode circuit-court dédié à la bière artisanale et à la musique locale. \n\n\n\nDe midi à 02h00 du mat’ : restau\, fléchettes\, dj\, groupes locaux et bien-sûr craft beers du terroir en présence des brasseries. \n\n\n\nLes noms des groupes et brasseurs seront TO BE ANNOUNCED pour cet événement qui sera gratuit\, familial et convivial. \n\n\n\nSamedi 26 août 2023Midi > 02h00Événement gratuit mais réservation vivement conseillée via la plateforme de billetterie Yurplan : https://ypl.me/s0Q \n\n\n\nRéservation restaurant 12h > 14h : restau@thablacklab.fr ou 03 20 89 81 10Inscription concours fléchettes 14h > 19h : à venir \n\n\n\nRestauration sur place :– Restaurant ouvert le midi (réservez !)– Good snacking le soir \n\n\n\nPROTECTIONS AUDITIVES OBLIGATOIRES DURANT LES CONCERTS POUR LES MINEURS DE MOINS DE 16 ANSL’abus d’alcool est dangereux pour la santé \n\n\n\n\n\n\n\n\n\n\n\n\n\n\n\n\n\n\nACHETEZ VOS BILLETS
URL:https://theblacklab.fr/agenda/brew-or-die-2/
CATEGORIES:ÉVÉNEMENT,SLIDER
ATTACH;FMTTYPE=image/png:https://theblacklab.fr/BL/wp-content/uploads/2023/07/slider-brew-or-die-2.png
END:VEVENT
END:VCALENDAR