BEGIN:VCALENDAR
VERSION:2.0
PRODID:-//THE BLACK LAB - ECPv6.6.4//NONSGML v1.0//EN
CALSCALE:GREGORIAN
METHOD:PUBLISH
X-ORIGINAL-URL:https://theblacklab.fr
X-WR-CALDESC:évènements pour THE BLACK LAB
REFRESH-INTERVAL;VALUE=DURATION:PT1H
X-Robots-Tag:noindex
X-PUBLISHED-TTL:PT1H
BEGIN:VTIMEZONE
TZID:Europe/Paris
BEGIN:DAYLIGHT
TZOFFSETFROM:+0100
TZOFFSETTO:+0200
TZNAME:CEST
DTSTART:20230326T010000
END:DAYLIGHT
BEGIN:STANDARD
TZOFFSETFROM:+0200
TZOFFSETTO:+0100
TZNAME:CET
DTSTART:20231029T010000
END:STANDARD
END:VTIMEZONE
BEGIN:VEVENT
DTSTART;TZID=Europe/Paris:20230912T193000
DTEND;TZID=Europe/Paris:20230912T230000
DTSTAMP:20260426T001827
CREATED:20230607T135859Z
LAST-MODIFIED:20230607T135903Z
UID:5192-1694547000-1694559600@theblacklab.fr
SUMMARY:THE GOOD\, THE BAD & THE LOCAL (STUCK IN YESTERDAY + NEEDLES)
DESCRIPTION:Parce qu’on estime qu’il n’y a pas assez d’endroits où jouer. Parce que tout un chacun a le droit fondamental de pouvoir s’exprimer. Parce que participer à la vie culturelle de son territoire est essentiel. Parce que le Rock’n’Roll c’est la santé… \n\n\n\n“THE GOOD\, THE BAD & THE LOCAL” PRESENTS \n\n\n\nSTUCK IN YESTERDAY + NEEDLES
URL:https://theblacklab.fr/agenda/the-good-the-bad-the-local-stuck-in-yesterday-needles/
CATEGORIES:ÉVÉNEMENT
ATTACH;FMTTYPE=image/png:https://theblacklab.fr/BL/wp-content/uploads/2023/05/theGoodTheBad.png
END:VEVENT
END:VCALENDAR