BEGIN:VCALENDAR
VERSION:2.0
PRODID:-//THE BLACK LAB - ECPv6.6.4//NONSGML v1.0//EN
CALSCALE:GREGORIAN
METHOD:PUBLISH
X-WR-CALNAME:THE BLACK LAB
X-ORIGINAL-URL:https://theblacklab.fr
X-WR-CALDESC:évènements pour THE BLACK LAB
REFRESH-INTERVAL;VALUE=DURATION:PT1H
X-Robots-Tag:noindex
X-PUBLISHED-TTL:PT1H
BEGIN:VTIMEZONE
TZID:Europe/Paris
BEGIN:DAYLIGHT
TZOFFSETFROM:+0100
TZOFFSETTO:+0200
TZNAME:CEST
DTSTART:20230326T010000
END:DAYLIGHT
BEGIN:STANDARD
TZOFFSETFROM:+0200
TZOFFSETTO:+0100
TZNAME:CET
DTSTART:20231029T010000
END:STANDARD
END:VTIMEZONE
BEGIN:VEVENT
DTSTART;TZID=Europe/Paris:20231011T200000
DTEND;TZID=Europe/Paris:20231011T233000
DTSTAMP:20260425T211438
CREATED:20230314T111149Z
LAST-MODIFIED:20230314T111151Z
UID:4998-1697054400-1697067000@theblacklab.fr
SUMMARY:LORD OF THE LOST
DESCRIPTION:À GAUCHE DE LA LUNE proudly presents \n\n\n\n \n\n\n\nUn nom qui\, au cours des 13 dernières années\, s’est installé au top de la musique sombre. Les Allemands explore toutes les facettes du style en montrant à tous que les frontières ne sont destinées qu’à être brisé. Jonglant avec le métal\, l’industriel\, le glam et le rock / pop\, le groupe a su se re-inventer tant musicalement que visuellement\, les conduisant aujourd’hui\, à un succès international croissant. \n\n\n\n \n\n\n\n\n\n\n\n\n\n\n\n\n\n\n\n\n\n\n\n\nACHETEZ VOS BILLETS
URL:https://theblacklab.fr/agenda/lord-of-the-lost/
CATEGORIES:ÉVÉNEMENT,SLIDER
ATTACH;FMTTYPE=image/png:https://theblacklab.fr/BL/wp-content/uploads/2023/03/LORD-OF-THE-LOST-slider.png
END:VEVENT
END:VCALENDAR