BEGIN:VCALENDAR
VERSION:2.0
PRODID:-//THE BLACK LAB - ECPv6.6.4//NONSGML v1.0//EN
CALSCALE:GREGORIAN
METHOD:PUBLISH
X-WR-CALNAME:THE BLACK LAB
X-ORIGINAL-URL:https://theblacklab.fr
X-WR-CALDESC:évènements pour THE BLACK LAB
REFRESH-INTERVAL;VALUE=DURATION:PT1H
X-Robots-Tag:noindex
X-PUBLISHED-TTL:PT1H
BEGIN:VTIMEZONE
TZID:Europe/Paris
BEGIN:DAYLIGHT
TZOFFSETFROM:+0100
TZOFFSETTO:+0200
TZNAME:CEST
DTSTART:20230326T010000
END:DAYLIGHT
BEGIN:STANDARD
TZOFFSETFROM:+0200
TZOFFSETTO:+0100
TZNAME:CET
DTSTART:20231029T010000
END:STANDARD
END:VTIMEZONE
BEGIN:VEVENT
DTSTART;TZID=Europe/Paris:20231028T200000
DTEND;TZID=Europe/Paris:20231028T233000
DTSTAMP:20260425T211418
CREATED:20230111T144752Z
LAST-MODIFIED:20230911T113422Z
UID:4820-1698523200-1698535800@theblacklab.fr
SUMMARY://COMPLET// LUDWIG VON 88 + GOGOL PREMIER
DESCRIPTION:THE BLACK LAB proudly presents : \n\n\n\n \n\n\n\nLUDWIG VON 88 – 40 ans de no future \n\n\n\n« Le No Future\, c’est l’éternité confronté au doute » *Après 40 ans de répétitions\, les Ludwig von 88 sont enfin prêts. Durant toute l’année 2023\, ils présenteront leur grand show lors de 40 concerts dans les salles de Belgique\, Suisse et France\, afin de confronter leur public à un spectacle qu’ils ont souhaité aussi approximatif que total\, aussi bobo que baba\, aussi furieux que feng shui. Et pour ceux qui n’auront pas l’autorisation d’aller se dévergonder dans les salles de mauvaises mœurs du rock francophone\, les Ludwig proposeront\, en guise de séance de rattrapage\, 52 chansons diffusées sur internet (une par semaine)\, ainsi que 4 albums vinyle (un par saison)\, ainsi que des bonus divers et variés\, et toujours de bon goût.Heureux les fans des Ludwig car ils connaîtront le pogo éternel et se rouleront dans le punk approximatif sous les ailes des anges\, portés par le chant choral et melliflu des chérubins\, Houlala in exclesis pour les siècles des siècles.* Jean-Pierre Ramones\, Mes mémoires du 1-2-3-4\, AZM éditions\, 2024. \n\n\n\n \n\n\n\nGOGOL PREMIER – punk de salon (FR) \n\n\n\nFaut-il présenter l’irrévérencieux Gogol Premier ? Artiste agitateur du mouvement punk français\, pourfendeur des puissants et défenseur des faibles qui a écrit des hymnes comme “J’encule” ou “C’est vraiment fou la Disco”\, titre figurant sur la bande-son de Tchao Pantin\, film mythique avec Coluche. Il faut dire que Gogol Premier est l’exemple même de la détermination artistique\, fidèle à lui même\, il vient fêter ses 40 ans de règne mouvementé @ THE BLACK LAB accompagné de la Horde insubmersible. Encore une date unique puisque Ludwig Von 88 et Gogol Premier n’ont\, en 40 ans\, jamais foulé les planches ensemble\, juste dingue. \n\n\n\n\n \n\n\n\n\n\n\n\n\n\n\n\n\n\n\n\n\n\n\n\n\n\n\n\n\n\nCOMPLET
URL:https://theblacklab.fr/agenda/ludwig-von-88/
CATEGORIES:ÉVÉNEMENT,SLIDER
ATTACH;FMTTYPE=image/png:https://theblacklab.fr/BL/wp-content/uploads/2023/01/LUDWIG-VON-88-slider-1.png
END:VEVENT
END:VCALENDAR