BEGIN:VCALENDAR
VERSION:2.0
PRODID:-//THE BLACK LAB - ECPv6.6.4//NONSGML v1.0//EN
CALSCALE:GREGORIAN
METHOD:PUBLISH
X-ORIGINAL-URL:https://theblacklab.fr
X-WR-CALDESC:évènements pour THE BLACK LAB
REFRESH-INTERVAL;VALUE=DURATION:PT1H
X-Robots-Tag:noindex
X-PUBLISHED-TTL:PT1H
BEGIN:VTIMEZONE
TZID:Europe/Paris
BEGIN:DAYLIGHT
TZOFFSETFROM:+0100
TZOFFSETTO:+0200
TZNAME:CEST
DTSTART:20230326T010000
END:DAYLIGHT
BEGIN:STANDARD
TZOFFSETFROM:+0200
TZOFFSETTO:+0100
TZNAME:CET
DTSTART:20231029T010000
END:STANDARD
END:VTIMEZONE
BEGIN:VEVENT
DTSTART;TZID=Europe/Paris:20231125T200000
DTEND;TZID=Europe/Paris:20231125T233000
DTSTAMP:20260425T194718
CREATED:20230628T150621Z
LAST-MODIFIED:20230628T150623Z
UID:5230-1700942400-1700955000@theblacklab.fr
SUMMARY:SKYND
DESCRIPTION:THE BLACK LAB \, A Gauche De La Lune & LIVE NATION proudly present \n\n\n\nSKYND – Rock Industriel  \n\n\n\nSKYNDFormé en 2018\, SKYND est un groupe de rock industriel connu pour leur esthétique musicale saisissante et leurs paroles controversées qui s’inspirent d’histoires troublantes liées à des événements tragiques. \n\n\n\nComposé de la chanteuse SKYND et du producteur/multi-instrumentaliste Father\, le duo explore la psyché humaine et ses côtés les plus sombres. Ils ont tous les deux attiré l’attention du public dès leur premier single\, « Gary Heidnik »\, sorti en 2018. SKYND a alors enchaîné avec d’autres morceaux tout aussi captivants tels que « Elisa Lam »\, « Tyler Hadley » ou encore « Katherine Knight » \n\n\n\nGrâce à leur fusion novatrice de différents genres musicaux\, une narration intense et des performances scéniques captivantes\, leur art a attiré l’attention de fans à travers le monde entier. \n\n\n\n\n\n\n\n\n\n \n\n\n\n \n\n\n\n\n\n\n\n\n\n\n\n\n\n\n\n\n\n\nACHETEZ VOS BILLETS
URL:https://theblacklab.fr/agenda/skynd/
CATEGORIES:ÉVÉNEMENT,SLIDER
ATTACH;FMTTYPE=image/png:https://theblacklab.fr/BL/wp-content/uploads/2023/06/skynd-slider.png
END:VEVENT
END:VCALENDAR