BEGIN:VCALENDAR
VERSION:2.0
PRODID:-//THE BLACK LAB - ECPv6.6.4//NONSGML v1.0//EN
CALSCALE:GREGORIAN
METHOD:PUBLISH
X-WR-CALNAME:THE BLACK LAB
X-ORIGINAL-URL:https://theblacklab.fr
X-WR-CALDESC:évènements pour THE BLACK LAB
REFRESH-INTERVAL;VALUE=DURATION:PT1H
X-Robots-Tag:noindex
X-PUBLISHED-TTL:PT1H
BEGIN:VTIMEZONE
TZID:Europe/Paris
BEGIN:DAYLIGHT
TZOFFSETFROM:+0100
TZOFFSETTO:+0200
TZNAME:CEST
DTSTART:20230326T010000
END:DAYLIGHT
BEGIN:STANDARD
TZOFFSETFROM:+0200
TZOFFSETTO:+0100
TZNAME:CET
DTSTART:20231029T010000
END:STANDARD
END:VTIMEZONE
BEGIN:VEVENT
DTSTART;TZID=Europe/Paris:20231202T200000
DTEND;TZID=Europe/Paris:20231202T233000
DTSTAMP:20260425T181616
CREATED:20230828T150326Z
LAST-MODIFIED:20231111T194603Z
UID:5337-1701547200-1701559800@theblacklab.fr
SUMMARY:LUBOMYR MELNYK + JOZEF VAN WISSEM
DESCRIPTION:Jazz en Nord et THE BLACK LAB proudly present \n\n\n\nLUBOMYR MELNYK – Musique continue (CAN/UKR) \n\n\n\nTHE BLACK LAB monte d’un cran en accueillant un maître incontesté\, ceinture noire de piano : Lubomyr Melnyk. Ukrainien vivant au Canada\, Lubomyr a tout simplement inventé un style à part entière. A la fois impressionnant et pourtant tellement fluide\, son jeu transcende la pratique du piano. Dans une ITW à regarder absolument (https://youtu.be/LICgfSqZcdg)\, il compare sa technique à celle du Kung Fu : “it’s pure energy”\, à un point tel qu’il peut jouer plus de 19 notes à la seconde sans être démonstratif. Il assure que lui\, le piano et l’auditeur entrent en communion lors de ses concerts d’une beauté inédite. On peut vous promettre qu’il s’agit là d’une expérience unique qu’il faut vivre au moins une fois dans sa vie. \n  \n \n\n\n\nJOZEF VAN WISSEM – Musique baroque avant-gardiste (NL)Luthiste d’avant-garde et musicien baroque\, Jozef van Wissem est un incroyable instrumentiste et compositeur dont la nature des œuvres ont souvent un attrait mystique et intemporel. On le retrouve entre autre sur la fabuleuse B.O. du film “Only Lovers Left Alive” de Jim Jarmusch qu’il a co-écrite et que l’on vous recommande vivement. C’est avec une joie non dissimulée que nous l’accueillons pour une soirée placée sous le signe d’une musique minimaliste et contemplative. \n \n\n\n\n \n\n\n\n\n\n \n\n\n\n\n\n>> Tarif plein 20€ en prévente / 25€ sur place>> Tarif réduit 13€ pour les moins de 16 ans\, étudiants\, demandeurs d’emploi\, bénéficiaires des minima sociaux (sur présentation d’un justificatif au contrôle d’accès)>> Gratuit pour les moins de 13 ans \n\n\n\n\nACHETEZ VOS BILLETS\n\n\n\n\nPour toute revente de tickets merci d’utiliser la plateforme sécurisée de notre partenaire Ticketswap :https://www.ticketswap.fr/organizer/the-black-lab/1e321ecc-26b2-407d-beec-5e622438db8e \n\n\n\n \n\n\n\n\n\n\n\n 
URL:https://theblacklab.fr/agenda/lubomyr-melnyk-jozef-van-wissem/
CATEGORIES:ÉVÉNEMENT,SLIDER
ATTACH;FMTTYPE=image/png:https://theblacklab.fr/BL/wp-content/uploads/2023/08/LUBOMYR-JOZEF-slider.png
END:VEVENT
END:VCALENDAR