BEGIN:VCALENDAR
VERSION:2.0
PRODID:-//THE BLACK LAB - ECPv6.6.4//NONSGML v1.0//EN
CALSCALE:GREGORIAN
METHOD:PUBLISH
X-WR-CALNAME:THE BLACK LAB
X-ORIGINAL-URL:https://theblacklab.fr
X-WR-CALDESC:évènements pour THE BLACK LAB
REFRESH-INTERVAL;VALUE=DURATION:PT1H
X-Robots-Tag:noindex
X-PUBLISHED-TTL:PT1H
BEGIN:VTIMEZONE
TZID:Europe/Paris
BEGIN:DAYLIGHT
TZOFFSETFROM:+0100
TZOFFSETTO:+0200
TZNAME:CEST
DTSTART:20230326T010000
END:DAYLIGHT
BEGIN:STANDARD
TZOFFSETFROM:+0200
TZOFFSETTO:+0100
TZNAME:CET
DTSTART:20231029T010000
END:STANDARD
END:VTIMEZONE
BEGIN:VEVENT
DTSTART;TZID=Europe/Paris:20231209T183000
DTEND;TZID=Europe/Paris:20231209T233000
DTSTAMP:20260425T182528
CREATED:20230911T115806Z
LAST-MODIFIED:20231128T151846Z
UID:5408-1702146600-1702164600@theblacklab.fr
SUMMARY:40 ANS DE SCRAPS !
DESCRIPTION:+ HIATUS + JODIE FASTER + PLAGUE THIRTEEN + RÖT STEWART \n\n\n\n\n\n\n\n\n\n\n\n\n\nCrazukids présente une nouvelle soirée 100% groupes amateurs et toujours DIY pour les 40 ans de Scraps !au programme :  \n\n\n\nSCRAPS (sortie du nouvel album / punk hardcore depuis 1983 / Lille)écoute > https://scraps.bandcamp.com/ \n\n\n\nHIATUS (nouvel abum / in grind they crust depuis 1989 / Liège (BE))fb > https://www.facebook.com/profile.php?id=100062081990032écoute > https://ruinnationrecords.bandcamp.com/album/out-of-hands \n\n\n\nJODIE FASTER (fast hardcore punk depuis 2016 / Lille)fb > https://www.facebook.com/JODIEFASTER59écoute > https://jodiefaster.bandcamp.com/ \n\n\n\nPLAGUE THIRTEEN (crust hardcore depuis 2019 / Ieper (BE))fb > https://www.facebook.com/profile.php?id=100063491173265écoute > https://plaguethirteen.bandcamp.com \n\n\n\nRÖT STEWART (punk hardcore / Kortrijk (BE))fb > https://www.facebook.com/officialrotstewartécoute > https://rotstewart.bandcamp.com/album/all-split-up \n\n\n\n_______________________________________ \n\n\n\nFin des concerts avant le dernier métro_______________________________________ \n\n\n\n  \n\n\n\nPRIX LIBRE \n\n\n\n\n\n\n\n\n\n 
URL:https://theblacklab.fr/agenda/40-ans-de-scraps/
CATEGORIES:ÉVÉNEMENT,SLIDER
ATTACH;FMTTYPE=image/png:https://theblacklab.fr/BL/wp-content/uploads/2023/09/SCRAPS-slider-1.png
END:VEVENT
END:VCALENDAR