BEGIN:VCALENDAR
VERSION:2.0
PRODID:-//THE BLACK LAB - ECPv6.6.4//NONSGML v1.0//EN
CALSCALE:GREGORIAN
METHOD:PUBLISH
X-ORIGINAL-URL:https://theblacklab.fr
X-WR-CALDESC:évènements pour THE BLACK LAB
REFRESH-INTERVAL;VALUE=DURATION:PT1H
X-Robots-Tag:noindex
X-PUBLISHED-TTL:PT1H
BEGIN:VTIMEZONE
TZID:Europe/Paris
BEGIN:DAYLIGHT
TZOFFSETFROM:+0100
TZOFFSETTO:+0200
TZNAME:CEST
DTSTART:20240331T010000
END:DAYLIGHT
BEGIN:STANDARD
TZOFFSETFROM:+0200
TZOFFSETTO:+0100
TZNAME:CET
DTSTART:20241027T010000
END:STANDARD
END:VTIMEZONE
BEGIN:VEVENT
DTSTART;TZID=Europe/Paris:20240119T200000
DTEND;TZID=Europe/Paris:20240119T233000
DTSTAMP:20260425T170555
CREATED:20231109T075223Z
LAST-MODIFIED:20231109T075454Z
UID:5487-1705694400-1705707000@theblacklab.fr
SUMMARY:PINK FLOYD NIGHT
DESCRIPTION:WARM UP #1 TRIBUTE FEST 2024 (CINÉ-CONCERT/CONCERT)\n\n\nThe Soax and THE BLACK LAB proudly present \n\n\n\nBack to the Wall par Kingsport Head VS Gilmour Unplugged \nRappel afin de planifier votre venue :19:00 : Ouverture des portes et billetterie sur place.20:00 : Début de la première partie : “Gilmour Unplugged” interprète les plus belles chansons de David Gilmour.21:00 : Début du Ciné-Concert “Back to the Wall” : Vivez l’expérience unique du ciné-concert Pink Floyd avec l’emblématique film “The Wall” joué en live par le groupe Kingsport Head.Fin des concerts avant le dernier métro.BIOGRAPHIE :BACK TO THE WALLThe Wall reste depuis 1979 le double-album le plus vendu de l’histoire (30 millions d’exemplaires)\, une pièce maîtresse de l’œuvre de Pink Floyd et un monument du rock.Aujourd’hui\, qui ne connaît pas le tube Another Brick In The Wall Part II ou le flamboyant solo de guitare de Comfortably Numb ? The Wall c’est aussi un film d’Alan Parker (1982) et des tournées monumentales aux moyens techniques et aux effets pyrotechniques impressionnants.Pour le groupe Kingsport Head\, ce concept-album revêt avant tout la forme d’un opéra-rock qui revendique l’ensemble des déclinaisons de l’œuvre pour vous proposer un spectacle original et immersif à plusieurs dimensions: cinématographique\, musicale et théâtrale. Ce spectacle de près de 2 heures fait la part belle au film d’Alan Parker ainsi qu’aux animations de Gerald Scarfe tout en parvenant à imposer une interprétation musicale live et une mise en scène au ton résolument polémique.——————–GILMOUR UNPLUGGEDLe quatuor acoustique Lillois rend hommage à David Gilmour en interprétant ses plus belles chansons dans un concert unique et intimiste. \n\n\n\n  \n\n\n\n  \n\n\n\n \n\n\n\n\n\n \nPrévente : 22€ / Sur place : 27€ / Tarifs réduits : 14€ / Gratuit – 13 ans\n\n\n\n\n\n\nACHETEZ VOS BILLETS\n\n\n\n\nPour toute revente de tickets merci d’utiliser la plateforme sécurisée de notre partenaire Ticketswap :https://www.ticketswap.fr/organizer/the-black-lab/1e321ecc-26b2-407d-beec-5e622438db8e \n\n\n\n \n\n\n\n\n\n\n\n 
URL:https://theblacklab.fr/agenda/pink-floyd-night/
CATEGORIES:ÉVÉNEMENT,SLIDER
ATTACH;FMTTYPE=image/jpeg:https://theblacklab.fr/BL/wp-content/uploads/2023/11/Slider_Homepage_TBL.jpg
END:VEVENT
END:VCALENDAR