BEGIN:VCALENDAR
VERSION:2.0
PRODID:-//THE BLACK LAB - ECPv6.6.4//NONSGML v1.0//EN
CALSCALE:GREGORIAN
METHOD:PUBLISH
X-WR-CALNAME:THE BLACK LAB
X-ORIGINAL-URL:https://theblacklab.fr
X-WR-CALDESC:évènements pour THE BLACK LAB
REFRESH-INTERVAL;VALUE=DURATION:PT1H
X-Robots-Tag:noindex
X-PUBLISHED-TTL:PT1H
BEGIN:VTIMEZONE
TZID:Europe/Paris
BEGIN:DAYLIGHT
TZOFFSETFROM:+0100
TZOFFSETTO:+0200
TZNAME:CEST
DTSTART:20240331T010000
END:DAYLIGHT
BEGIN:STANDARD
TZOFFSETFROM:+0200
TZOFFSETTO:+0100
TZNAME:CET
DTSTART:20241027T010000
END:STANDARD
END:VTIMEZONE
BEGIN:VEVENT
DTSTART;TZID=Europe/Paris:20240210T200000
DTEND;TZID=Europe/Paris:20240210T233000
DTSTAMP:20260425T151651
CREATED:20240119T163846Z
LAST-MODIFIED:20240119T163938Z
UID:5625-1707595200-1707607800@theblacklab.fr
SUMMARY:FRENCH ASSAULT 2 : FANGE + PENCEY SLOE + UNCOMFORTABLE KNOWLEDGE
DESCRIPTION:  \n\n\n\n\n\n\nTHE BLACK LAB proudly presents\n \nFRENCH ASSAULT 1 & 2La scène française at her best !À chaque French Assault\, on vous présentera la crème de la scène française. On ouvre cette série par deux dates et du lourd. Stay focus\, stay curious.\n\nSam 10 février 2024 :FANGE – Post IndusPENCEY SLOE – Post RockUNCOMFORTABLE KNOWLEDGE – Post Metal\n \n\nSam 3 février 2024 :DROPDEAD CHAOS – Alt MetalLOCOMUERTE – Thrash MetalMADJORA – Nu Metal\n\n\n\n \nATTENTION : Stengah ont dû malheureusement annuler leur participation\, c’est LOCOMUERTE qui les remplacent au pied levé.\n \n\n\n\n \n\n\n\n\n\n22€ (en prévente) / 27€ sur place / PASS 2 JOURS 30€ en prévente / 35€ sur place\n\n\n\n\n\n\nACHETEZ VOS BILLETS\n\n\n\n\nPour toute revente de tickets merci d’utiliser la plateforme sécurisée de notre partenaire Ticketswap : https://www.ticketswap.fr/organizer/the-black-lab/1e321ecc-26b2-407d-beec-5e622438db8e \n\n\n\n \n\n\n\n\n\n\n\n 
URL:https://theblacklab.fr/agenda/french-assault-2-fange-pencey-sloe-uncomfortable-knowledge/
CATEGORIES:ÉVÉNEMENT,SLIDER
ATTACH;FMTTYPE=image/png:https://theblacklab.fr/BL/wp-content/uploads/2024/01/FA1-slider-1.png
END:VEVENT
END:VCALENDAR