BEGIN:VCALENDAR
VERSION:2.0
PRODID:-//THE BLACK LAB - ECPv6.6.4//NONSGML v1.0//EN
CALSCALE:GREGORIAN
METHOD:PUBLISH
X-WR-CALNAME:THE BLACK LAB
X-ORIGINAL-URL:https://theblacklab.fr
X-WR-CALDESC:évènements pour THE BLACK LAB
REFRESH-INTERVAL;VALUE=DURATION:PT1H
X-Robots-Tag:noindex
X-PUBLISHED-TTL:PT1H
BEGIN:VTIMEZONE
TZID:Europe/Paris
BEGIN:DAYLIGHT
TZOFFSETFROM:+0100
TZOFFSETTO:+0200
TZNAME:CEST
DTSTART:20240331T010000
END:DAYLIGHT
BEGIN:STANDARD
TZOFFSETFROM:+0200
TZOFFSETTO:+0100
TZNAME:CET
DTSTART:20241027T010000
END:STANDARD
END:VTIMEZONE
BEGIN:VEVENT
DTSTART;TZID=Europe/Paris:20240216T200000
DTEND;TZID=Europe/Paris:20240216T233000
DTSTAMP:20260425T153723
CREATED:20240111T165915Z
LAST-MODIFIED:20240111T165915Z
UID:5601-1708113600-1708126200@theblacklab.fr
SUMMARY:NIRVANA UNPLUGGED 30ème ANNIVERSAIRE - WARM UP #2 DU TRIBUTE FEST 2024
DESCRIPTION:The Black Lab Tribute Fest and The BLACK LAB  proudly presents\n \nVenez revivre les 30 ans du Nirvana MTV Unplugged avec le show mythique reproduit à l’identique par le meilleur Tribute Nirvana en Europe et notre scénographe.\n\nEt pour le plus grand plaisir des fans invertébrés de Nirvana\, profitez d’un deuxième concert\, en électrique\, rendant hommage à l’œuvre de Kurt Cobain\, 30 ans après sa mort.\n \n\n\nNirvana par Bleach.\nAprès son second album Nevermind en 1991\, Nirvana à révolutionné la musique populaire en y apportant son goût de rock alternatif qui inspira toute une génération de musiciens.Après 10 ans de tournée\, dont une avec Chad Channing\, batteur fondateur de Nirvana\, Le Tribute Bleach nous fait le plaisir de venir d’Italie une seconde fois après son passage au The Black Lab Tribute Fest 2023.\n\n\n\n \n \n\n\n\n \n\n\n\n\n\n22€ (en prévente) / 27€ sur place / 14€ pour les réductions  / Gratuit pour les – de 13 ans\n\n\n\n\n\n\nACHETEZ VOS BILLETS\n\n\n\n\nPour toute revente de tickets merci d’utiliser la plateforme sécurisée de notre partenaire Ticketswap : https://www.ticketswap.fr/organizer/the-black-lab/1e321ecc-26b2-407d-beec-5e622438db8e \n\n\n\n \n\n\n\n\n\n\n\n 
URL:https://theblacklab.fr/agenda/nirvana-unplugged-30eme-anniversaire-warm-up-2-du-tribute-fest-2024/
CATEGORIES:ÉVÉNEMENT,SLIDER
ATTACH;FMTTYPE=image/png:https://theblacklab.fr/BL/wp-content/uploads/2024/01/tributefest2-slider.png
END:VEVENT
END:VCALENDAR