BEGIN:VCALENDAR
VERSION:2.0
PRODID:-//THE BLACK LAB - ECPv6.6.4//NONSGML v1.0//EN
CALSCALE:GREGORIAN
METHOD:PUBLISH
X-WR-CALNAME:THE BLACK LAB
X-ORIGINAL-URL:https://theblacklab.fr
X-WR-CALDESC:évènements pour THE BLACK LAB
REFRESH-INTERVAL;VALUE=DURATION:PT1H
X-Robots-Tag:noindex
X-PUBLISHED-TTL:PT1H
BEGIN:VTIMEZONE
TZID:Europe/Paris
BEGIN:DAYLIGHT
TZOFFSETFROM:+0100
TZOFFSETTO:+0200
TZNAME:CEST
DTSTART:20240331T010000
END:DAYLIGHT
BEGIN:STANDARD
TZOFFSETFROM:+0200
TZOFFSETTO:+0100
TZNAME:CET
DTSTART:20241027T010000
END:STANDARD
END:VTIMEZONE
BEGIN:VEVENT
DTSTART;TZID=Europe/Paris:20240217T200000
DTEND;TZID=Europe/Paris:20240217T233000
DTSTAMP:20260425T152340
CREATED:20231116T103810Z
LAST-MODIFIED:20231207T225349Z
UID:5538-1708200000-1708212600@theblacklab.fr
SUMMARY:SYNDROME 81 + OI BOYS + UTOPIE + CHIAROSCURO
DESCRIPTION:  \n\n\n\nDTTH recordz X Anticore Shows en collaboration avec THE BLACK LAB présentent :\n“Une soirée 100% DIY\, 100% amateur\, 400% punX”\n\n\n\n\n\n\n\nSYNDROME 81 (Oi Punk / Brest)https://syndrome81.bandcamp.com/\n \n\n \nOI BOYS (Synthpunk / Metz)\nhttps://oiboys.bandcamp.com/\n\n \n\n \nUTOPIE (Punk Froid / Lille)\nhttps://dtth.bandcamp.com/album/seconde-figure\n\n \n\n \nCHIAROSCURO (Punk Froid / Lille)https://dtth.bandcamp.com/album/la-fange\n\n\n\n\n \n\n\n\n \n\n\n\n\n\nPrix Libre & Responsable !\n\n\n\n \n\n\n\n\n\n\n\n 
URL:https://theblacklab.fr/agenda/syndrome-81-oi-boys-utopie-chiaroscuro/
CATEGORIES:ÉVÉNEMENT,SLIDER
ATTACH;FMTTYPE=image/png:https://theblacklab.fr/BL/wp-content/uploads/2023/11/syndrome-slider.png
END:VEVENT
END:VCALENDAR