BEGIN:VCALENDAR
VERSION:2.0
PRODID:-//THE BLACK LAB - ECPv6.6.4//NONSGML v1.0//EN
CALSCALE:GREGORIAN
METHOD:PUBLISH
X-WR-CALNAME:THE BLACK LAB
X-ORIGINAL-URL:https://theblacklab.fr
X-WR-CALDESC:évènements pour THE BLACK LAB
REFRESH-INTERVAL;VALUE=DURATION:PT1H
X-Robots-Tag:noindex
X-PUBLISHED-TTL:PT1H
BEGIN:VTIMEZONE
TZID:Europe/Paris
BEGIN:DAYLIGHT
TZOFFSETFROM:+0100
TZOFFSETTO:+0200
TZNAME:CEST
DTSTART:20240331T010000
END:DAYLIGHT
BEGIN:STANDARD
TZOFFSETFROM:+0200
TZOFFSETTO:+0100
TZNAME:CET
DTSTART:20241027T010000
END:STANDARD
END:VTIMEZONE
BEGIN:VEVENT
DTSTART;TZID=Europe/Paris:20240309T190000
DTEND;TZID=Europe/Paris:20240309T233000
DTSTAMP:20260425T135503
CREATED:20231024T122701Z
LAST-MODIFIED:20231024T123315Z
UID:5449-1710010800-1710027000@theblacklab.fr
SUMMARY:PERSEFONE + HYPNO5E
DESCRIPTION:+ STELLAR CIRCUIT + LAMPR3A \n\n\n\n\n\n\n\n\n\n\n\n\n\nTHE BLACK LAB proudly presentsEn accord avec Garmonbozia Inc. \n\n\n\nLA soirée progressive metal de 2024 avec une affiche internationale de poids : \n\n\n\nPERSEFONE (and) // Napalm Records \n\n\n\n\n\n\n\n\n\nen co-headlining avec \n\n\n\nHYPNO5E (fr) // Pelagic Records \n\n\n\n\n\n\n\n\n\n+ very special guests : \n\n\n\nSTELLAR CIRCUIT (us) // Nuclear Blast Records \n\n\n\n\n\n\n\n\n\nLAMPR3A (sp) // Art Gates Records \n\n\n\n\n\n\n\n\n\n \n\n\n\n \n\n\n\n\n\n\n\n\n\n\n\n\n\n\n\n\n\n\nACHETEZ VOS BILLETS\n\n\n\n\nPour toute revente de tickets merci d’utiliser la plateforme sécurisée de notre partenaire Ticketswap : https://www.ticketswap.fr/organizer/the-black-lab/1e321ecc-26b2-407d-beec-5e622438db8e
URL:https://theblacklab.fr/agenda/persefone-hypno5e/
CATEGORIES:ÉVÉNEMENT,SLIDER
ATTACH;FMTTYPE=image/png:https://theblacklab.fr/BL/wp-content/uploads/2023/10/Persefone-slider-1.png
END:VEVENT
END:VCALENDAR