BEGIN:VCALENDAR
VERSION:2.0
PRODID:-//THE BLACK LAB - ECPv6.6.4//NONSGML v1.0//EN
CALSCALE:GREGORIAN
METHOD:PUBLISH
X-ORIGINAL-URL:https://theblacklab.fr
X-WR-CALDESC:évènements pour THE BLACK LAB
REFRESH-INTERVAL;VALUE=DURATION:PT1H
X-Robots-Tag:noindex
X-PUBLISHED-TTL:PT1H
BEGIN:VTIMEZONE
TZID:Europe/Paris
BEGIN:DAYLIGHT
TZOFFSETFROM:+0100
TZOFFSETTO:+0200
TZNAME:CEST
DTSTART:20240331T010000
END:DAYLIGHT
BEGIN:STANDARD
TZOFFSETFROM:+0200
TZOFFSETTO:+0100
TZNAME:CET
DTSTART:20241027T010000
END:STANDARD
END:VTIMEZONE
BEGIN:VEVENT
DTSTART;TZID=Europe/Paris:20240315T193000
DTEND;TZID=Europe/Paris:20240315T233000
DTSTAMP:20260425T135837
CREATED:20231220T101544Z
LAST-MODIFIED:20231220T101701Z
UID:5587-1710531000-1710545400@theblacklab.fr
SUMMARY:UGLY KID JOE
DESCRIPTION:+ The Virginmarys\n  \n  \n\n\n\n\nETHER AGENCY et The BLACK LAB proudly present \n\n\n\nDoit on encore les présenter… Ugly Kid Joe est un groupe de heavy metal et hard rock américain\, originaire d’Isla Vista\, en Californie. Il est formé au début des années 1990. En 2022 l’album “Rad Wings of Destiny” voit leur grand retour . VIRGINMARYS \nIls seront accompgnés du duo de rock anglais originaire de Macclesfield\, en Angleterre\, The Virginmarys. Le groupe s’est formé en 2006 en trio et a auto-publié une série limitée d’EP à guichets fermés\, avant de sortir son premier album King of Conflict sur DoubleCross/Cooking Vinyl et Wind Up Records en février 2013. \n  \nhttps://www.facebook.com/TheVirginmarys \nhttps://www.thevirginmarys.com/  \nhttps://www.facebook.com/uglykidjoetheband \nhttps://uglykidjoe.net/ \n\n\n\n \n\n\n\n\n\nprix : 25 €\n\n\n\n\n\n\nACHETEZ VOS BILLETS\n\n\n\n\nPour toute revente de tickets merci d’utiliser la plateforme sécurisée de notre partenaire Ticketswap :https://www.ticketswap.fr/organizer/the-black-lab/1e321ecc-26b2-407d-beec-5e622438db8e \n\n\n\n \n\n\n\n\n\n\n\n 
URL:https://theblacklab.fr/agenda/ugly-kid-joe/
CATEGORIES:ÉVÉNEMENT,SLIDER
ATTACH;FMTTYPE=image/png:https://theblacklab.fr/BL/wp-content/uploads/2023/12/ugliekidjoe-slider.png
END:VEVENT
END:VCALENDAR