BEGIN:VCALENDAR
VERSION:2.0
PRODID:-//THE BLACK LAB - ECPv6.6.4//NONSGML v1.0//EN
CALSCALE:GREGORIAN
METHOD:PUBLISH
X-WR-CALNAME:THE BLACK LAB
X-ORIGINAL-URL:https://theblacklab.fr
X-WR-CALDESC:évènements pour THE BLACK LAB
REFRESH-INTERVAL;VALUE=DURATION:PT1H
X-Robots-Tag:noindex
X-PUBLISHED-TTL:PT1H
BEGIN:VTIMEZONE
TZID:Europe/Paris
BEGIN:DAYLIGHT
TZOFFSETFROM:+0100
TZOFFSETTO:+0200
TZNAME:CEST
DTSTART:20240331T010000
END:DAYLIGHT
BEGIN:STANDARD
TZOFFSETFROM:+0200
TZOFFSETTO:+0100
TZNAME:CET
DTSTART:20241027T010000
END:STANDARD
END:VTIMEZONE
BEGIN:VEVENT
DTSTART;TZID=Europe/Paris:20240316T190000
DTEND;TZID=Europe/Paris:20240316T233000
DTSTAMP:20260425T135330
CREATED:20231207T230453Z
LAST-MODIFIED:20231207T234536Z
UID:5557-1710615600-1710631800@theblacklab.fr
SUMMARY:TACHYCARDIE #3 + MSS FRNCE + GERARD BASTE & THE SLIP SQUAD + INFECTICIDE + DRUM'N'BASS by STAMIFF
DESCRIPTION:  \n\n\n\n\nCerbère Coryphée et THE BLACK LAB présentent :\n \nTACHYCARDIE #3\n \nLe Big Return de la soirée clubbing de l’enfer\, une sévère coopération Cerbère Coryphée x THE BLACK LAB.\n \nAu programme : des sonorités sombres\, de la dance dystopique\, de l’aérobic sauvage et grotesque\, du rétrofuturisme déconseillé aux cœurs fragiles…\nAvec les concerts phénoménaux de :\n \n+ MSS FRNCE – punk nerveux et déjanté\n+ GERARD BASTE & THE SLIP SQUAD – rap nerveux et déjanté\n+ INFECTICIDE – electro nerveuse et déjantée\n+ after party DRUM’N’BASS by STAMIFF – dj nerveux et déjanté\n\n \n \n\n\n\n \n\n\n\n\n\n27€ (en prévente) / 32€ sur place / 16€ pour les réductions  / Gratuit pour les – de 13 ans // + tarif uniquement pour l’after party Drum’n’Bass 5€ à partir de minuit\n\n\n\n\n\n\nACHETEZ VOS BILLETS\n\n\n\n\nPour toute revente de tickets merci d’utiliser la plateforme sécurisée de notre partenaire Ticketswap : https://www.ticketswap.fr/organizer/the-black-lab/1e321ecc-26b2-407d-beec-5e622438db8e \n\n\n\n \n\n\n\n\n\n\n\n 
URL:https://theblacklab.fr/agenda/tachycardie-3-mss-frnce-gerard-baste-the-slip-squad-infecticide-drumnbass-by-stamiff/
CATEGORIES:ÉVÉNEMENT,SLIDER
ATTACH;FMTTYPE=image/png:https://theblacklab.fr/BL/wp-content/uploads/2023/12/TACHYCARDIE-slider.png
END:VEVENT
END:VCALENDAR