BEGIN:VCALENDAR
VERSION:2.0
PRODID:-//THE BLACK LAB - ECPv6.6.4//NONSGML v1.0//EN
CALSCALE:GREGORIAN
METHOD:PUBLISH
X-ORIGINAL-URL:https://theblacklab.fr
X-WR-CALDESC:évènements pour THE BLACK LAB
REFRESH-INTERVAL;VALUE=DURATION:PT1H
X-Robots-Tag:noindex
X-PUBLISHED-TTL:PT1H
BEGIN:VTIMEZONE
TZID:Europe/Paris
BEGIN:DAYLIGHT
TZOFFSETFROM:+0100
TZOFFSETTO:+0200
TZNAME:CEST
DTSTART:20240331T010000
END:DAYLIGHT
BEGIN:STANDARD
TZOFFSETFROM:+0200
TZOFFSETTO:+0100
TZNAME:CET
DTSTART:20241027T010000
END:STANDARD
END:VTIMEZONE
BEGIN:VEVENT
DTSTART;TZID=Europe/Paris:20240402T200000
DTEND;TZID=Europe/Paris:20240402T233000
DTSTAMP:20260425T133352
CREATED:20240222T174627Z
LAST-MODIFIED:20240222T180508Z
UID:5780-1712088000-1712100600@theblacklab.fr
SUMMARY:THE GOOD\, THE BAD & THE LOCAL : Up-Tempo Tribute Crew + Esum
DESCRIPTION:Parce qu’on estime qu’il n’y a pas assez d’endroits où jouer. Parce que tout un chacun a le droit fondamental de pouvoir s’exprimer. Parce que participer à la vie culturelle de son territoire est essentiel. Parce que le Rock’n’Roll c’est la santé…THE BLACK LAB met en oeuvre un système d’auto-programmation à destination des groupes amateurs qui répètent dans ses studios. Inspiré d’initiatives similaires\, il s’agit tout simplement de permettre aux musiciennes et musiciens amateurs de se produire en public dans de bonnes conditions.Pas de choix esthétique\, aucun jugement de valeurs\, mais il faudra jouer accordés et ensemble quand cela est nécessaire. \n\n\n\n\n\n\n\nProcessed with MOLDIV\n\n\n\nNouvelle date pour ESUM au black lab. Nous avons le plaisir de partager la scène avec les UP-TEMPO TRIBUTE CREW !  \n\n\n\n(attention show à la californienne en vue !) \n\n\n\n\nVoir l’event Facebook\n\n\n\n\n\n\n\n\n\nEntrée gratuite toute la soirée !
URL:https://theblacklab.fr/agenda/the-good-the-bad-the-local-up-tempo-tribute-crew-esum/
CATEGORIES:ÉVÉNEMENT
ATTACH;FMTTYPE=image/png:https://theblacklab.fr/BL/wp-content/uploads/2024/02/GOODBADLOCAL-slider.png
END:VEVENT
END:VCALENDAR