BEGIN:VCALENDAR
VERSION:2.0
PRODID:-//THE BLACK LAB - ECPv6.6.4//NONSGML v1.0//EN
CALSCALE:GREGORIAN
METHOD:PUBLISH
X-ORIGINAL-URL:https://theblacklab.fr
X-WR-CALDESC:évènements pour THE BLACK LAB
REFRESH-INTERVAL;VALUE=DURATION:PT1H
X-Robots-Tag:noindex
X-PUBLISHED-TTL:PT1H
BEGIN:VTIMEZONE
TZID:Europe/Paris
BEGIN:DAYLIGHT
TZOFFSETFROM:+0100
TZOFFSETTO:+0200
TZNAME:CEST
DTSTART:20240331T010000
END:DAYLIGHT
BEGIN:STANDARD
TZOFFSETFROM:+0200
TZOFFSETTO:+0100
TZNAME:CET
DTSTART:20241027T010000
END:STANDARD
END:VTIMEZONE
BEGIN:VEVENT
DTSTART;TZID=Europe/Paris:20240405T200000
DTEND;TZID=Europe/Paris:20240405T233000
DTSTAMP:20260425T121718
CREATED:20240123T164437Z
LAST-MODIFIED:20240123T164641Z
UID:5653-1712347200-1712359800@theblacklab.fr
SUMMARY:TIP STEVENS
DESCRIPTION:Tip Stevens\, chanteur et compositeur mais aussi multi-instrumentiste\, se présente souvent comme un éternel touche à tout. Après plusieurs années à jouer à travers la France dans ses différents projets ou à produire d’autres artistes\, il lance finalement son projet solo en 2020 avec un concept simple : Présenter une multitude d’EPs portant chacun le nom d’un animal totem. \n\n\n\nPoussé par une insatiable créativité\, Tip dévoile très rapidement son concept en sortant 3 EPs en l’espace d’un an : “Condor” (Oct 2020)\, “Manta” (Mai 2021) puis “Quetzal” (Oct 2021). 3 opus ayant chacun des ambiances différentes\, passant du Rock à l’Électro et même au Folk. Chaque sortie représente pour lui l’occasion d’expérimenter de nouvelles couleurs musicales sans jamais se fixer de limites\, le format EP permettant de proposer à sa communauté des délais de sortie bien plus courts qu’avec un traditionnel format album. \n\n\n\nTip est très actif sur internet a mis au fil du temps sa communauté très au centre de son projet musical\, composant même certains titres en direct sur la plateforme Twitch avec eux. Actuellement 1er streamer de la catégorie musique francophone\, Tip Stevens prend une approche novatrice de ce que peut être une relation entre l’artiste et son public en les intégrant de près au développement de son univers. \n\n\n\nEn octobre 2022\, Tip met à l’honneur le coyote avec un EP intitulé “Kaioty”\, dans un registre pop/rock aux influences très britanniques. Un EP qui marque le début d’une collaboration avec Floral Records\, label monté par Ponce\, un des plus gros influenceurs de la plateforme Twitch. Une collaboration qui paraît finalement très naturelle et évidente pour développer et faire avancer ce projet atypique. \n\n\n\nEn mai 2023 Tip Stevens sorti les griffes avec son nouvel EP “Bengal”\, son opus le plus rock jusqu’à présent. Le single “Sugar Rush” en résume très bien l’essence : un rock chaud\, sucré et déjanté. \n\n\n\n\n\n\n\n\n\n\n\n\n\n\n\n\n\n\n\n\n\n\n\n\nACHETEZ VOS BILLETS\n\n\n\n\nPour toute revente de tickets merci d’utiliser la plateforme sécurisée de notre partenaire Ticketswap :https://www.ticketswap.fr/organizer/the-black-lab/1e321ecc-26b2-407d-beec-5e622438db8e
URL:https://theblacklab.fr/agenda/tip-stevens/
CATEGORIES:ÉVÉNEMENT,SLIDER
ATTACH;FMTTYPE=image/png:https://theblacklab.fr/BL/wp-content/uploads/2024/01/TIPSTEVENS-slider2.png
END:VEVENT
END:VCALENDAR