BEGIN:VCALENDAR
VERSION:2.0
PRODID:-//THE BLACK LAB - ECPv6.6.4//NONSGML v1.0//EN
CALSCALE:GREGORIAN
METHOD:PUBLISH
X-ORIGINAL-URL:https://theblacklab.fr
X-WR-CALDESC:évènements pour THE BLACK LAB
REFRESH-INTERVAL;VALUE=DURATION:PT1H
X-Robots-Tag:noindex
X-PUBLISHED-TTL:PT1H
BEGIN:VTIMEZONE
TZID:Europe/Paris
BEGIN:DAYLIGHT
TZOFFSETFROM:+0100
TZOFFSETTO:+0200
TZNAME:CEST
DTSTART:20240331T010000
END:DAYLIGHT
BEGIN:STANDARD
TZOFFSETFROM:+0200
TZOFFSETTO:+0100
TZNAME:CET
DTSTART:20241027T010000
END:STANDARD
END:VTIMEZONE
BEGIN:VEVENT
DTSTART;TZID=Europe/Paris:20240416T200000
DTEND;TZID=Europe/Paris:20240416T233000
DTSTAMP:20260425T121718
CREATED:20240222T175104Z
LAST-MODIFIED:20240222T180659Z
UID:5783-1713297600-1713310200@theblacklab.fr
SUMMARY:THE GOOD\, THE BAD & THE LOCAL : Le Migou + Brothers In Pain
DESCRIPTION:Parce qu’on estime qu’il n’y a pas assez d’endroits où jouer. Parce que tout un chacun a le droit fondamental de pouvoir s’exprimer. Parce que participer à la vie culturelle de son territoire est essentiel. Parce que le Rock’n’Roll c’est la santé…THE BLACK LAB met en oeuvre un système d’auto-programmation à destination des groupes amateurs qui répètent dans ses studios. Inspiré d’initiatives similaires\, il s’agit tout simplement de permettre aux musiciennes et musiciens amateurs de se produire en public dans de bonnes conditions.Pas de choix esthétique\, aucun jugement de valeurs\, mais il faudra jouer accordés et ensemble quand cela est nécessaire. \n\n\n\n\n\n\n\nProcessed with MOLDIV\n\n\n\nLE MIGOUPunk français pour cadres.Un bureau sombre et surchauffé\, une bête mi-homme\, mi-gou\, mi-cadre\, enfermée. Que fait-elle là ? Pourquoi ? Quand ? Comment ? Incomprise\, inconsidérée\, désemparée\, elle laisse exploser sa rage et crée la panique.Le Migou puise son inspiration dans la scène très dynamique du monde du travail. Les classiques quoi : le harcèlement multiforme\, l’épuisement moral\, la précarité contractuelle\, le quotidien écrasé par les talons de la hiérarchie dans les couloirs\, et bien sûr\, tout cet inexpugnable travail de merde comme fond sonore. \n\n\n\nPremier album « Panique au bureau » : https://lemigou.bandcamp.com/album/panique-au-bureauhttps://www.instagram.com/lemigoumusiquepunk/https://www.youtube.com/@lemigouhttps://www.facebook.com/lemigoumusiquepunk/ \n\n\n\nBROTHERS IN PAIN (Hard rock covers POWER TRIO)Découvrez ou redécouvrez les années 60 à 70 en passant par les 90s ! Brothers In Pain est un Power Trio qui propose des covers parfois sur-vitaminés allant de Black Sabbath\, Kiss\, Deep Purple en passant par Motörhead\, Misfist\, Sex Pistols\, Elvis\, etc.Promis ! il y aura du nouveau pour ce 8ème passage sur cette scène qui devient mythique de jours en jours !! \n\n\n\nhttps://www.facebook.com/BrothersInPainRockshttps://www.instagram.com/brothers_in_pain/https://www.youtube.com/channel/UC-nK9yQg6GNQMPO4gv9R2sw \n\n\n\n \n\n\n\n\n\nVoir l’event Facebook\n\n\n\n\n\n\n\n\n\n\nEntrée gratuite toute la soirée !
URL:https://theblacklab.fr/agenda/the-good-the-bad-the-local-le-migou-brothers-in-pain/
CATEGORIES:ÉVÉNEMENT
ATTACH;FMTTYPE=image/png:https://theblacklab.fr/BL/wp-content/uploads/2024/02/GOODBADLOCAL-slider.png
END:VEVENT
END:VCALENDAR