BEGIN:VCALENDAR
VERSION:2.0
PRODID:-//THE BLACK LAB - ECPv6.6.4//NONSGML v1.0//EN
CALSCALE:GREGORIAN
METHOD:PUBLISH
X-ORIGINAL-URL:https://theblacklab.fr
X-WR-CALDESC:évènements pour THE BLACK LAB
REFRESH-INTERVAL;VALUE=DURATION:PT1H
X-Robots-Tag:noindex
X-PUBLISHED-TTL:PT1H
BEGIN:VTIMEZONE
TZID:Europe/Paris
BEGIN:DAYLIGHT
TZOFFSETFROM:+0100
TZOFFSETTO:+0200
TZNAME:CEST
DTSTART:20240331T010000
END:DAYLIGHT
BEGIN:STANDARD
TZOFFSETFROM:+0200
TZOFFSETTO:+0100
TZNAME:CET
DTSTART:20241027T010000
END:STANDARD
END:VTIMEZONE
BEGIN:VEVENT
DTSTART;TZID=Europe/Paris:20240528T193000
DTEND;TZID=Europe/Paris:20240528T233000
DTSTAMP:20260421T071812
CREATED:20240505T182425Z
LAST-MODIFIED:20240505T182604Z
UID:5970-1716924600-1716939000@theblacklab.fr
SUMMARY:THE GOOD\, THE BAD & THE LOCAL : Le Royal Club + Thumbs & Monkeys
DESCRIPTION:Concert gratuit dans le cadre du dispositif de soutien à la pratique amateur THE GOOD THE BAD AND THE LOCAL \n\n\n\n \n\n\n\n\n\n\n\n\n\n\n\n \n\n\n\n\nVoir l’event Facebook\n\n\n\n\n\n\n\n\n\nEntrée gratuite toute la soirée !
URL:https://theblacklab.fr/agenda/the-good-the-bad-the-local-unsafe-release-party-supermodel-stitches/
CATEGORIES:ÉVÉNEMENT
ATTACH;FMTTYPE=image/png:https://theblacklab.fr/BL/wp-content/uploads/2024/02/GOODBADLOCAL-slider.png
END:VEVENT
END:VCALENDAR