BEGIN:VCALENDAR
VERSION:2.0
PRODID:-//THE BLACK LAB - ECPv6.6.4//NONSGML v1.0//EN
CALSCALE:GREGORIAN
METHOD:PUBLISH
X-ORIGINAL-URL:https://theblacklab.fr
X-WR-CALDESC:évènements pour THE BLACK LAB
REFRESH-INTERVAL;VALUE=DURATION:PT1H
X-Robots-Tag:noindex
X-PUBLISHED-TTL:PT1H
BEGIN:VTIMEZONE
TZID:Europe/Paris
BEGIN:DAYLIGHT
TZOFFSETFROM:+0100
TZOFFSETTO:+0200
TZNAME:CEST
DTSTART:20240331T010000
END:DAYLIGHT
BEGIN:STANDARD
TZOFFSETFROM:+0200
TZOFFSETTO:+0100
TZNAME:CET
DTSTART:20241027T010000
END:STANDARD
END:VTIMEZONE
BEGIN:VEVENT
DTSTART;TZID=Europe/Paris:20240704T200000
DTEND;TZID=Europe/Paris:20240704T233000
DTSTAMP:20260421T053347
CREATED:20240412T091716Z
LAST-MODIFIED:20240703T093053Z
UID:5914-1720123200-1720135800@theblacklab.fr
SUMMARY:EARTH CRISIS + BLACK BOMB A
DESCRIPTION:ATTENTION ! SUITE À L’ANNULATION D’AGNOSTIC FRONT ! EARTH CRISIS REMPLACE CE DERNIER. (Refound possible) \n\n\n\n \n\n\n\nVort’n Vis + Genet Records aka Ieper Hardcore Fest & THE BLACK LAB proudly present \n\n\n\nEARTH CRISIS + coheadliner BLACK BOMB A (FRxCROSSOVER) \n\n\n\nVoilà une BEFORE comme on aimerait en voir plus souvent\, hardcoreuses et hardcoreux de toutes générations soyez présents pour cette “REUNION” de toute beauté. \n\n\n\nBEFORE Ieper Hardcore Fest 2024\, c’est à Wasquehal le 4 juillet juste avant le Ieper Hardcore Fest qui se déroulera les 5\, 6 et 7 juillet 2024 en Belgique à Ypres downtown\, check la prog\, une tuerie : https://fb.me/e/9vSSlmzPc \n\n\n\nUn seul cri de ralliement : CIRCLE PIT 4 LIFE ! \n\n\n\nATTENTION NEW POLITIQUE TARIF*CK et aussi :Tarif réduit pour les détenteurs d’une place 1\, 2 ou 3 jours pour le Ieper Fest 2024 : 20€ en prévente uniquement************************************ONLY PRESALES OFFERReduced price for people who’ve got a pass (1\, 2 or 3 days) for next Ieper Hardcore FestYou must show your Ieper Fest ticket at THE BLACK LAB entrance\, please bring it************************************ \n\n\n\n\n\n\n\n\n\n\n\n\n\n\n\n\n\n\n\n\n\n\n\n\n\n\n\n\n\n\nACHETEZ VOS BILLETS\n\n\n\n\nPour toute revente de tickets merci d’utiliser la plateforme sécurisée de notre partenaire Ticketswap :https://www.ticketswap.fr/organizer/the-black-lab/1e321ecc-26b2-407d-beec-5e622438db8e
URL:https://theblacklab.fr/agenda/agnostic-front-black-bomb-a/
CATEGORIES:ÉVÉNEMENT,SLIDER
ATTACH;FMTTYPE=image/jpeg:https://theblacklab.fr/BL/wp-content/uploads/2024/04/AGNOSTICFRONT-slider2.jpg
END:VEVENT
END:VCALENDAR