BEGIN:VCALENDAR
VERSION:2.0
PRODID:-//THE BLACK LAB - ECPv6.6.4//NONSGML v1.0//EN
CALSCALE:GREGORIAN
METHOD:PUBLISH
X-ORIGINAL-URL:https://theblacklab.fr
X-WR-CALDESC:évènements pour THE BLACK LAB
REFRESH-INTERVAL;VALUE=DURATION:PT1H
X-Robots-Tag:noindex
X-PUBLISHED-TTL:PT1H
BEGIN:VTIMEZONE
TZID:Europe/Paris
BEGIN:DAYLIGHT
TZOFFSETFROM:+0100
TZOFFSETTO:+0200
TZNAME:CEST
DTSTART:20240331T010000
END:DAYLIGHT
BEGIN:STANDARD
TZOFFSETFROM:+0200
TZOFFSETTO:+0100
TZNAME:CET
DTSTART:20241027T010000
END:STANDARD
END:VTIMEZONE
BEGIN:VEVENT
DTSTART;TZID=Europe/Paris:20240817T190000
DTEND;TZID=Europe/Paris:20240817T233000
DTSTAMP:20260421T035308
CREATED:20240130T121304Z
LAST-MODIFIED:20240130T121305Z
UID:5701-1723921200-1723937400@theblacklab.fr
SUMMARY:LEFT TO DIE + INCANTATION + AGRESSOR + DAGON
DESCRIPTION:En accord avec Garmonbozia Inc.\, THE BLACK LAB proudly presents : \n\n\n\nLEFT TO DIE – Death tribute (US) \n\n\n\nwith Terry Butler (bass) and Rick Rozz (guitar)\, jouera en exclusivité les titres des deux premiers albums du légendaire groupe de metal Death : Scream Bloody Gore et Leprosy. Le line up est infernal puisqu’on y retrouve Terry (DEATH\, SIX FEET UNDER\, MASSACRE\, OBITUARY and INHUMAN CONDITION) and Rick (DEATH\, MASSACRE) who have teamed up with GRUESOME members Matt Harvey on guitar and vocals (also of EXHUMED) and Gus Rios on drums (MALEVOLENT CREATION). Le résultat est incroyable\, vive Death. \n\n\n\ncoheadlining with \n\n\n\nINCANTATION – Death metal legend (US) \n\n\n\nand very very special guests as AGRESSOR + DAGON (French Thrash Death Metal legends) \n\n\n\n————————————————————————————————————————- \n\n\n\n\n\nLEFT TO DIE\n\n\n\n\n\nINCANTATION\n\n\n\n\n\nAGRESSOR\n\n\n\n\n\n\n\n\n\n\n\n\n\n\n\n\n\n\n\n\nACHETEZ VOS BILLETS\n\n\n\n\nPour toute revente de tickets merci d’utiliser la plateforme sécurisée de notre partenaire Ticketswap :https://www.ticketswap.fr/organizer/the-black-lab/1e321ecc-26b2-407d-beec-5e622438db8e
URL:https://theblacklab.fr/agenda/left-to-die-incantation-agressor-dagon/
CATEGORIES:ÉVÉNEMENT,SLIDER
ATTACH;FMTTYPE=image/png:https://theblacklab.fr/BL/wp-content/uploads/2024/01/LEFTTODIE-slider.png
END:VEVENT
END:VCALENDAR