BEGIN:VCALENDAR
VERSION:2.0
PRODID:-//THE BLACK LAB - ECPv6.6.4//NONSGML v1.0//EN
CALSCALE:GREGORIAN
METHOD:PUBLISH
X-ORIGINAL-URL:https://theblacklab.fr
X-WR-CALDESC:évènements pour THE BLACK LAB
REFRESH-INTERVAL;VALUE=DURATION:PT1H
X-Robots-Tag:noindex
X-PUBLISHED-TTL:PT1H
BEGIN:VTIMEZONE
TZID:Europe/Paris
BEGIN:DAYLIGHT
TZOFFSETFROM:+0100
TZOFFSETTO:+0200
TZNAME:CEST
DTSTART:20240331T010000
END:DAYLIGHT
BEGIN:STANDARD
TZOFFSETFROM:+0200
TZOFFSETTO:+0100
TZNAME:CET
DTSTART:20241027T010000
END:STANDARD
END:VTIMEZONE
BEGIN:VEVENT
DTSTART;TZID=Europe/Paris:20241118T200000
DTEND;TZID=Europe/Paris:20241118T233000
DTSTAMP:20260420T224115
CREATED:20240429T080454Z
LAST-MODIFIED:20240429T080456Z
UID:5953-1731960000-1731972600@theblacklab.fr
SUMMARY:BROTHERS OF METAL + GRAILKNIGHTS
DESCRIPTION:A GAUCHE DE LA LUNE & THE BLACK LAB proudly present \n\n\n\nBrothers of Metal est un groupe de power metal suédois formé en 2012. Leur musique épique est inspirée de la mythologie nordique et se caractérise par des mélodies entraînantes\, des chœurs puissants et des riffs de guitare épiques. \n\n\n\n\n\n\n\n\n\n\n\n\n\n\n\n\n\n\n\n\n\n\n\n\nACHETEZ VOS BILLETS\n\n\n\n\nPour toute revente de tickets merci d’utiliser la plateforme sécurisée de notre partenaire Ticketswap :https://www.ticketswap.fr/organizer/the-black-lab/1e321ecc-26b2-407d-beec-5e622438db8e
URL:https://theblacklab.fr/agenda/brothers-of-metal-grailknights/
CATEGORIES:ÉVÉNEMENT,SLIDER
ATTACH;FMTTYPE=image/png:https://theblacklab.fr/BL/wp-content/uploads/2024/04/brothers-of-metal-slider.png
END:VEVENT
END:VCALENDAR