BEGIN:VCALENDAR
VERSION:2.0
PRODID:-//THE BLACK LAB - ECPv6.6.4//NONSGML v1.0//EN
CALSCALE:GREGORIAN
METHOD:PUBLISH
X-WR-CALNAME:THE BLACK LAB
X-ORIGINAL-URL:https://theblacklab.fr
X-WR-CALDESC:évènements pour THE BLACK LAB
REFRESH-INTERVAL;VALUE=DURATION:PT1H
X-Robots-Tag:noindex
X-PUBLISHED-TTL:PT1H
BEGIN:VTIMEZONE
TZID:Europe/Paris
BEGIN:DAYLIGHT
TZOFFSETFROM:+0100
TZOFFSETTO:+0200
TZNAME:CEST
DTSTART:20240331T010000
END:DAYLIGHT
BEGIN:STANDARD
TZOFFSETFROM:+0200
TZOFFSETTO:+0100
TZNAME:CET
DTSTART:20241027T010000
END:STANDARD
END:VTIMEZONE
BEGIN:VEVENT
DTSTART;TZID=Europe/Paris:20241120T200000
DTEND;TZID=Europe/Paris:20241120T233000
DTSTAMP:20260420T223017
CREATED:20240531T090956Z
LAST-MODIFIED:20240531T091000Z
UID:6013-1732132800-1732145400@theblacklab.fr
SUMMARY:COLOURS IN THE STREET
DESCRIPTION:Colours in the Street s’inscrit dans le mouvement d’une pop massive\, élégante\, puissante\, taillée pour les grandes scènes. Depuis plusieurs années\, le groupe enchaîne les tournées avec des prestations live remarquables en France et à l’international (Europe\, Chine\, Corée du Sud\, Australie\, Amérique du Sud…). Multi-instrumentistes\, les « Colours » se distinguent par le timbre unique de leur chanteur et un songwriting hors du commun. Un répertoire marqué par des textes fédérateurs\, des mélodies imparables et des productions soignées aux sonorités pop\, rock et électro. Leurs chansons cumulent aujourd’hui plusieurs millions d’écoutes. Leurs albums se révèlent avec puissance et sensibilité\, emmenés plus récemment par les titres « Take it Easy »\, « A Way to Restart »\, « Aux étoiles » ou encore « Paralyzed » véritable hit rock signé avec le groupe australien The Faim. \n\n\n\nAu cœur de leur nouvelle tournée en France et à l’étranger\, Colours in the Street sera sur la scène du Black Lab à Lille\, le 20 novembre 2024. \n\n\n\n\n\n\n\n\n\n\n\n\n\n\n\n\n\n\n\n\n\n\n\n\nACHETEZ VOS BILLETS\n\n\n\n\nPour toute revente de tickets merci d’utiliser la plateforme sécurisée de notre partenaire Ticketswap :https://www.ticketswap.fr/organizer/the-black-lab/1e321ecc-26b2-407d-beec-5e622438db8e
URL:https://theblacklab.fr/agenda/colours-in-the-street/
CATEGORIES:ÉVÉNEMENT,SLIDER
ATTACH;FMTTYPE=image/png:https://theblacklab.fr/BL/wp-content/uploads/2024/05/colors-slider.png
END:VEVENT
END:VCALENDAR