BEGIN:VCALENDAR
VERSION:2.0
PRODID:-//THE BLACK LAB - ECPv6.6.4//NONSGML v1.0//EN
CALSCALE:GREGORIAN
METHOD:PUBLISH
X-WR-CALNAME:THE BLACK LAB
X-ORIGINAL-URL:https://theblacklab.fr
X-WR-CALDESC:évènements pour THE BLACK LAB
REFRESH-INTERVAL;VALUE=DURATION:PT1H
X-Robots-Tag:noindex
X-PUBLISHED-TTL:PT1H
BEGIN:VTIMEZONE
TZID:Europe/Paris
BEGIN:DAYLIGHT
TZOFFSETFROM:+0100
TZOFFSETTO:+0200
TZNAME:CEST
DTSTART:20240331T010000
END:DAYLIGHT
BEGIN:STANDARD
TZOFFSETFROM:+0200
TZOFFSETTO:+0100
TZNAME:CET
DTSTART:20241027T010000
END:STANDARD
END:VTIMEZONE
BEGIN:VEVENT
DTSTART;TZID=Europe/Paris:20241122T200000
DTEND;TZID=Europe/Paris:20241122T233000
DTSTAMP:20260420T223801
CREATED:20240919T075408Z
LAST-MODIFIED:20240919T075410Z
UID:6207-1732305600-1732318200@theblacklab.fr
SUMMARY:Ciné-concert NOSFERATU by JOZEF VAN WISSEM
DESCRIPTION:THE BLACK LAB proudly presents \n\n\n\nCiné-concert NOSFERATU by JOZEF VAN WISSEMThe call of the deathbird (nl) \n\n\n\nLuthiste d’avant-garde et musicien baroque\, Jozef Van Wissem est un incroyable instrumentiste et compositeur dont la nature des œuvres a un attrait mystique et intemporel. On le trouve entre autre sur la fabuleuse B.O. du film “Only Lovers Left Alive” de Jim Jarmusch qu’il a co-écrite et que l’on vous recommande vivement. Ultra-prolifique et touche-à-tout on le retrouve compositeur de bandes originales pour plusieurs films emblématiques dont le fameux Nosferatu de Murnau que l’on ne présente plus. Mais c’est avec Jozef que l’on va redécouvrir cette œuvre cinématographique magistrale tant il en relève le côté sinistre\, funèbre\, noir et lugubre. Brrrr… \n\n\n\n\n\n\n\n\n\n\n\n\n\n\n\n\n\n\n\n\n\n\n\n\nACHETEZ VOS BILLETS\n\n\n\n\nPour toute revente de tickets merci d’utiliser la plateforme sécurisée de notre partenaire Ticketswap :https://www.ticketswap.fr/organizer/the-black-lab/1e321ecc-26b2-407d-beec-5e622438db8e
URL:https://theblacklab.fr/agenda/cine-concert-nosferatu-by-jozef-van-wissem/
CATEGORIES:ÉVÉNEMENT,SLIDER
ATTACH;FMTTYPE=image/png:https://theblacklab.fr/BL/wp-content/uploads/2024/09/NOSFERATU-slider.png
END:VEVENT
END:VCALENDAR