BEGIN:VCALENDAR
VERSION:2.0
PRODID:-//THE BLACK LAB - ECPv6.6.4//NONSGML v1.0//EN
CALSCALE:GREGORIAN
METHOD:PUBLISH
X-WR-CALNAME:THE BLACK LAB
X-ORIGINAL-URL:https://theblacklab.fr
X-WR-CALDESC:évènements pour THE BLACK LAB
REFRESH-INTERVAL;VALUE=DURATION:PT1H
X-Robots-Tag:noindex
X-PUBLISHED-TTL:PT1H
BEGIN:VTIMEZONE
TZID:Europe/Paris
BEGIN:DAYLIGHT
TZOFFSETFROM:+0100
TZOFFSETTO:+0200
TZNAME:CEST
DTSTART:20240331T010000
END:DAYLIGHT
BEGIN:STANDARD
TZOFFSETFROM:+0200
TZOFFSETTO:+0100
TZNAME:CET
DTSTART:20241027T010000
END:STANDARD
END:VTIMEZONE
BEGIN:VEVENT
DTSTART;TZID=Europe/Paris:20241124T180000
DTEND;TZID=Europe/Paris:20241124T233000
DTSTAMP:20260420T223650
CREATED:20240430T140106Z
LAST-MODIFIED:20241120T140054Z
UID:5957-1732471200-1732491000@theblacklab.fr
SUMMARY:RYON [CHANGEMENT LIEU]
DESCRIPTION:« Pour des raisons indépendantes de la volonté de l’artiste et de la production\, le concert de Ryon prévu ce dimanche 24 novembre 2024 au Black Lab à 18h00 est déplacé à La Bulle Café\, le même jour à 20h30.Les billets achetés pour le Black Lab restent bien valables pour accéder à La Bulle Café.Merci de votre compréhension » \n\n\n\n \n\n\n\n \n\n\n\nA GAUCHE DE LA LUNE & THE BLACK LAB proudly present \n\n\n\nRyon\, c’est la Révélation Reggae Francophone du moment ! Le groupe sillonne salles et festivals pour partager ses inspirations poétiques\, sincères et engagées. Portés par le charisme et la voix chaleureuse de Cam\, les 5 musiciens donnent vie à une musique solaire et puissante qui nous transporte dans l’univers du reggae\, du rock\, de la chanson française ou même de la pop. Le 22 Mars est sorti leur nouvel album “Rayonne”\, sur lequel on peut découvrir deux featuring puissants\, l’un avec Balik (Danakil)\, l’autre avec l’étoile montante jamaicaine Vanzo. Le groupe entend bien continuer à faire parler de lui aux quatre coins du pays à l’occasion de sa tournée 2024 qui débutera par une tournée des salles au printemps.  \n\n\n\n\n\n\n\n\n\n\n\n\n\n\n\n\n\n\n\n\n\n\n\n\n–\n\n\n\n\nPour toute revente de tickets merci d’utiliser la plateforme sécurisée de notre partenaire Ticketswap :https://www.ticketswap.fr/organizer/the-black-lab/1e321ecc-26b2-407d-beec-5e622438db8e
URL:https://theblacklab.fr/agenda/ryon/
CATEGORIES:ÉVÉNEMENT
ATTACH;FMTTYPE=image/png:https://theblacklab.fr/BL/wp-content/uploads/2024/04/RYON-slider.png
END:VEVENT
END:VCALENDAR