BEGIN:VCALENDAR
VERSION:2.0
PRODID:-//THE BLACK LAB - ECPv6.6.4//NONSGML v1.0//EN
CALSCALE:GREGORIAN
METHOD:PUBLISH
X-ORIGINAL-URL:https://theblacklab.fr
X-WR-CALDESC:évènements pour THE BLACK LAB
REFRESH-INTERVAL;VALUE=DURATION:PT1H
X-Robots-Tag:noindex
X-PUBLISHED-TTL:PT1H
BEGIN:VTIMEZONE
TZID:Europe/Paris
BEGIN:DAYLIGHT
TZOFFSETFROM:+0100
TZOFFSETTO:+0200
TZNAME:CEST
DTSTART:20240331T010000
END:DAYLIGHT
BEGIN:STANDARD
TZOFFSETFROM:+0200
TZOFFSETTO:+0100
TZNAME:CET
DTSTART:20241027T010000
END:STANDARD
END:VTIMEZONE
BEGIN:VEVENT
DTSTART;TZID=Europe/Paris:20241217T200000
DTEND;TZID=Europe/Paris:20241217T233000
DTSTAMP:20260420T205616
CREATED:20241127T092854Z
LAST-MODIFIED:20241127T092856Z
UID:6294-1734465600-1734478200@theblacklab.fr
SUMMARY:SATYAM + DETHSCEND
DESCRIPTION:Mardi 17 décembre nous vous donnons rendez-vous au Black Lab à Wasquehal dans le cadre de leurs soirée réservées aux groupes locaux pour une soirée alliant doom\, death et sludge avec 2 groupes Lillois : \n\n\n\nSATYAM(Blackened doom death metal) \n\n\n\nSatyam joue du Blackened Doom Death Metal. Au travers de ses textes\, ils essayent de répondre aux questions qu’ils se posent sur les fonctionnements de la Vie et ce\, aussi bien à l’échelle du Macrocosme que du Microcosme. Ainsi\, ils font de leur mieux pour jouer une musique sensitive qui soit le reflet de ce cheminement et des traversées qu’il implique. \n\n\n\n► Facebook : facebook.com/Satyam.metalband► YouTube : youtube.com/@satyam.metalband► Instagram : instagram.com/satyam.metalband \n\n\n\n+++++++++++++++ \n\n\n\nDETHSCEND(Doom/Sludge metal) \n\n\n\nDethscend se définie comme étant un groupe jouant une musique lourde et épaisse.► Facebook : facebook.com/dethscend► YouTube : youtube.com/@dethscend► Instagram : instagram.com/dethscend \n\n\n\n\n\n\n\n\n\n\n\n\n\n\n\n\n\n\nGRATUIT
URL:https://theblacklab.fr/agenda/satyam-dethscend/
CATEGORIES:ÉVÉNEMENT
ATTACH;FMTTYPE=image/png:https://theblacklab.fr/BL/wp-content/uploads/2024/11/satyam-slider.png
END:VEVENT
END:VCALENDAR