BEGIN:VCALENDAR
VERSION:2.0
PRODID:-//THE BLACK LAB - ECPv6.6.4//NONSGML v1.0//EN
CALSCALE:GREGORIAN
METHOD:PUBLISH
X-WR-CALNAME:THE BLACK LAB
X-ORIGINAL-URL:https://theblacklab.fr
X-WR-CALDESC:évènements pour THE BLACK LAB
REFRESH-INTERVAL;VALUE=DURATION:PT1H
X-Robots-Tag:noindex
X-PUBLISHED-TTL:PT1H
BEGIN:VTIMEZONE
TZID:Europe/Paris
BEGIN:DAYLIGHT
TZOFFSETFROM:+0100
TZOFFSETTO:+0200
TZNAME:CEST
DTSTART:20250330T010000
END:DAYLIGHT
BEGIN:STANDARD
TZOFFSETFROM:+0200
TZOFFSETTO:+0100
TZNAME:CET
DTSTART:20251026T010000
END:STANDARD
END:VTIMEZONE
BEGIN:VEVENT
DTSTART;TZID=Europe/Paris:20250107T193000
DTEND;TZID=Europe/Paris:20250107T233000
DTSTAMP:20260420T192737
CREATED:20241229T233432Z
LAST-MODIFIED:20241229T233434Z
UID:6409-1736278200-1736292600@theblacklab.fr
SUMMARY:THE GOOD\, THE BAD & THE LOCAL : Everyone Dream + Brothers in Pain
DESCRIPTION:EVERYONE DREAM est un groupe de hardcore venant de Lille qui mélange Métal\, Hardcore old school\, new school\, tout cela afin de faire leur propre mélange.Un Hardcore simple et efficace. Une bonne dose d’énergie brute et sans concession. Le tout pour faire danser le public dans la bonne humeur. \n\n\n\nPour les écouter\, c’est ici : https://www.youtube.com/watch?v=bVgs08oBu0U… \n\n\n\nBROTHERS IN PAIN (Hard rock covers POWER TRIO)Découvrez ou redécouvrez les années 60 à 70 en passant par les 90s ! Brothers In Pain est un Power Trio qui propose des covers parfois sur-vitaminés allant de Black Sabbath\, Kiss\, Deep Purple en passant par Motörhead\, Misfist\, Sex Pistols\, Elvis\, etc. \n\n\n\nCette fois ci\, Brothers In Pain a le plaisir de vous faire découvrir en partie son univers en proposant ses compositions origninales et survitaminées ! \n\n\n\nhttps://www.facebook.com/BrothersInPainRockshttps://www.instagram.com/brothers_in_pain/https://www.youtube.com/channel/UC-nK9yQg6GNQMPO4gv9R2sw \n\n\n\nConcert gratuit dans le cadre du dispositif de soutien à la pratique amateur THE GOOD THE BAD AND THE LOCAL \n\n\n\n \n\n\n\n\n\n\n\n\n\n\n\n \n\n\n\n\nVoir l’event Facebook\n\n\n\n\n\n\n\n\n\nEntrée gratuite toute la soirée !
URL:https://theblacklab.fr/agenda/the-good-the-bad-the-local-everyone-dream-brothers-in-pain/
CATEGORIES:ÉVÉNEMENT
ATTACH;FMTTYPE=image/png:https://theblacklab.fr/BL/wp-content/uploads/2024/02/GOODBADLOCAL-slider.png
END:VEVENT
END:VCALENDAR