BEGIN:VCALENDAR
VERSION:2.0
PRODID:-//THE BLACK LAB - ECPv6.6.4//NONSGML v1.0//EN
CALSCALE:GREGORIAN
METHOD:PUBLISH
X-WR-CALNAME:THE BLACK LAB
X-ORIGINAL-URL:https://theblacklab.fr
X-WR-CALDESC:évènements pour THE BLACK LAB
REFRESH-INTERVAL;VALUE=DURATION:PT1H
X-Robots-Tag:noindex
X-PUBLISHED-TTL:PT1H
BEGIN:VTIMEZONE
TZID:Europe/Paris
BEGIN:DAYLIGHT
TZOFFSETFROM:+0100
TZOFFSETTO:+0200
TZNAME:CEST
DTSTART:20250330T010000
END:DAYLIGHT
BEGIN:STANDARD
TZOFFSETFROM:+0200
TZOFFSETTO:+0100
TZNAME:CET
DTSTART:20251026T010000
END:STANDARD
END:VTIMEZONE
BEGIN:VEVENT
DTSTART;TZID=Europe/Paris:20250114T193000
DTEND;TZID=Europe/Paris:20250114T233000
DTSTAMP:20260420T192811
CREATED:20241229T234534Z
LAST-MODIFIED:20241229T234536Z
UID:6417-1736883000-1736897400@theblacklab.fr
SUMMARY:THE GOOD\, THE BAD & THE LOCAL : Wall Of Gin + Eko
DESCRIPTION:Le mardi au Black Lab\, ce sont des groupes de la région qui se produisent ! \n\n\n\nAu programme : \n\n\n\nEko  \n\n\n\nBasé dans les Hauts-de-France\, EKO est une bande de copains passionnés de musique qui célèbre le rock au fil du temps à travers des reprises. Inspirés par les grandes icônes du rock et les groupes emblématiques qui ont marqué les époques\, EKO offre des performances énergiques et authentiques qui savent embarquer le public et la garantie d’un pur moment de musique ! \n\n\n\nInsta : https://www.instagram.com/eko_rockband/profilecard/?igsh=MTRjcXhpZGE1N2Nqaw== \n\n\n\nFb : https://www.facebook.com/share/DE4vSTmRGHCwH6A7/?mibextid=wwXIfr \n\n\n\nWall Of Gin  \n\n\n\nWall Of Gin c’est un cocktail avec une bonne dose de rock\, beaucoup d’énergie\, des sonorités tintées grunge et britannique\, le tout arrosé généreusement de gin pour un résultat explosif. \n\n\n\nLa voix déchaînée de Cécile associée à Alex à la guitare et Adrien à la basse vous emporte avec Éric fraîchement installé à la batterie. Passée par de nombreuses scènes dont l’Aéronef\, la formation lilloise va retourner la foule comme à chaque concert ! \n\n\n\nInsta : https://www.instagram.com/wall_of_gin/profilecard/?igsh=bzNqZGV3c3JrdmQ= \n\n\n\nFb : https://www.facebook.com/share/5X6tfU5pDKqm62AH/?mibextid=wwXIfr \n\n\n\nHoraires et ordre de passage encore à définir  \n\n\n\nBar et snacks sur place\, entrée gratuite. \n\n\n\n \n\n\n\n\n\n\n\n\n\n\n\n \n\n\n\n\nVoir l’event Facebook\n\n\n\n\n\n\n\n\n\nEntrée gratuite toute la soirée !
URL:https://theblacklab.fr/agenda/the-good-the-bad-the-local-wall-of-gin-eko/
CATEGORIES:ÉVÉNEMENT
ATTACH;FMTTYPE=image/png:https://theblacklab.fr/BL/wp-content/uploads/2024/02/GOODBADLOCAL-slider.png
END:VEVENT
END:VCALENDAR