BEGIN:VCALENDAR
VERSION:2.0
PRODID:-//THE BLACK LAB - ECPv6.6.4//NONSGML v1.0//EN
CALSCALE:GREGORIAN
METHOD:PUBLISH
X-WR-CALNAME:THE BLACK LAB
X-ORIGINAL-URL:https://theblacklab.fr
X-WR-CALDESC:évènements pour THE BLACK LAB
REFRESH-INTERVAL;VALUE=DURATION:PT1H
X-Robots-Tag:noindex
X-PUBLISHED-TTL:PT1H
BEGIN:VTIMEZONE
TZID:Europe/Paris
BEGIN:DAYLIGHT
TZOFFSETFROM:+0100
TZOFFSETTO:+0200
TZNAME:CEST
DTSTART:20250330T010000
END:DAYLIGHT
BEGIN:STANDARD
TZOFFSETFROM:+0200
TZOFFSETTO:+0100
TZNAME:CET
DTSTART:20251026T010000
END:STANDARD
END:VTIMEZONE
BEGIN:VEVENT
DTSTART;TZID=Europe/Paris:20250211T193000
DTEND;TZID=Europe/Paris:20250211T233000
DTSTAMP:20260420T180314
CREATED:20250130T151156Z
LAST-MODIFIED:20250130T151158Z
UID:6520-1739302200-1739316600@theblacklab.fr
SUMMARY:THE GOOD\, THE BAD & THE LOCAL : ESUM + Bowling Guys
DESCRIPTION:Concert gratuit dans le cadre du dispositif de soutien à la pratique amateur THE GOOD THE BAD AND THE LOCAL \n\n\n\nHeures prévisionnelles de passage : \n\n\n\n20H00 – ESUM tribute to MUSE \n\n\n\nAvec ESUM\, retrouvez les meilleurs titres du célèbre trio britannique Muse en live ! Romain\, Rémy\, Paul et Florimond qui composent ce groupe nordiste vous attendent avec un répertoire sélectionné sur l’ensemble des albums de Muse\, de 1999 à nos jours. \n\n\n\nhttps://www.facebook.com/EsumTribute/ \n\n\n\n21h15 – Bowling Guys \n\n\n\nEnvie de vous prendre une claque musicale ? Bowling Guys insuffle une nouvelle énergie au rock garage avec leurs compositions fraîches et décomplexées. Le trio composé d’Arthur (chant batterie)\, Raphaël (guitare) et Florent (basse) propose sur scène une énergie de dingue\, comme un tsunami puissant ! \n\n\n\nLe groupe est passé par le Poulpaphone 2023 sur la scène de la Music Box\, a participé à la finale du tremplin du Dev Fest et à celle du Tremplin Music’Al 2024\, ainsi qu’à l’édition 2023 de la tournée Euro Rock (Allemagne\, Pays-Bas\, France). Après avoir joué sur la scène nationale du Channel à Calais en Juin 2023\, Arthur\, Raphaël et Florent ont conquis le public parisien lors de l’OktoBB 2023/2024 et du Fuzz Festival 2024\, mais aussi sur la scène du Pharos à Arras. \n\n\n\nLeur 1er EP «All Fine» sorti le 24 Août 2023\, reflète une musique entraînante aux influences pop punk. Un premier projet entièrement autoproduit dont la suite prévue en 2025 prend le chemin de la maturité et de l’audace tandis que cette formule séduit déjà à l’étranger. \n\n\n\nhttps://www.facebook.com/Bowlingguysbandoff \n\n\n\n \n\n\n\n \n\n\n\n\n\n\n\n\n\n\n\n \n\n\n\n\n\n\n\n\n\n\n\n\nEntrée gratuite toute la soirée !
URL:https://theblacklab.fr/agenda/the-good-the-bad-the-local-esum-bowling-guys/
CATEGORIES:ÉVÉNEMENT
ATTACH;FMTTYPE=image/png:https://theblacklab.fr/BL/wp-content/uploads/2024/02/GOODBADLOCAL-slider.png
END:VEVENT
END:VCALENDAR