BEGIN:VCALENDAR
VERSION:2.0
PRODID:-//THE BLACK LAB - ECPv6.6.4//NONSGML v1.0//EN
CALSCALE:GREGORIAN
METHOD:PUBLISH
X-WR-CALNAME:THE BLACK LAB
X-ORIGINAL-URL:https://theblacklab.fr
X-WR-CALDESC:évènements pour THE BLACK LAB
REFRESH-INTERVAL;VALUE=DURATION:PT1H
X-Robots-Tag:noindex
X-PUBLISHED-TTL:PT1H
BEGIN:VTIMEZONE
TZID:Europe/Paris
BEGIN:DAYLIGHT
TZOFFSETFROM:+0100
TZOFFSETTO:+0200
TZNAME:CEST
DTSTART:20250330T010000
END:DAYLIGHT
BEGIN:STANDARD
TZOFFSETFROM:+0200
TZOFFSETTO:+0100
TZNAME:CET
DTSTART:20251026T010000
END:STANDARD
END:VTIMEZONE
BEGIN:VEVENT
DTSTART;TZID=Europe/Paris:20250218T193000
DTEND;TZID=Europe/Paris:20250218T233000
DTSTAMP:20260420T180315
CREATED:20250130T151630Z
LAST-MODIFIED:20250130T151632Z
UID:6523-1739907000-1739921400@theblacklab.fr
SUMMARY:THE GOOD\, THE BAD & THE LOCAL : Little Drop + Radioactive Bloodyland
DESCRIPTION:Après un concert au Yeti bar en décembre dernier\, Radioactive Bloodyland & Little Drop se retrouvent pour partager la scène du Black Lab le 18 Février 2025 dans le cadre des “THE GOOD\, THE BAD & THE LOCAL ” ! \n\n\n\n \n\n\n\n \n\n\n\n\n\n\n\n\n\n\n\n \n\n\n\n\n\n\n\n\n\n\n\n\nEntrée gratuite toute la soirée !
URL:https://theblacklab.fr/agenda/the-good-the-bad-the-local-little-drop-radioactive-bloodyland/
CATEGORIES:ÉVÉNEMENT
ATTACH;FMTTYPE=image/png:https://theblacklab.fr/BL/wp-content/uploads/2024/02/GOODBADLOCAL-slider.png
END:VEVENT
END:VCALENDAR